{"text_format":"1","workbook":"xlsx","n_sheets":6,"sheets":["leány","Be","Csapat","E. II. kcs","E. III. kcs","E. IV. kcs"],"not_rendered":{"charts":0,"images":0,"macros":1,"external_links":1,"defined_names":10,"comments":0,"pivot_tables":0},"unopened":[],"bounds":{"document_bytes":16777216,"sheet_cells":100000,"rows_first":2000,"rows_last":500,"rows_between":2000,"halvings":0,"cell_chars":16384,"cell_head_chars":4096},"cells_cut":0,"cells_raw":0,"read":"whole","date_system":"1900"}

{"sheet":"leány","index":0,"n_rows":302,"n_cols":18,"rows_kept":302,"cut":false,"hidden":true,"merged":[]}
[null,"61 m","60m","101 m","100m","801 m","800 m","Pont","Távol","Súlyl.","Kisl.","Pont"]
[null,6.89,6.9,11.34,11.35,"00:01:58","00:02:00",300,{"$f":"R2/100","v":1.8},3,4,0,null,null,null,null,null,180]
[null,6.9051,6.9180000000000099,11.350999999999999,11.37,"00:02:00.001","00:02:00.200",299,1.82,3.05,4.28,1,null,null,null,null,null,182]
[null,6.9231000000000096,6.9360000000000097,11.370999999999999,11.39,"00:02:00.201","00:02:00.600",298,1.84,3.1,4.5599999999999996,2,null,null,null,null,null,184]
[null,6.9411000000000094,6.9540000000000095,11.391,11.41,"00:02:00.601","00:02:00.900",297,1.86,3.14,4.84,3,null,null,null,null,null,186]
[null,6.9591000000000092,6.9720000000000093,11.411,11.43,"00:02:00.901","00:02:01.200",296,1.87,3.19,5.1100000000000003,4,null,null,null,null,null,187]
[null,6.977100000000009,6.9900000000000091,11.430999999999999,11.46,"00:02:01.201","00:02:01.500",295,1.89,3.24,5.39,5,null,null,null,null,null,189]
[null,6.9951000000000088,7.0080000000000089,11.461,11.48,"00:02:01.501","00:02:01.800",294,1.91,3.29,5.67,6,null,null,null,null,null,191]
[null,7.0131000000000085,7.0260000000000087,11.481,11.5,"00:02:01.801","00:02:02.100",293,1.93,3.34,5.95,7,null,null,null,null,null,193]
[null,7.0311000000000083,7.0440000000000085,11.500999999999999,11.52,"00:02:02.101","00:02:02.400",292,1.95,3.38,6.23,8,null,null,null,null,null,195]
[null,7.0491000000000081,7.0620000000000083,11.520999999999999,11.54,"00:02:02.401","00:02:02.700",291,1.97,3.43,6.51,9,null,null,null,null,null,197]
[null,7.0671000000000079,7.0800000000000081,11.540999999999999,11.56,"00:02:02.701","00:02:03",290,1.99,3.48,6.78,10,null,null,null,null,null,199]
[null,7.0851000000000077,7.0980000000000079,11.561,11.58,"00:02:03.001","00:02:03.300",289,2.0099999999999998,3.53,7.06,11,null,null,null,null,null,201]
[null,7.1031000000000075,7.1160000000000077,11.581,11.6,"00:02:03.301","00:02:03.600",288,2.02,3.58,7.34,12,null,null,null,null,null,202]
[null,7.1211000000000073,7.1340000000000074,11.600999999999999,11.62,"00:02:03.601","00:02:03.900",287,2.04,3.62,7.62,13,null,null,null,null,null,204]
[null,7.1391000000000071,7.1520000000000072,11.620999999999999,11.64,"00:02:03.901","00:02:04.200",286,2.06,3.67,7.9,14,null,null,null,null,null,206]
[null,7.1571000000000069,7.170000000000007,11.641,11.67,"00:02:04.201","00:02:04.500",285,2.08,3.72,8.18,15,null,null,null,null,null,208]
[null,7.1751000000000067,7.1880000000000068,11.670999999999999,11.69,"00:02:04.501","00:02:04.800",284,2.1,3.77,8.4499999999999993,16,null,null,null,null,null,210]
[null,7.1931000000000065,7.2060000000000066,11.690999999999999,11.71,"00:02:04.801","00:02:05.100",283,2.12,3.82,8.73,17,null,null,null,null,null,212]
[null,7.2111000000000063,7.2240000000000064,11.711,11.73,"00:02:05.101","00:02:05.400",282,2.14,3.86,9.01,18,null,null,null,null,null,214]
[null,7.2291000000000061,7.2420000000000062,11.731,11.75,"00:02:05.401","00:02:05.700",281,2.16,3.91,9.2899999999999991,19,null,null,null,null,null,216]
[null,7.2471000000000059,7.260000000000006,11.750999999999999,11.77,"00:02:05.701","00:02:06",280,2.17,3.96,9.57,20,null,null,null,null,null,217]
[null,7.2651000000000057,7.2780000000000058,11.770999999999999,11.79,"00:02:06.001","00:02:06.300",279,2.19,4.01,9.85,21,null,null,null,null,null,219]
[null,7.2831000000000055,7.2960000000000056,11.790999999999999,11.81,"00:02:06.301","00:02:06.600",278,2.21,4.0599999999999996,10.119999999999999,22,null,null,null,null,null,221]
[null,7.3011000000000053,7.3140000000000054,11.811,11.83,"00:02:06.601","00:02:06.900",277,2.23,4.0999999999999996,10.4,23,null,null,null,null,null,223]
[null,7.319100000000005,7.3320000000000052,11.831,11.85,"00:02:06.901","00:02:07.200",276,2.25,4.1500000000000004,10.68,24,null,null,null,null,null,225]
[null,7.3371000000000048,7.350000000000005,11.850999999999999,11.88,"00:02:07.201","00:02:07.500",275,2.27,4.2,10.96,25,null,null,null,null,null,227]
[null,7.3551000000000046,7.3680000000000048,11.881,11.9,"00:02:07.501","00:02:07.800",274,2.29,4.25,11.24,26,null,null,null,null,null,229]
[null,7.3731000000000044,7.3860000000000046,11.901,11.92,"00:02:07.801","00:02:08.100",273,2.31,4.3,11.52,27,null,null,null,null,null,231]
[null,7.3911000000000042,7.4040000000000044,11.920999999999999,11.94,"00:02:08.101","00:02:08.400",272,2.3199999999999998,4.34,11.8,28,null,null,null,null,null,232]
[null,7.409100000000004,7.4220000000000041,11.940999999999999,11.96,"00:02:08.401","00:02:08.700",271,2.34,4.3899999999999997,12.07,29,null,null,null,null,null,234]
[null,7.4271000000000038,7.4400000000000039,11.961,11.98,"00:02:08.701","00:02:09",270,2.36,4.4400000000000004,12.35,30,null,null,null,null,null,236]
[null,7.4451000000000036,7.4580000000000037,11.981,12,"00:02:09.001","00:02:09.300",269,2.38,4.49,12.63,31,null,null,null,null,null,238]
[null,7.4631000000000034,7.4760000000000035,12.000999999999999,12.02,"00:02:09.301","00:02:09.600",268,2.4,4.54,12.91,32,null,null,null,null,null,240]
[null,7.4811000000000032,7.4940000000000033,12.020999999999999,12.04,"00:02:09.601","00:02:09.900",267,2.42,4.58,13.19,33,null,null,null,null,null,242]
[null,7.499100000000003,7.5120000000000031,12.040999999999999,12.04,"00:02:09.901","00:02:10.200",266,2.44,4.63,13.47,34,null,null,null,null,null,244]
[null,7.5171000000000028,7.5300000000000029,12.040999999999999,12.09,"00:02:10.201","00:02:10.500",265,2.46,4.68,13.74,35,null,null,null,null,null,246]
[null,7.5351000000000026,7.5480000000000027,12.090999999999999,12.11,"00:02:10.501","00:02:10.800",264,2.4700000000000002,4.7300000000000004,14.02,36,null,null,null,null,null,247]
[null,7.5531000000000024,7.5660000000000025,12.110999999999999,12.13,"00:02:10.801","00:02:11.100",263,2.4900000000000002,4.78,14.3,37,null,null,null,null,null,249]
[null,7.5711000000000022,7.5840000000000023,12.131,12.15,"00:02:11.101","00:02:11.400",262,2.5099999999999998,4.82,14.58,38,null,null,null,null,null,251]
[null,7.589100000000002,7.6020000000000021,12.151,12.17,"00:02:11.401","00:02:11.700",261,2.5299999999999998,4.87,14.86,39,null,null,null,null,null,253]
[null,7.6071000000000017,7.6200000000000019,12.170999999999999,12.19,"00:02:11.701","00:02:12",260,2.5499999999999998,4.92,15.14,40,null,null,null,null,null,255]
[null,7.6251000000000015,7.6380000000000017,12.190999999999999,12.21,"00:02:12.001","00:02:12.300",259,2.57,4.97,15.41,41,null,null,null,null,null,257]
[null,7.6431000000000013,7.6560000000000015,12.211,12.23,"00:02:12.301","00:02:12.600",258,2.59,5.0199999999999996,15.69,42,null,null,null,null,null,259]
[null,7.6611000000000011,7.6740000000000013,12.231,12.25,"00:02:12.601","00:02:12.900",257,2.61,5.0599999999999996,15.97,43,null,null,null,null,null,261]
[null,7.6791000000000009,7.6920000000000011,12.250999999999999,12.27,"00:02:12.901","00:02:13.200",256,2.62,5.1100000000000003,16.25,44,null,null,null,null,null,262]
[null,7.6971000000000007,7.7100000000000009,12.270999999999999,12.3,"00:02:13.201","00:02:13.500",255,2.64,5.16,16.53,45,null,null,null,null,null,264]
[null,7.7151000000000005,7.7280000000000006,12.301,12.32,"00:02:13.501","00:02:13.800",254,2.66,5.21,16.809999999999999,46,null,null,null,null,null,266]
[null,7.7331000000000003,7.7460000000000004,12.321,12.34,"00:02:13.801","00:02:14.100",253,2.68,5.26,17.079999999999998,47,null,null,null,null,null,268]
[null,7.7511000000000001,7.7640000000000002,12.340999999999999,12.36,"00:02:14.101","00:02:14.400",252,2.7,5.3,17.36,48,null,null,null,null,null,270]
[null,7.7690999999999999,7.782,12.361000000000001,12.38,"00:02:14.401","00:02:14.700",251,2.72,5.35,17.64,49,null,null,null,null,null,272]
[null,7.7870999999999997,7.8,12.381,12.4,"00:02:14.701","00:02:15",250,2.73,5.4,17.920000000000002,50,null,null,null,null,null,273]
[null,7.8050999999999995,7.82,12.401,12.42,"00:02:15.001","00:02:15.336",249,2.75,5.44,18.18,51,null,null,null,null,null,275]
[null,7.8250999999999999,7.84,12.420999999999999,12.44,"00:02:15.341","00:02:15.672",248,2.76,5.49,18.43,52,null,null,null,null,null,276]
[null,7.8450999999999995,7.85,12.440999999999999,12.46,"00:02:15.671","00:02:16.008",247,2.78,5.53,18.690000000000001,53,null,null,null,null,null,278]
[null,7.8550999999999993,7.87,12.461,12.48,"00:02:16.011","00:02:16.344",246,2.8,5.58,18.940000000000001,54,null,null,null,null,null,280]
[null,7.8750999999999998,7.89,12.481,12.51,"00:02:16.341","00:02:16.680",245,2.82,5.62,19.2,55,null,null,null,null,null,282]
[null,7.8950999999999993,7.91,12.510999999999999,12.53,"00:02:16.681","00:02:17.016",244,2.83,5.66,19.45,56,null,null,null,null,null,283]
[null,7.9150999999999998,7.93,12.530999999999999,12.55,"00:02:17.021","00:02:17.352",243,2.85,5.71,19.71,57,null,null,null,null,null,285]
[null,7.9350999999999994,7.95,12.551,12.57,"00:02:17.351","00:02:17.688",242,2.87,5.75,19.96,58,null,null,null,null,null,287]
[null,7.9550999999999998,7.96,12.571,12.59,"00:02:17.691","00:02:18.024",241,2.88,5.8,20.22,59,null,null,null,null,null,288]
[null,7.9650999999999996,7.98,12.590999999999999,12.61,"00:02:18.021","00:02:18.360",240,2.9,5.84,20.47,60,null,null,null,null,null,290]
[null,7.9851000000000001,8,12.610999999999999,12.63,"00:02:18.361","00:02:18.696",239,2.92,5.88,20.73,61,null,null,null,null,null,292]
[null,8.0051000000000005,8.02,12.631,12.65,"00:02:18.701","00:02:19.032",238,2.94,5.93,20.98,62,null,null,null,null,null,294]
[null,8.0251000000000001,8.0399999999999991,12.651,12.68,"00:02:19.031","00:02:19.368",237,2.95,5.97,21.24,63,null,null,null,null,null,295]
[null,8.0450999999999997,8.0500000000000007,12.680999999999999,12.7,"00:02:19.371","00:02:19.704",236,{"$f":"R66/100","v":2.97},6.02,21.49,64,null,null,null,null,null,297]
[null,8.0551000000000013,8.07,12.700999999999999,12.72,"00:02:19.701","00:02:20.040",235,2.99,6.06,21.75,65,null,null,null,null,null,299]
[null,8.0751000000000008,8.09,12.721,12.74,"00:02:20.041","00:02:20.376",234,3,6.1,22,66,null,null,null,null,null,300]
[null,8.0951000000000004,8.11,12.741,12.76,"00:02:20.381","00:02:20.712",233,3.02,6.15,22.26,67,null,null,null,null,null,302]
[null,8.1151,8.1300000000000008,12.760999999999999,12.78,"00:02:20.711","00:02:21.048",232,3.04,6.19,22.51,68,null,null,null,null,null,304]
[null,8.1351000000000013,8.15,12.780999999999999,12.8,"00:02:21.049","00:02:21.384",231,3.06,6.24,22.77,69,null,null,null,null,null,306]
[null,8.1551000000000009,8.16,12.801,12.82,"00:02:21.386","00:02:21.720",230,3.07,6.28,23.02,70,null,null,null,null,null,307]
[null,8.1651000000000007,8.18,12.821,12.85,"00:02:21.722","00:02:22.056",229,3.09,6.32,23.28,71,null,null,null,null,null,309]
[null,8.1851000000000003,8.1999999999999993,12.850999999999999,12.87,"00:02:22.261","00:02:22.392",228,3.11,6.37,23.53,72,null,null,null,null,null,311]
[null,8.2050999999999998,8.2200000000000006,12.870999999999999,12.89,"00:02:22.395","00:02:22.728",227,3.12,6.41,23.79,73,null,null,null,null,null,312]
[null,8.2251000000000012,8.24,12.891,12.91,"00:02:22.731","00:02:23.064",226,3.14,6.46,24.04,74,null,null,null,null,null,314]
[null,8.2451000000000008,8.26,12.911,12.93,"00:02:23.066","00:02:23.400",225,3.16,6.5,24.3,75,null,null,null,null,null,316]
[null,8.2651000000000003,8.27,12.930999999999999,12.95,"00:02:23.402","00:02:23.736",224,3.18,6.54,24.56,76,null,null,null,null,null,318]
[null,8.2751000000000001,8.2899999999999991,12.950999999999999,12.97,"00:02:23.741","00:02:24.072",223,3.19,6.59,24.81,77,null,null,null,null,null,319]
[null,8.2950999999999997,8.31,12.971,12.99,"00:02:24.073","00:02:24.408",222,3.21,6.63,25.07,78,null,null,null,null,null,321]
[null,8.315100000000001,8.33,12.991,13.01,"00:02:24.411","00:02:24.744",221,3.23,6.68,25.32,79,null,null,null,null,null,323]
[null,8.3351000000000006,8.35,13.010999999999999,13.04,"00:02:24.745","00:02:25.080",220,3.24,6.72,25.58,80,null,null,null,null,null,324]
[null,8.3551000000000002,8.36,13.040999999999999,13.06,"00:02:25.081","00:02:25.416",219,3.26,6.76,25.83,81,null,null,null,null,null,326]
[null,8.3651,8.3800000000000008,13.061,13.08,"00:02:25.421","00:02:25.752",218,3.28,6.81,26.09,82,null,null,null,null,null,328]
[null,8.3851000000000013,8.4,13.081,13.1,"00:02:25.757","00:02:26.088",217,3.3,6.85,26.34,83,null,null,null,null,null,330]
[null,8.4051000000000009,8.42,13.100999999999999,13.12,"00:02:26.093","00:02:26.424",216,3.31,6.9,26.6,84,null,null,null,null,null,331]
[null,8.4251000000000005,8.44,13.120999999999999,13.14,"00:02:26.429","00:02:26.760",215,3.33,6.94,26.85,85,null,null,null,null,null,333]
[null,8.4451000000000001,8.4600000000000009,13.141,13.16,"00:02:26.765","00:02:27.096",214,3.35,6.98,27.11,86,null,null,null,null,null,335]
[null,8.4651000000000014,8.4700000000000006,13.161,13.18,"00:02:27.101","00:02:27.432",213,3.36,7.03,27.36,87,null,null,null,null,null,336]
[null,8.4751000000000012,8.49,13.180999999999999,13.21,"00:02:27.437","00:02:27.768",212,3.38,7.07,27.62,88,null,null,null,null,null,338]
[null,8.4951000000000008,8.51,13.211,13.23,"00:02:27.773","00:02:28.104",211,3.4,7.12,27.87,89,null,null,null,null,null,340]
[null,8.5151000000000003,8.5299999999999994,13.231,13.25,"00:02:28.109","00:02:28.440",210,3.42,7.16,28.13,90,null,null,null,null,null,342]
[null,8.5350999999999999,8.5500000000000007,13.250999999999999,13.27,"00:02:28.445","00:02:28.776",209,3.43,7.2,28.38,91,null,null,null,null,null,343]
[null,8.5551000000000013,8.56,13.270999999999999,13.29,"00:02:28.781","00:02:29.112",208,3.45,7.25,28.64,92,null,null,null,null,null,345]
[null,8.565100000000001,8.58,13.290999999999999,13.31,"00:02:29.117","00:02:29.448",207,3.47,7.29,28.89,93,null,null,null,null,null,347]
[null,8.5851000000000006,8.6,13.311,13.33,"00:02:29.453","00:02:29.784",206,3.49,7.34,29.15,94,null,null,null,null,null,349]
[null,8.6051000000000002,8.6199999999999992,13.331,13.35,"00:02:29.789","00:02:30.120",205,3.5,7.38,29.4,95,null,null,null,null,null,350]
[null,8.6250999999999998,8.64,13.350999999999999,13.38,"00:02:30.125","00:02:30.456",204,3.52,7.42,29.66,96,null,null,null,null,null,352]
[null,8.6451000000000011,8.66,13.381,13.4,"00:02:30.461","00:02:30.792",203,3.54,7.47,29.91,97,null,null,null,null,null,354]
[null,8.6651000000000007,8.67,13.401,13.42,"00:02:30.797","00:02:31.128",202,3.55,7.51,30.17,98,null,null,null,null,null,355]
[null,8.6751000000000005,8.69,13.420999999999999,13.44,"00:02:31.133","00:02:31.464",201,3.57,7.56,30.42,99,null,null,null,null,null,357]
[null,8.6951000000000001,8.7100000000000009,13.440999999999999,13.46,"00:02:31.469","00:02:31.800",200,3.59,7.6,30.68,100,null,null,null,null,null,359]
[null,8.7151000000000014,8.73,13.461,13.48,"00:02:31.805","00:02:32.178",199,3.61,7.64,30.91,101,null,null,null,null,null,361]
[null,8.735100000000001,8.75,13.481,13.51,"00:02:32.183","00:02:32.556",198,3.62,7.68,31.14,102,null,null,null,null,null,362]
[null,8.7551000000000005,8.77,13.510999999999999,13.53,"00:02:32.561","00:02:32.934",197,3.64,7.72,31.38,103,null,null,null,null,null,364]
[null,8.7751000000000001,8.7899999999999991,13.530999999999999,13.55,"00:02:32.939","00:02:33.312",196,3.65,7.76,31.61,104,null,null,null,null,null,365]
[null,8.7950999999999997,8.81,13.551,13.58,"00:02:33.317","00:02:33.690",195,3.67,7.8,31.84,105,null,null,null,null,null,367]
[null,8.815100000000001,8.83,13.581,13.6,"00:02:33.695","00:02:34.068",194,3.68,7.84,32.07,106,null,null,null,null,null,368]
[null,8.8351000000000006,8.85,13.600999999999999,13.63,"00:02:34.073","00:02:34.446",193,3.7,7.88,32.299999999999997,107,null,null,null,null,null,370]
[null,8.8551000000000002,8.8699999999999992,13.631,13.65,"00:02:34.451","00:02:34.824",192,3.71,7.92,32.54,108,null,null,null,null,null,371]
[null,8.8750999999999998,8.9,13.651,13.67,"00:02:34.829","00:02:35.202",191,3.73,7.96,32.770000000000003,109,null,null,null,null,null,373]
[null,8.9051000000000009,8.92,13.670999999999999,13.7,"00:02:35.207","00:02:35.580",190,3.75,8,33,110,null,null,null,null,null,375]
[null,8.9251000000000005,8.94,13.700999999999999,13.72,"00:02:35.585","00:02:35.958",189,3.76,8.0399999999999991,33.229999999999997,111,null,null,null,null,null,376]
[null,8.9451000000000001,8.9600000000000009,13.721,13.74,"00:02:35.963","00:02:36.336",188,3.78,8.08,33.46,112,null,null,null,null,null,378]
[null,8.9651000000000014,8.98,13.741,13.77,"00:02:36.341","00:02:36.714",187,3.79,8.1199999999999992,33.700000000000003,113,null,null,null,null,null,379]
[null,8.985100000000001,9,13.770999999999999,13.79,"00:02:36.719","00:02:37.092",186,3.81,8.16,33.93,114,null,null,null,null,null,381]
[null,9.0051000000000005,9.02,13.790999999999999,13.81,"00:02:37.097","00:02:37.470",185,3.82,8.1999999999999993,34.159999999999997,115,null,null,null,null,null,382]
[null,9.0251000000000001,9.0399999999999991,13.811,13.84,"00:02:37.475","00:02:37.848",184,3.84,8.24,34.39,116,null,null,null,null,null,384]
[null,9.0450999999999997,9.06,13.840999999999999,13.86,"00:02:37.853","00:02:38.226",183,3.86,8.2799999999999994,34.619999999999997,117,null,null,null,null,null,386]
[null,9.065100000000001,9.08,13.860999999999999,13.88,"00:02:38.231","00:02:38.604",182,3.87,8.32,34.86,118,null,null,null,null,null,387]
[null,9.0851000000000006,9.1,13.881,13.91,"00:02:38.609","00:02:38.982",181,3.89,8.36,35.090000000000003,119,null,null,null,null,null,389]
[null,9.1051000000000002,9.1199999999999992,13.911,13.93,"00:02:38.987","00:02:39.360",180,3.9,8.4,35.32,120,null,null,null,null,null,390]
[null,9.1250999999999998,9.14,13.930999999999999,13.96,"00:02:39.365","00:02:39.738",179,3.92,8.44,35.549999999999997,121,null,null,null,null,null,392]
[null,9.1451000000000011,9.16,13.961,13.98,"00:02:39.743","00:02:40.116",178,3.93,8.48,35.78,122,null,null,null,null,null,393]
[null,9.1651000000000007,9.18,13.981,14,"00:02:40.121","00:02:40.494",177,3.95,8.52,36.020000000000003,123,null,null,null,null,null,395]
[null,9.1851000000000003,9.1999999999999993,14.000999999999999,14.03,"00:02:40.499","00:02:40.872",176,3.96,8.56,36.25,124,null,null,null,null,null,396]
[null,9.2050999999999998,9.23,14.030999999999999,14.05,"00:02:40.877","00:02:41.250",175,3.98,8.6,36.479999999999997,125,null,null,null,null,null,398]
[null,9.235100000000001,9.25,14.051,14.07,"00:02:41.255","00:02:41.628",174,4,8.64,36.71,126,null,null,null,null,null,400]
[null,9.2551000000000005,9.27,14.071,14.1,"00:02:41.633","00:02:42.006",173,4.01,8.68,36.94,127,null,null,null,null,null,401]
[null,9.2751000000000001,9.2899999999999991,14.100999999999999,14.12,"00:02:42.011","00:02:42.384",172,{"$f":"R130/100","v":4.03},8.7200000000000006,37.18,128,null,null,null,null,null,403]
[null,9.2950999999999997,9.31,14.120999999999999,14.14,"00:02:42.389","00:02:42.762",171,4.04,8.76,37.409999999999997,129,null,null,null,null,null,404]
[null,9.315100000000001,9.33,14.141,14.17,"00:02:42.767","00:02:43.140",170,4.0599999999999996,8.8000000000000007,37.64,130,null,null,null,null,null,406]
[null,9.3351000000000006,9.35,14.170999999999999,14.19,"00:02:43.145","00:02:43.518",169,4.07,8.84,37.869999999999997,131,null,null,null,null,null,407]
[null,9.3551000000000002,9.3699999999999992,14.190999999999999,14.22,"00:02:43.523","00:02:43.896",168,4.09,8.8800000000000008,38.1,132,null,null,null,null,null,409]
[null,9.3750999999999998,9.39,14.221,14.24,"00:02:43.901","00:02:44.274",167,4.0999999999999996,8.92,38.340000000000003,133,null,null,null,null,null,410]
[null,9.3951000000000011,9.41,14.241,14.26,"00:02:44.279","00:02:44.652",166,4.12,8.9600000000000009,38.57,134,null,null,null,null,null,412]
[null,9.4151000000000007,9.43,14.260999999999999,14.29,"00:02:44.657","00:02:45.030",165,4.1399999999999997,9,38.799999999999997,135,null,null,null,null,null,414]
[null,9.4351000000000003,9.4499999999999993,14.290999999999999,14.31,"00:02:45.035","00:02:45.408",164,4.1500000000000004,9.0399999999999991,39.03,136,null,null,null,null,null,415]
[null,9.4550999999999998,9.4700000000000006,14.311,14.33,"00:02:45.413","00:02:45.786",163,4.17,9.08,39.26,137,null,null,null,null,null,417]
[null,9.4751000000000012,9.49,14.331,14.36,"00:02:45.791","00:02:46.164",162,4.18,9.1199999999999992,39.5,138,null,null,null,null,null,418]
[null,9.4951000000000008,9.51,14.360999999999999,14.38,"00:02:46.169","00:02:46.542",161,4.2,9.16,39.729999999999997,139,null,null,null,null,null,420]
[null,9.5151000000000003,9.5299999999999994,14.381,14.4,"00:02:46.547","00:02:46.920",160,4.21,9.1999999999999993,39.96,140,null,null,null,null,null,421]
[null,9.5350999999999999,9.5500000000000007,14.401,14.43,"00:02:46.925","00:02:47.298",159,4.2300000000000004,9.24,40.19,141,null,null,null,null,null,423]
[null,9.5551000000000013,9.58,14.430999999999999,14.45,"00:02:47.303","00:02:47.676",158,4.25,9.2799999999999994,40.42,142,null,null,null,null,null,425]
[null,9.5851000000000006,9.6,14.450999999999999,14.47,"00:02:47.681","00:02:48.054",157,4.26,9.32,40.659999999999997,143,null,null,null,null,null,426]
[null,9.6051000000000002,9.6199999999999992,14.471,14.5,"00:02:48.059","00:02:48.432",156,4.28,9.36,40.89,144,null,null,null,null,null,428]
[null,9.6250999999999998,9.64,14.500999999999999,14.52,"00:02:48.437","00:02:48.810",155,4.29,9.4,41.12,145,null,null,null,null,null,429]
[null,9.6451000000000011,9.66,14.520999999999999,14.55,"00:02:48.815","00:02:49.188",154,4.3099999999999996,9.44,41.35,146,null,null,null,null,null,431]
[null,9.6651000000000007,9.68,14.551,14.57,"00:02:49.193","00:02:49.566",153,4.32,9.48,41.58,147,null,null,null,null,null,432]
[null,9.6851000000000003,9.6999999999999993,14.571,14.59,"00:02:49.571","00:02:49.944",152,4.34,9.52,41.82,148,null,null,null,null,null,434]
[null,9.7050999999999998,9.7200000000000006,14.590999999999999,14.62,"00:02:49.949","00:02:50.322",151,4.3499999999999996,9.56,42.05,149,null,null,null,null,null,435]
[null,9.7251000000000012,9.74,14.620999999999999,14.64,"00:02:50.327","00:02:50.700",150,4.37,9.6,42.28,150,null,null,null,null,null,437]
[null,9.7451000000000008,9.76,14.641,14.67,"00:02:50.705","00:02:51.120",149,4.38,9.64,42.49,151,null,null,null,null,null,438]
[null,9.7651000000000003,9.7899999999999991,14.670999999999999,14.69,"00:02:51.125","00:02:51.540",148,4.4000000000000004,9.67,42.7,152,null,null,null,null,null,440]
[null,9.7950999999999997,9.81,14.690999999999999,14.72,"00:02:51.545","00:02:51.960",147,4.41,9.7100000000000009,42.91,153,null,null,null,null,null,441]
[null,9.815100000000001,9.83,14.721,14.75,"00:02:51.965","00:02:52.380",146,4.43,9.74,43.12,154,null,null,null,null,null,443]
[null,9.8351000000000006,9.85,14.750999999999999,14.77,"00:02:52.385","00:02:52.800",145,4.4400000000000004,9.7799999999999994,43.32,155,null,null,null,null,null,444]
[null,9.8551000000000002,9.8800000000000008,14.770999999999999,14.8,"00:02:52.805","00:02:53.220",144,4.45,9.82,43.53,156,null,null,null,null,null,445]
[null,9.8851000000000013,9.9,14.801,14.82,"00:02:53.225","00:02:53.640",143,4.47,9.85,43.74,157,null,null,null,null,null,447]
[null,9.9051000000000009,9.92,14.821,14.85,"00:02:53.645","00:02:54.060",142,4.4800000000000004,9.89,43.95,158,null,null,null,null,null,448]
[null,9.9251000000000005,9.9499999999999993,14.850999999999999,14.88,"00:02:54.065","00:02:54.480",141,4.5,9.92,44.16,159,null,null,null,null,null,450]
[null,9.9550999999999998,9.9700000000000006,14.881,14.9,"00:02:54.485","00:02:54.900",140,4.51,9.9600000000000009,44.37,160,null,null,null,null,null,451]
[null,9.9751000000000012,9.99,14.901,14.93,"00:02:54.905","00:02:55.320",139,4.5199999999999996,10,44.58,161,null,null,null,null,null,452]
[null,9.9951000000000008,10.01,14.930999999999999,14.96,"00:02:55.325","00:02:55.740",138,4.54,10.029999999999999,44.79,162,null,null,null,null,null,454]
[null,10.0151,10.039999999999999,14.961,14.98,"00:02:55.745","00:02:56.160",137,4.55,10.07,44.99,163,null,null,null,null,null,455]
[null,10.0451,10.06,14.981,15.01,"00:02:56.165","00:02:56.580",136,4.57,10.1,45.2,164,null,null,null,null,null,457]
[null,10.065100000000001,10.08,15.010999999999999,15.04,"00:02:56.585","00:02:57",135,4.58,10.14,45.41,165,null,null,null,null,null,458]
[null,10.085100000000001,10.1,15.040999999999999,15.06,"00:02:57.005","00:02:57.420",134,4.59,10.18,45.62,166,null,null,null,null,null,459]
[null,10.1051,10.130000000000001,15.061,15.09,"00:02:57.425","00:02:57.840",133,4.6100000000000003,10.210000000000001,45.83,167,null,null,null,null,null,461]
[null,10.135100000000001,10.15,15.090999999999999,15.12,"00:02:57.845","00:02:58.260",132,4.62,10.25,46.04,168,null,null,null,null,null,462]
[null,10.155100000000001,10.17,15.120999999999999,15.14,"00:02:58.265","00:02:58.680",131,4.6399999999999997,10.28,46.25,169,null,null,null,null,null,464]
[null,10.1751,10.199999999999999,15.141,15.17,"00:02:58.685","00:02:59.100",130,4.6500000000000004,10.32,46.46,170,null,null,null,null,null,465]
[null,10.2051,10.220000000000001,15.170999999999999,15.19,"00:02:59.105","00:02:59.520",129,4.66,10.36,46.66,171,null,null,null,null,null,466]
[null,10.225100000000001,10.24,15.190999999999999,15.22,"00:02:59.525","00:02:59.940",128,4.68,10.39,46.87,172,null,null,null,null,null,468]
[null,10.245100000000001,10.26,15.221,15.25,"00:02:59.945","00:03:00.360",127,4.6900000000000004,10.43,47.08,173,null,null,null,null,null,469]
[null,10.2651,10.29,15.250999999999999,15.27,"00:03:00.365","00:03:00.780",126,4.71,10.46,47.29,174,null,null,null,null,null,471]
[null,10.2951,10.31,15.270999999999999,15.3,"00:03:00.785","00:03:01.200",125,4.72,10.5,47.5,175,null,null,null,null,null,472]
[null,10.315100000000001,10.33,15.301,15.33,"00:03:01.205","00:03:01.620",124,4.74,10.54,47.71,176,null,null,null,null,null,474]
[null,10.335100000000001,10.36,15.331,15.35,"00:03:01.625","00:03:02.040",123,4.75,10.57,47.92,177,null,null,null,null,null,475]
[null,10.3651,10.38,15.350999999999999,15.38,"00:03:02.045","00:03:02.460",122,4.76,10.61,48.13,178,null,null,null,null,null,476]
[null,10.385100000000001,10.4,15.381,15.41,"00:03:02.465","00:03:02.880",121,4.78,10.64,48.34,179,null,null,null,null,null,478]
[null,10.405100000000001,10.42,15.411,15.43,"00:03:02.885","00:03:03.300",120,4.79,10.68,48.54,180,null,null,null,null,null,479]
[null,10.4251,10.45,15.430999999999999,15.46,"00:03:03.305","00:03:03.720",119,4.8099999999999996,10.72,48.75,181,null,null,null,null,null,481]
[null,10.4551,10.47,15.461,15.48,"00:03:03.725","00:03:04.140",118,4.82,10.75,48.96,182,null,null,null,null,null,482]
[null,10.475100000000001,10.49,15.481,15.51,"00:03:04.145","00:03:04.560",117,4.83,10.79,49.17,183,null,null,null,null,null,483]
[null,10.495100000000001,10.52,15.510999999999999,15.54,"00:03:04.565","00:03:04.980",116,4.8499999999999996,10.82,49.38,184,null,null,null,null,null,485]
[null,10.5251,10.54,15.540999999999999,15.56,"00:03:04.985","00:03:05.400",115,4.8600000000000003,10.86,49.59,185,null,null,null,null,null,486]
[null,10.5451,10.56,15.561,15.59,"00:03:05.405","00:03:05.820",114,4.88,10.9,49.8,186,null,null,null,null,null,488]
[null,10.565100000000001,10.58,15.590999999999999,15.62,"00:03:05.825","00:03:06.240",113,4.8899999999999997,10.93,50.01,187,null,null,null,null,null,489]
[null,10.585100000000001,10.61,15.620999999999999,15.64,"00:03:06.245","00:03:06.660",112,4.9000000000000004,10.97,50.21,188,null,null,null,null,null,490]
[null,10.6151,10.63,15.641,15.67,"00:03:06.665","00:03:07.080",111,4.92,11,50.42,189,null,null,null,null,null,492]
[null,10.635100000000001,10.65,15.670999999999999,15.7,"00:03:07.085","00:03:07.500",110,4.93,11.04,50.63,190,null,null,null,null,null,493]
[null,10.655100000000001,10.67,15.700999999999999,15.72,"00:03:07.505","00:03:07.920",109,4.95,11.08,50.84,191,null,null,null,null,null,495]
[null,10.6751,10.7,15.721,15.75,"00:03:07.925","00:03:08.340",108,{"$f":"R194/100","v":4.96},11.11,51.05,192,null,null,null,null,null,496]
[null,10.7051,10.72,15.750999999999999,15.78,"00:03:08.345","00:03:08.760",107,4.97,11.15,51.26,193,null,null,null,null,null,497]
[null,10.725100000000001,10.74,15.780999999999999,15.8,"00:03:08.765","00:03:09.180",106,4.99,11.18,51.47,194,null,null,null,null,null,499]
[null,10.745100000000001,10.77,15.801,15.83,"00:03:09.185","00:03:09.600",105,5,11.22,51.68,195,null,null,null,null,null,500]
[null,10.7751,10.79,15.831,15.85,"00:03:09.605","00:03:10.020",104,5.0199999999999996,11.26,51.88,196,null,null,null,null,null,502]
[null,10.7951,10.81,15.850999999999999,15.88,"00:03:10.025","00:03:10.440",103,5.03,11.29,52.09,197,null,null,null,null,null,503]
[null,10.815100000000001,10.83,15.881,15.91,"00:03:10.445","00:03:10.860",102,5.04,11.33,52.3,198,null,null,null,null,null,504]
[null,10.835100000000001,10.86,15.911,15.93,"00:03:10.865","00:03:11.280",101,5.0599999999999996,11.36,52.51,199,null,null,null,null,null,506]
[null,10.8651,10.88,15.930999999999999,15.96,"00:03:11.285","00:03:11.700",100,5.07,11.4,52.72,200,null,null,null,null,null,507]
[null,10.885100000000001,10.91,15.961,15.99,"00:03:11.705","00:03:12.162",99,5.08,11.43,52.91,201,null,null,null,null,null,508]
[null,10.915100000000001,10.93,15.991,16.02,"00:03:12.167","00:03:12.624",98,5.0999999999999996,11.46,53.09,202,null,null,null,null,null,510]
[null,10.9351,10.96,16.021000000000001,16.05,"00:03:12.629","00:03:13.086",97,5.1100000000000003,11.5,53.28,203,null,null,null,null,null,511]
[null,10.965100000000001,10.98,16.051000000000002,16.079999999999998,"00:03:13.091","00:03:13.548",96,5.12,11.53,53.46,204,null,null,null,null,null,512]
[null,10.985100000000001,11.01,16.081,16.11,"00:03:13.553","00:03:14.010",95,5.13,11.56,53.65,205,null,null,null,null,null,513]
[null,11.0151,11.03,16.111000000000001,16.14,"00:03:14.015","00:03:14.472",94,5.14,11.59,53.83,206,null,null,null,null,null,514]
[null,11.0351,11.06,16.141000000000002,16.16,"00:03:14.477","00:03:14.934",93,5.16,11.62,54.02,207,null,null,null,null,null,516]
[null,11.065100000000001,11.08,16.161000000000001,16.190000000000001,"00:03:14.939","00:03:15.396",92,5.17,11.66,54.2,208,null,null,null,null,null,517]
[null,11.085100000000001,11.11,16.191000000000003,16.22,"00:03:15.401","00:03:15.858",91,5.18,11.69,54.39,209,null,null,null,null,null,518]
[null,11.1151,11.13,16.221,16.25,"00:03:15.863","00:03:16.320",90,5.19,11.72,54.58,210,null,null,null,null,null,519]
[null,11.135100000000001,11.16,16.251000000000001,16.28,"00:03:16.325","00:03:16.782",89,5.21,11.75,54.76,211,null,null,null,null,null,521]
[null,11.165100000000001,11.18,16.281000000000002,16.309999999999999,"00:03:16.787","00:03:17.244",88,5.22,11.78,54.95,212,null,null,null,null,null,522]
[null,11.1851,11.21,16.311,16.34,"00:03:17.249","00:03:17.706",87,5.23,11.82,55.13,213,null,null,null,null,null,523]
[null,11.215100000000001,11.23,16.341000000000001,16.37,"00:03:17.711","00:03:18.168",86,5.24,11.85,55.32,214,null,null,null,null,null,524]
[null,11.235100000000001,11.26,16.371000000000002,16.399999999999999,"00:03:18.173","00:03:18.630",85,5.26,11.88,55.5,215,null,null,null,null,null,526]
[null,11.2651,11.28,16.401,16.43,"00:03:18.635","00:03:19.092",84,5.27,11.91,55.69,216,null,null,null,null,null,527]
[null,11.2851,11.31,16.431000000000001,16.46,"00:03:19.097","00:03:19.554",83,5.28,11.94,55.88,217,null,null,null,null,null,528]
[null,11.315100000000001,11.33,16.461000000000002,16.489999999999998,"00:03:19.559","00:03:20.016",82,5.29,11.98,56.06,218,null,null,null,null,null,529]
[null,11.335100000000001,11.36,16.491,16.510000000000002,"00:03:20.021","00:03:20.478",81,5.31,12.01,56.25,219,null,null,null,null,null,531]
[null,11.3651,11.38,16.511000000000003,16.54,"00:03:20.483","00:03:20.940",80,5.32,12.04,56.43,220,null,null,null,null,null,532]
[null,11.385100000000001,11.41,16.541,16.57,"00:03:20.945","00:03:21.402",79,5.33,12.07,56.62,221,null,null,null,null,null,533]
[null,11.415100000000001,11.43,16.571000000000002,16.600000000000001,"00:03:21.407","00:03:21.864",78,5.34,12.1,56.8,222,null,null,null,null,null,534]
[null,11.4351,11.46,16.601000000000003,16.63,"00:03:21.869","00:03:22.326",77,5.36,12.14,56.99,223,null,null,null,null,null,536]
[null,11.465100000000001,11.48,16.631,16.66,"00:03:22.331","00:03:22.788",76,5.37,12.17,57.17,224,null,null,null,null,null,537]
[null,11.485100000000001,11.51,16.661000000000001,16.690000000000001,"00:03:22.793","00:03:23.250",75,5.38,12.2,57.36,225,null,null,null,null,null,538]
[null,11.5151,11.53,16.691000000000003,16.72,"00:03:23.255","00:03:23.712",74,5.39,12.23,57.55,226,null,null,null,null,null,539]
[null,11.5351,11.56,16.721,16.75,"00:03:23.717","00:03:24.174",73,5.41,12.26,57.73,227,null,null,null,null,null,541]
[null,11.565100000000001,11.58,16.751000000000001,16.78,"00:03:24.179","00:03:24.636",72,5.42,12.3,57.92,228,null,null,null,null,null,542]
[null,11.585100000000001,11.61,16.781000000000002,16.809999999999999,"00:03:24.641","00:03:25.098",71,5.43,12.33,58.1,229,null,null,null,null,null,543]
[null,11.6151,11.63,16.811,16.84,"00:03:25.103","00:03:25.560",70,5.44,12.36,58.29,230,null,null,null,null,null,544]
[null,11.635100000000001,11.66,16.841000000000001,16.87,"00:03:25.565","00:03:26.022",69,5.46,12.39,58.47,231,null,null,null,null,null,546]
[null,11.665100000000001,11.68,16.871000000000002,16.89,"00:03:26.027","00:03:26.484",68,5.47,12.42,58.66,232,null,null,null,null,null,547]
[null,11.6851,11.71,16.891000000000002,16.920000000000002,"00:03:26.489","00:03:26.946",67,5.48,12.46,58.84,233,null,null,null,null,null,548]
[null,11.715100000000001,11.73,16.921000000000003,16.95,"00:03:26.951","00:03:27.408",66,5.49,12.49,59.03,234,null,null,null,null,null,549]
[null,11.735100000000001,11.76,16.951000000000001,16.98,"00:03:27.413","00:03:27.870",65,5.51,12.52,59.22,235,null,null,null,null,null,551]
[null,11.7651,11.78,16.981000000000002,17.010000000000002,"00:03:27.875","00:03:28.332",64,5.52,12.55,59.4,236,null,null,null,null,null,552]
[null,11.7851,11.81,17.011000000000003,17.04,"00:03:28.337","00:03:28.794",63,5.53,12.58,59.59,237,null,null,null,null,null,553]
[null,11.815100000000001,11.83,17.041,17.07,"00:03:28.799","00:03:29.256",62,5.54,12.62,59.77,238,null,null,null,null,null,554]
[null,11.835100000000001,11.86,17.071000000000002,17.100000000000001,"00:03:29.261","00:03:29.718",61,5.56,12.65,59.96,239,null,null,null,null,null,556]
[null,11.8651,11.88,17.101000000000003,17.13,"00:03:29.723","00:03:30.180",60,5.57,12.68,60.14,240,null,null,null,null,null,557]
[null,11.885100000000001,11.91,17.131,17.16,"00:03:30.185","00:03:30.642",59,5.58,12.71,60.33,241,null,null,null,null,null,558]
[null,11.915100000000001,11.93,17.161000000000001,17.190000000000001,"00:03:30.647","00:03:31.104",58,5.59,12.74,60.52,242,null,null,null,null,null,559]
[null,11.9351,11.96,17.191000000000003,17.22,"00:03:31.109","00:03:31.566",57,5.61,12.78,60.7,243,null,null,null,null,null,561]
[null,11.965100000000001,11.98,17.221,17.239999999999998,"00:03:31.571","00:03:32.028",56,5.62,12.81,60.89,244,null,null,null,null,null,562]
[null,11.985100000000001,12.01,17.241,17.27,"00:03:32.033","00:03:32.490",55,5.63,12.84,61.07,245,null,null,null,null,null,563]
[null,12.0151,12.03,17.271000000000001,17.3,"00:03:32.495","00:03:32.952",54,5.64,12.87,61.26,246,null,null,null,null,null,564]
[null,12.0351,12.06,17.301000000000002,17.329999999999998,"00:03:32.957","00:03:33.414",53,5.66,12.9,61.44,247,null,null,null,null,null,566]
[null,12.065100000000001,12.08,17.331,17.36,"00:03:33.419","00:03:33.876",52,5.67,12.94,61.63,248,null,null,null,null,null,567]
[null,12.085100000000001,12.11,17.361000000000001,17.39,"00:03:33.881","00:03:34.338",51,5.68,12.97,61.81,249,null,null,null,null,null,568]
[null,12.1151,12.13,17.391000000000002,17.420000000000002,"00:03:34.343","00:03:34.800",50,5.7,13,62,250,null,null,null,null,null,570]
[null,12.135100000000001,12.16,17.421000000000003,17.45,"00:03:34.805","00:03:35.304",49,5.71,13.04,62.18,251,null,null,null,null,null,571]
[null,12.165100000000001,12.18,17.451000000000001,17.48,"00:03:35.309","00:03:35.808",48,5.72,13.08,62.37,252,null,null,null,null,null,572]
[null,12.1851,12.21,17.481000000000002,17.510000000000002,"00:03:35.813","00:03:36.312",47,5.74,13.12,62.55,253,null,null,null,null,null,574]
[null,12.215100000000001,12.24,17.511000000000003,17.55,"00:03:36.317","00:03:36.816",46,5.75,13.16,62.74,254,null,null,null,null,null,575]
[null,12.245100000000001,12.27,17.551000000000002,17.579999999999998,"00:03:36.821","00:03:37.320",45,5.76,13.2,62.92,255,null,null,null,null,null,576]
[null,12.2751,12.29,17.581,17.61,"00:03:37.325","00:03:37.824",44,{"$f":"R258/100","v":5.77},13.24,63.1,256,null,null,null,null,null,577]
[null,12.2951,12.32,17.611000000000001,17.64,"00:03:37.829","00:03:38.328",43,5.78,13.28,63.29,257,null,null,null,null,null,578]
[null,12.325100000000001,12.35,17.641000000000002,17.670000000000002,"00:03:38.333","00:03:38.832",42,5.8,13.32,63.47,258,null,null,null,null,null,580]
[null,12.3551,12.38,17.671000000000003,17.7,"00:03:38.837","00:03:39.336",41,5.81,13.36,63.66,259,null,null,null,null,null,581]
[null,12.385100000000001,12.4,17.701000000000001,17.739999999999998,"00:03:39.341","00:03:39.840",40,5.82,13.4,63.741599999999998,260,null,null,null,null,null,582]
[null,12.405100000000001,12.43,17.741,17.77,"00:03:39.845","00:03:40.344",39,5.83,13.44,64.02,261,null,null,null,null,null,583]
[null,12.4351,12.46,17.771000000000001,17.8,"00:03:40.349","00:03:40.848",38,5.84,13.48,64.209999999999994,262,null,null,null,null,null,584]
[null,12.465100000000001,12.49,17.801000000000002,17.829999999999998,"00:03:40.853","00:03:41.352",37,5.86,13.52,64.39,263,null,null,null,null,null,586]
[null,12.495100000000001,12.51,17.831,17.86,"00:03:41.357","00:03:41.856",36,5.87,13.56,64.58,264,null,null,null,null,null,587]
[null,12.5151,12.54,17.861000000000001,17.89,"00:03:41.861","00:03:42.360",35,5.88,13.6,64.760000000000005,265,null,null,null,null,null,588]
[null,12.5451,12.57,17.891000000000002,17.93,"00:03:42.365","00:03:42.864",34,5.89,13.64,64.94,266,null,null,null,null,null,589]
[null,12.575100000000001,12.6,17.931000000000001,17.96,"00:03:42.869","00:03:43.368",33,5.9,13.68,65.13,267,null,null,null,null,null,590]
[null,12.6051,12.62,17.961000000000002,17.989999999999998,"00:03:43.373","00:03:43.872",32,5.92,13.72,65.31,268,null,null,null,null,null,592]
[null,12.6251,12.65,17.991,18.02,"00:03:43.877","00:03:44.376",31,5.93,13.76,65.5,269,null,null,null,null,null,593]
[null,12.655100000000001,12.68,18.021000000000001,18.05,"00:03:44.381","00:03:44.880",30,5.94,13.8,65.680000000000007,270,null,null,null,null,null,594]
[null,12.6851,12.71,18.051000000000002,18.079999999999998,"00:03:44.885","00:03:45.384",29,5.95,13.84,65.86,271,null,null,null,null,null,595]
[null,12.715100000000001,12.73,18.081,18.12,"00:03:45.389","00:03:45.888",28,5.96,13.88,66.05,272,null,null,null,null,null,596]
[null,12.735100000000001,12.76,18.121000000000002,18.149999999999999,"00:03:45.893","00:03:46.392",27,5.98,13.92,66.23,273,null,null,null,null,null,598]
[null,12.7651,12.79,18.151,18.18,"00:03:46.397","00:03:46.896",26,5.99,13.96,66.42,274,null,null,null,null,null,599]
[null,12.7951,12.82,18.181000000000001,18.21,"00:03:46.901","00:03:47.400",25,6,14,66.599999999999994,275,null,null,null,null,null,600]
[null,12.825100000000001,12.84,18.211000000000002,18.239999999999998,"00:03:47.405","00:03:47.904",24,6.01,14.04,66.78,276,null,null,null,null,null,601]
[null,12.8451,12.87,18.241,18.27,"00:03:47.909","00:03:48.408",23,6.02,14.08,66.97,277,null,null,null,null,null,602]
[null,12.8751,12.9,18.271000000000001,18.3,"00:03:48.413","00:03:48.912",22,6.04,14.12,67.150000000000006,278,null,null,null,null,null,604]
[null,12.905100000000001,12.92,18.301000000000002,18.34,"00:03:48.917","00:03:49.416",21,6.05,14.16,67.34,279,null,null,null,null,null,605]
[null,12.9251,12.95,18.341000000000001,18.37,"00:03:49.421","00:03:49.920",20,6.06,14.2,67.52,280,null,null,null,null,null,606]
[null,12.9551,12.98,18.371000000000002,18.399999999999999,"00:03:49.925","00:03:50.424",19,6.07,14.24,67.7,281,null,null,null,null,null,607]
[null,12.985100000000001,13.01,18.401,18.43,"00:03:50.429","00:03:50.928",18,6.08,14.28,67.89,282,null,null,null,null,null,608]
[null,13.0151,13.03,18.431000000000001,18.46,"00:03:50.933","00:03:51.432",17,6.1,14.32,68.069999999999993,283,null,null,null,null,null,610]
[null,13.0351,13.06,18.461000000000002,18.489999999999998,"00:03:51.437","00:03:51.936",16,6.11,14.36,68.260000000000005,284,null,null,null,null,null,611]
[null,13.065100000000001,13.09,18.491,18.53,"00:03:51.941","00:03:52.440",15,6.12,14.4,68.44,285,null,null,null,null,null,612]
[null,13.0951,13.12,18.531000000000002,18.559999999999999,"00:03:52.445","00:03:52.944",14,6.13,14.44,68.62,286,null,null,null,null,null,613]
[null,13.1251,13.14,18.561,18.59,"00:03:52.949","00:03:53.448",13,6.14,14.48,68.81,287,null,null,null,null,null,614]
[null,13.145100000000001,13.17,18.591000000000001,18.62,"00:03:53.453","00:03:53.952",12,6.16,14.52,68.989999999999995,288,null,null,null,null,null,616]
[null,13.1751,13.2,18.621000000000002,18.649999999999999,"00:03:53.957","00:03:54.456",11,6.17,14.56,69.180000000000007,289,null,null,null,null,null,617]
[null,13.2051,13.23,18.651,18.68,"00:03:54.461","00:03:54.960",10,6.18,14.6,69.36,290,null,null,null,null,null,618]
[null,13.235100000000001,13.25,18.681000000000001,18.72,"00:03:54.965","00:03:55.464",9,6.19,14.64,69.540000000000006,291,null,null,null,null,null,619]
[null,13.255100000000001,13.28,18.721,18.75,"00:03:55.469","00:03:55.968",8,6.2,14.68,69.73,292,null,null,null,null,null,620]
[null,13.2851,13.31,18.751000000000001,18.78,"00:03:55.973","00:03:56.472",7,6.22,14.72,69.91,293,null,null,null,null,null,622]
[null,13.315100000000001,13.34,18.781000000000002,18.809999999999999,"00:03:56.477","00:03:56.976",6,6.23,14.76,70.099999999999994,294,null,null,null,null,null,623]
[null,13.3451,13.36,18.811,18.84,"00:03:56.981","00:03:57.480",5,6.24,14.8,70.28,295,null,null,null,null,null,624]
[null,13.3651,13.39,18.841000000000001,18.87,"00:03:57.485","00:03:57.984",4,6.25,14.84,70.459999999999994,296,null,null,null,null,null,625]
[null,13.395100000000001,13.42,18.871000000000002,18.91,"00:03:57.989","00:03:58.488",3,6.26,14.88,70.650000000000006,297,null,null,null,null,null,626]
[null,13.4251,13.45,18.911000000000001,18.940000000000001,"00:03:58.493","00:03:58.992",2,6.28,14.92,70.83,298,null,null,null,null,null,628]
[null,13.4551,13.47,18.941000000000003,18.97,"00:03:58.997","00:03:59.496",1,6.29,14.96,71.02,299,null,null,null,null,null,629]
[null,13.475100000000001,13.5,18.971,19,"00:03:59.501","00:04:00",0,6.3,15,71.2,300,null,null,null,null,null,630]

{"sheet":"Be","index":1,"n_rows":259,"n_cols":12,"rows_kept":259,"cut":false,"hidden":false,"merged":[[32,11,32,12],[33,11,33,12],[34,11,34,12],[35,11,35,12],[36,11,36,12],[37,11,37,12],[38,11,38,12],[23,11,23,12],[24,11,24,12],[25,11,25,12],[26,11,26,12],[27,11,27,12],[28,11,28,12],[29,11,29,12],[30,11,30,12],[31,11,31,12],[14,11,14,12],[15,11,15,12],[16,11,16,12],[17,11,17,12],[18,11,18,12],[19,11,19,12],[20,11,20,12],[21,11,21,12],[22,11,22,12],[2,3,2,4],[2,5,2,6],[2,7,2,8],[2,11,2,12],[3,11,3,12],[4,11,4,12],[5,11,5,12],[6,11,6,12],[7,11,7,12],[8,11,8,12],[9,11,9,12],[10,11,10,12],[11,11,11,12],[12,11,12,12],[13,11,13,12],[0,0,0,12],[41,0,41,10],[253,11,256,12],[251,0,251,10],[252,3,252,4],[252,5,252,6],[252,7,252,8],[241,0,241,10],[242,3,242,4],[242,5,242,6],[242,7,242,8],[231,0,231,10],[232,3,232,4],[232,5,232,6],[232,7,232,8],[221,0,221,10],[222,3,222,4],[222,5,222,6],[258,11,258,12],[243,11,246,12],[248,11,248,12],[223,11,226,12],[228,11,228,12],[203,11,206,12],[208,11,208,12],[183,11,186,12],[188,11,188,12],[251,11,252,12],[233,11,236,12],[238,11,238,12],[241,11,242,12],[231,11,232,12],[213,11,216,12],[218,11,218,12],[221,11,222,12],[222,7,222,8],[211,0,211,10],[211,11,212,12],[212,3,212,4],[212,5,212,6],[212,7,212,8],[193,11,196,12],[198,11,198,12],[201,0,201,10],[201,11,202,12],[202,3,202,4],[202,5,202,6],[202,7,202,8],[191,0,191,10],[191,11,192,12],[192,3,192,4],[192,5,192,6],[192,7,192,8],[173,11,176,12],[178,11,178,12],[181,0,181,10],[181,11,182,12],[182,3,182,4],[182,5,182,6],[182,7,182,8],[163,11,166,12],[168,11,168,12],[171,0,171,10],[171,11,172,12],[172,3,172,4],[172,5,172,6],[172,7,172,8],[153,11,156,12],[158,11,158,12],[161,0,161,10],[161,11,162,12],[162,3,162,4],[162,5,162,6],[162,7,162,8],[143,11,146,12],[148,11,148,12],[151,0,151,10],[151,11,152,12],[152,3,152,4],[152,5,152,6],[152,7,152,8],[133,11,136,12],[138,11,138,12],[141,0,141,10],[141,11,142,12],[142,3,142,4],[142,5,142,6],[142,7,142,8],[123,11,126,12],[128,11,128,12],[131,0,131,10],[131,11,132,12],[132,3,132,4],[132,5,132,6],[132,7,132,8],[113,11,116,12],[118,11,118,12],[121,0,121,10],[121,11,122,12],[122,3,122,4],[122,5,122,6],[122,7,122,8],[103,11,106,12],[108,11,108,12],[111,0,111,10],[111,11,112,12],[112,3,112,4],[112,5,112,6],[112,7,112,8],[93,11,96,12],[98,11,98,12],[101,0,101,10],[101,11,102,12],[102,3,102,4],[102,5,102,6],[102,7,102,8],[83,11,86,12],[88,11,88,12],[91,0,91,10],[91,11,92,12],[92,3,92,4],[92,5,92,6],[92,7,92,8],[73,11,76,12],[78,11,78,12],[81,0,81,10],[81,11,82,12],[82,3,82,4],[82,5,82,6],[82,7,82,8],[63,11,66,12],[68,11,68,12],[71,0,71,10],[71,11,72,12],[72,3,72,4],[72,5,72,6],[72,7,72,8],[53,11,56,12],[58,11,58,12],[61,0,61,10],[61,11,62,12],[62,3,62,4],[62,5,62,6],[62,7,62,8],[42,3,42,4],[42,5,42,6],[42,7,42,8],[41,11,42,12],[48,11,48,12],[43,11,46,12],[51,0,51,10],[51,11,52,12],[52,3,52,4],[52,5,52,6],[52,7,52,8]]}
["Kis iskolák LEÁNY egyéni és csapatversenye "]
[]
["Név","Sz.év","Kcs.","R. fut",null,"Távolugrás",null,"Klabdahajítás",null,"Összpont","helyezés","Iskola"]
[null,null,"I-II.",null,{"$f":"IF(D4<6.19,0,VLOOKUP(D4,rrfut,7,TRUE))","v":0},null,{"$f":"IF(F4<1.79,0,VLOOKUP(F4,távol,4,TRUE))","v":0},null,{"$f":"IF(H4<4,0,VLOOKUP(H4,kisl,2,TRUE))","v":0},{"$f":"SUM(E4,G4,I4)","v":0},{"$f":"RANK(J4,'E. II. kcs'!$J$3:$J$58,0)","v":17}]
["Molnár Dorka",2011,"I-II.",10.7,108,3.13,73,26.74,84,{"$f":"SUM(E5,G5,I5)","v":265},{"$f":"RANK(J5,'E. II. kcs'!$J$3:$J$58,0)","v":6},"BÁI Kakasd"]
["Fekete Aporka",2011,"I-II.",10.6,112,3.41,89,21.26,63,264,{"$f":"RANK(J6,'E. II. kcs'!$J$3:$J$58,0)","v":7},"BÁI Kakasd"]
["Szép Letícia",2011,"I-II.",10.1,134,3.16,75,16.600000000000001,45,254,{"$f":"RANK(J7,'E. II. kcs'!$J$3:$J$58,0)","v":10},"Decs"]
["Beck Tímea",2013,"I-II.",11,95,2.76,52,9.1999999999999993,18,165,{"$f":"RANK(J8,'E. II. kcs'!$J$3:$J$58,0)","v":14},"Várdomb"]
[null,null,"I-II.",null,0,null,0,null,0,0,{"$f":"RANK(J9,'E. II. kcs'!$J$3:$J$58,0)","v":17}]
[null,null,"I-II.",null,0,null,0,null,0,0,{"$f":"RANK(J10,'E. II. kcs'!$J$3:$J$58,0)","v":17}]
[null,null,"I-II.",null,0,null,0,null,0,0,{"$f":"RANK(J11,'E. II. kcs'!$J$3:$J$58,0)","v":17}]
[null,null,"I-II.",null,0,null,0,null,0,0,{"$f":"RANK(J12,'E. II. kcs'!$J$3:$J$58,0)","v":17}]
[null,null,"I-II.",null,0,null,0,null,0,0,{"$f":"RANK(J13,'E. II. kcs'!$J$3:$J$58,0)","v":17}]
[null,null,"I-II.",null,0,null,0,null,0,0,{"$f":"RANK(J14,'E. II. kcs'!$J$3:$J$58,0)","v":17}]
[null,null,"I-II.",null,0,null,{"$f":"IF(F15<1.79,0,VLOOKUP(F15,távol,4,TRUE))","v":0},null,{"$f":"IF(H15<4,0,VLOOKUP(H15,kisl,2,TRUE))","v":0},{"$f":"SUM(E15,G15,I15)","v":0},{"$f":"RANK(J15,'E. II. kcs'!$J$3:$J$58,0)","v":17}]
["László Amanda",2010,"III.",8.9,191,3.75,110,38.9,135,436,{"$f":"RANK(J16,'E. III. kcs'!$J$3:$J$58,0)","v":1},"cikó"]
[null,null,"III.",null,0,null,0,null,0,0,{"$f":"RANK(J17,'E. III. kcs'!$J$3:$J$58,0)","v":16}]
["Halvax Dominika",2010,"III.",9.5,161,3.41,89,22.12,66,316,{"$f":"RANK(J18,'E. III. kcs'!$J$3:$J$58,0)","v":8},"Decs"]
["Rofsics Vanessza",2010,"III.",9.8000000000000007,147,3.11,72,26.2,82,301,{"$f":"RANK(J19,'E. III. kcs'!$J$3:$J$58,0)","v":13},"Hőgyész"]
[null,null,"III.",null,0,null,0,null,0,0,{"$f":"RANK(J20,'E. III. kcs'!$J$3:$J$58,0)","v":16}]
[null,null,"III.",null,0,null,0,null,0,0,{"$f":"RANK(J21,'E. III. kcs'!$J$3:$J$58,0)","v":16}]
[null,null,"III.",null,0,null,0,null,0,0,{"$f":"RANK(J22,'E. III. kcs'!$J$3:$J$58,0)","v":16}]
[null,null,"III.",null,0,null,0,null,0,0,{"$f":"RANK(J23,'E. III. kcs'!$J$3:$J$58,0)","v":16}]
[null,null,"III.",null,0,null,0,null,0,0,{"$f":"RANK(J24,'E. III. kcs'!$J$3:$J$58,0)","v":16}]
[null,null,"III.",null,0,null,0,null,0,0,{"$f":"RANK(J25,'E. III. kcs'!$J$3:$J$58,0)","v":16}]
[null,null,"III.",null,0,null,0,null,0,0,{"$f":"RANK(J26,'E. III. kcs'!$J$3:$J$58,0)","v":16}]
[null,null,"III.",null,0,null,0,null,0,0,{"$f":"RANK(J27,'E. III. kcs'!$J$3:$J$58,0)","v":16}]
["Horváth Réka",2007,"IV.",15,{"$f":"IF(D28<6.19,0,VLOOKUP(D28,rfut,5,TRUE))","v":136},3.96,124,23.45,71,331,{"$f":"RANK(J28,'E. IV. kcs'!$J$3:$J$58,0)","v":6},"Hőgyész"]
["Kovács Ramóna",2007,"IV.",20,0,0,0,23.26,70,70,{"$f":"RANK(J29,'E. IV. kcs'!$J$3:$J$58,0)","v":17},"Hőgyész"]
["Auvalszki Renáta",2008,"IV.",16.3,88,2.8,54,25.76,80,222,{"$f":"RANK(J30,'E. IV. kcs'!$J$3:$J$58,0)","v":12},"Várdomb"]
["Pasztovszki Zsófia",2008,"IV.",18.7,9,2.57,41,20.97,61,111,{"$f":"RANK(J31,'E. IV. kcs'!$J$3:$J$58,0)","v":16},"Várdomb"]
["Varga Dóra",2008,"IV.",14.5,156,3.32,84,20,58,298,{"$f":"RANK(J32,'E. IV. kcs'!$J$3:$J$58,0)","v":8},"Decs"]
[null,null,"IV.",null,0,null,0,null,0,0,{"$f":"RANK(J33,'E. IV. kcs'!$J$3:$J$58,0)","v":18}]
[null,null,"IV.",null,0,null,0,null,0,0,{"$f":"RANK(J34,'E. IV. kcs'!$J$3:$J$58,0)","v":18}]
[null,null,"IV.",null,0,null,0,null,0,0,{"$f":"RANK(J35,'E. IV. kcs'!$J$3:$J$58,0)","v":18}]
[null,null,"IV.",null,0,null,0,null,0,0,{"$f":"RANK(J36,'E. IV. kcs'!$J$3:$J$58,0)","v":18}]
[null,null,"IV.",null,0,null,0,null,0,0,{"$f":"RANK(J37,'E. IV. kcs'!$J$3:$J$58,0)","v":18}]
[null,null,"IV.",null,0,null,0,null,0,0,{"$f":"RANK(J38,'E. IV. kcs'!$J$3:$J$58,0)","v":18}]
[null,null,"IV.",null,0,null,0,null,0,0,{"$f":"RANK(J39,'E. IV. kcs'!$J$3:$J$58,0)","v":18}]
[]
[]
["Teveli Ált. Isk",null,null,null,null,null,null,null,null,null,null,{"$f":"RANK(L44,Csapat!$C$3:P30,0)","v":4}]
["Név","Sz.év","Kcs.","R. futás",null,"Távolugrás",null,"Klabdahajítás",null,"Összpont","Helyezés"]
["Velikán Nóra",2013,"I-II.",11.8,{"$f":"IF(D44<6.19,0,VLOOKUP(D44,rrfut,7,TRUE))","v":63},2.62,{"$f":"IF(F44<1.79,0,VLOOKUP(F44,távol,4,TRUE))","v":44},19.07,{"$f":"IF(H44<4,0,VLOOKUP(H44,kisl,2,TRUE))","v":54},{"$f":"SUM(E44,G44,I44)","v":161},{"$f":"RANK(J44,'E. II. kcs'!$J$3:$J$58,0)","v":15},{"$f":"SUM(J44:J49)","v":1795}]
["Nagy Nóra Veronika",2011,"I-II.",9.5,{"$f":"IF(D45<6.19,0,VLOOKUP(D45,rrfut,7,TRUE))","v":161},3.62,102,20.65,60,{"$f":"SUM(E45,G45,I45)","v":323},{"$f":"RANK(J45,'E. II. kcs'!$J$3:$J$58,0)","v":1}]
["Csobot Léna Viktória",2010,"III.",9.6999999999999993,{"$f":"IF(D46<6.19,0,VLOOKUP(D46,rrfut,7,TRUE))","v":152},3.74,109,26.8,84,345,{"$f":"RANK(J46,'E. III. kcs'!$J$3:$J$58,0)","v":5}]
["Salamon Csenge",2009,"III.",9.6999999999999993,{"$f":"IF(D47<6.19,0,VLOOKUP(D47,rrfut,7,TRUE))","v":152},3.48,93,32.700000000000003,108,353,{"$f":"RANK(J47,'E. III. kcs'!$J$3:$J$58,0)","v":4}]
["Éri Boglárka",2008,"IV.",14.9,{"$f":"IF(D48<6.19,0,VLOOKUP(D48,rfut,5,TRUE))","v":140},3.77,111,27.29,86,337,{"$f":"RANK(J48,'E. IV. kcs'!$J$3:$J$58,0)","v":4}]
["Erb Zsüliett",2008,"IV.",16.399999999999999,{"$f":"IF(D49<6.19,0,VLOOKUP(D49,rfut,5,TRUE))","v":85},3.3,83,32.65,108,276,{"$f":"RANK(J49,'E. IV. kcs'!$J$3:$J$58,0)","v":9}]
[]
[]
["Várdomb-Alsónána Ált. Isk.",null,null,null,null,null,null,null,null,null,null,{"$f":"RANK(L54,Csapat!$C$3:P40,0)","v":6}]
["Név","Sz.év","Kcs.","R. futás",null,"Távolugrás",null,"Klabdahajítás",null,"Összpont","Helyezés"]
["Karácsony Dorina",2013,"I-II.",11.6,{"$f":"IF(D54<6.19,0,VLOOKUP(D54,rrfut,7,TRUE))","v":71},2.31,{"$f":"IF(F54<1.79,0,VLOOKUP(F54,távol,4,TRUE))","v":27},15.64,{"$f":"IF(H54<4,0,VLOOKUP(H54,kisl,2,TRUE))","v":41},{"$f":"SUM(E54,G54,I54)","v":139},{"$f":"RANK(J54,'E. II. kcs'!$J$3:$J$58,0)","v":16},{"$f":"SUM(J54:J59)","v":1332}]
["Berecz Mercédesz",2012,"I-II.",10.8,{"$f":"IF(D55<6.19,0,VLOOKUP(D55,rrfut,7,TRUE))","v":103},2.4,32,19.3,55,{"$f":"SUM(E55,G55,I55)","v":190},{"$f":"RANK(J55,'E. II. kcs'!$J$3:$J$58,0)","v":13}]
["Péter Vivien",2010,"III.",9.5,{"$f":"IF(D56<6.19,0,VLOOKUP(D56,rrfut,7,TRUE))","v":161},3.48,93,18.68,52,306,{"$f":"RANK(J56,'E. III. kcs'!$J$3:$J$58,0)","v":11}]
["Sárközi Angéla",2009,"III.",9.3000000000000007,{"$f":"IF(D57<6.19,0,VLOOKUP(D57,rrfut,7,TRUE))","v":171},3.1,71,20.64,60,302,{"$f":"RANK(J57,'E. III. kcs'!$J$3:$J$58,0)","v":12}]
["Keinráth Anna",2007,"IV.",16.600000000000001,{"$f":"IF(D58<6.19,0,VLOOKUP(D58,rfut,5,TRUE))","v":78},2.72,49,26.86,85,212,{"$f":"RANK(J58,'E. IV. kcs'!$J$3:$J$58,0)","v":14}]
["Medveczki Dóra",2007,"IV.",18.8,6,3.08,70,32.299999999999997,107,183,{"$f":"RANK(J59,'E. IV. kcs'!$J$3:$J$58,0)","v":15}]
[]
[]
["Hőgyészi Hegyhát Ált. Isk. ",null,null,null,null,null,null,null,null,null,null,{"$f":"RANK(L64,Csapat!$C$3:P50,0)","v":1}]
["Név","Sz.év","Kcs.","R. futás",null,"Távolugrás",null,"Klabdahajítás",null,"Összpont","Helyezés"]
["Horváth Dzsenifer",2011,"I-II.",10,{"$f":"IF(D64<6.19,0,VLOOKUP(D64,rrfut,7,TRUE))","v":138},3.11,{"$f":"IF(F64<1.79,0,VLOOKUP(F64,távol,4,TRUE))","v":72},30.82,{"$f":"IF(H64<4,0,VLOOKUP(H64,kisl,2,TRUE))","v":100},{"$f":"SUM(E64,G64,I64)","v":310},{"$f":"RANK(J64,'E. II. kcs'!$J$3:$J$58,0)","v":3},{"$f":"SUM(J64:J69)","v":1934}]
["Pallag Vivien",2011,"I-II.",10.5,{"$f":"IF(D65<6.19,0,VLOOKUP(D65,rrfut,7,TRUE))","v":116},2.81,54,22.35,67,{"$f":"SUM(E65,G65,I65)","v":237},{"$f":"RANK(J65,'E. II. kcs'!$J$3:$J$58,0)","v":11}]
["Rofrics Fatima",2010,"III.",8.9,{"$f":"IF(D66<6.19,0,VLOOKUP(D66,rrfut,7,TRUE))","v":191},3.61,101,36.14,123,415,{"$f":"RANK(J66,'E. III. kcs'!$J$3:$J$58,0)","v":2}]
["Tóth-Bera Dzsenifer",2009,"III.",9.07,{"$f":"IF(D67<6.19,0,VLOOKUP(D67,rrfut,7,TRUE))","v":182},2.89,59,26.6,84,325,{"$f":"RANK(J67,'E. III. kcs'!$J$3:$J$58,0)","v":7}]
["Bordás Lara",2008,"IV.",15.3,{"$f":"IF(D68<6.19,0,VLOOKUP(D68,rfut,5,TRUE))","v":125},3.74,109,30.24,98,332,{"$f":"RANK(J68,'E. IV. kcs'!$J$3:$J$58,0)","v":5}]
["Orsós Nikoletta",2008,"IV.",17,64,3.78,112,39.950000000000003,139,315,{"$f":"RANK(J69,'E. IV. kcs'!$J$3:$J$58,0)","v":7}]
[]
[]
["Kölesdi Béri Balogh Ádám Ált. Isk.",null,null,null,null,null,null,null,null,null,null,{"$f":"RANK(L74,Csapat!$C$3:P60,0)","v":2}]
["Név","Sz.év","Kcs.","R. futás",null,"Távolugrás",null,"Klabdahajítás",null,"Összpont","Helyezés"]
["Barkóczi Hanna",2012,"I-II.",11,{"$f":"IF(D74<6.19,0,VLOOKUP(D74,rrfut,7,TRUE))","v":95},2.84,{"$f":"IF(F74<1.79,0,VLOOKUP(F74,távol,4,TRUE))","v":56},18.64,{"$f":"IF(H74<4,0,VLOOKUP(H74,kisl,2,TRUE))","v":52},{"$f":"SUM(E74,G74,I74)","v":203},{"$f":"RANK(J74,'E. II. kcs'!$J$3:$J$58,0)","v":12},{"$f":"SUM(J74:J79)","v":1847}]
["Szalai Izabella Dzsenna",2011,"I-II.",10.5,{"$f":"IF(D75<6.19,0,VLOOKUP(D75,rrfut,7,TRUE))","v":116},3.02,67,25.7,80,{"$f":"SUM(E75,G75,I75)","v":263},{"$f":"RANK(J75,'E. II. kcs'!$J$3:$J$58,0)","v":9}]
["Bencze Vanessza Mária",2009,"III.",9.5,{"$f":"IF(D76<6.19,0,VLOOKUP(D76,rrfut,7,TRUE))","v":161},2.77,52,27.3,86,299,{"$f":"RANK(J76,'E. III. kcs'!$J$3:$J$58,0)","v":14}]
["Féder Jázmin",2009,"III.",10,{"$f":"IF(D77<6.19,0,VLOOKUP(D77,rrfut,7,TRUE))","v":138},3.52,96,25.1,78,312,{"$f":"RANK(J77,'E. III. kcs'!$J$3:$J$58,0)","v":9}]
["Bán Dzsenifer Réka",2007,"IV.",14.7,{"$f":"IF(D78<6.19,0,VLOOKUP(D78,rfut,5,TRUE))","v":147},4.32,147,34.159999999999997,115,409,{"$f":"RANK(J78,'E. IV. kcs'!$J$3:$J$58,0)","v":1}]
["Kalmár Zsófia ",2007,"IV.",14.6,151,3.72,108,31.2,102,361,{"$f":"RANK(J79,'E. IV. kcs'!$J$3:$J$58,0)","v":3}]
[]
[]
["BÁI Kakasd",null,null,null,null,null,null,null,null,null,null,{"$f":"RANK(L84,Csapat!$C$3:P70,0)","v":3}]
["Név","Sz.év","Kcs.","R. futás",null,"Távolugrás",null,"Klabdahajítás",null,"Összpont","Helyezés"]
["Szabó Csenge",2012,"I-II.",10.4,{"$f":"IF(D84<6.19,0,VLOOKUP(D84,rrfut,7,TRUE))","v":121},3.61,{"$f":"IF(F84<1.79,0,VLOOKUP(F84,távol,4,TRUE))","v":101},22.4,{"$f":"IF(H84<4,0,VLOOKUP(H84,kisl,2,TRUE))","v":67},{"$f":"SUM(E84,G84,I84)","v":289},{"$f":"RANK(J84,'E. II. kcs'!$J$3:$J$58,0)","v":5},{"$f":"SUM(J84:J89)","v":1838}]
["Dunai Inez",2011,"I-II.",9.8000000000000007,{"$f":"IF(D85<6.19,0,VLOOKUP(D85,rrfut,7,TRUE))","v":147},3.22,78,28.05,89,{"$f":"SUM(E85,G85,I85)","v":314},{"$f":"RANK(J85,'E. II. kcs'!$J$3:$J$58,0)","v":2}]
["Paróczai Dana Eszter",2010,"III.",9.4,{"$f":"IF(D86<6.19,0,VLOOKUP(D86,rrfut,7,TRUE))","v":166},3.66,104,23.28,71,341,{"$f":"RANK(J86,'E. III. kcs'!$J$3:$J$58,0)","v":6}]
["Plózel Anna",2010,"III.",10,{"$f":"IF(D87<6.19,0,VLOOKUP(D87,rrfut,7,TRUE))","v":138},2.94,62,23.79,73,273,{"$f":"RANK(J87,'E. III. kcs'!$J$3:$J$58,0)","v":15}]
["Pesti Lívia",2008,"IV.",17,{"$f":"IF(D88<6.19,0,VLOOKUP(D88,rfut,5,TRUE))","v":64},3.39,88,26.55,83,235,{"$f":"RANK(J88,'E. IV. kcs'!$J$3:$J$58,0)","v":11}]
["Kolozsvári Hilcz Kitti",2007,"IV.",14.4,160,3.92,121,31.95,105,386,{"$f":"RANK(J89,'E. IV. kcs'!$J$3:$J$58,0)","v":2}]
[]
[]
["Őcsényi Perczel Mór Ált. Isk.",null,null,null,null,null,null,null,null,null,null,{"$f":"RANK(L94,Csapat!$C$3:P80,0)","v":5}]
["Név","Sz.év","Kcs.","R. futás",null,"Távolugrás",null,"Klabdahajítás",null,"Összpont","Helyezés"]
["Tóth Míra Maja",2012,"I-II.",9.5,{"$f":"IF(D94<6.19,0,VLOOKUP(D94,rrfut,7,TRUE))","v":161},3.43,{"$f":"IF(F94<1.79,0,VLOOKUP(F94,távol,4,TRUE))","v":91},18.03,{"$f":"IF(H94<4,0,VLOOKUP(H94,kisl,2,TRUE))","v":50},{"$f":"SUM(E94,G94,I94)","v":302},{"$f":"RANK(J94,'E. II. kcs'!$J$3:$J$58,0)","v":4},{"$f":"SUM(J94:J99)","v":1694}]
["Kulcsár Lilien",2011,"I-II.",10.4,{"$f":"IF(D95<6.19,0,VLOOKUP(D95,rrfut,7,TRUE))","v":121},2.87,58,27,85,{"$f":"SUM(E95,G95,I95)","v":264},{"$f":"RANK(J95,'E. II. kcs'!$J$3:$J$58,0)","v":7}]
["Lakó Csenge",2009,"III.",9.8000000000000007,{"$f":"IF(D96<6.19,0,VLOOKUP(D96,rrfut,7,TRUE))","v":147},4.03,128,27.28,86,361,{"$f":"RANK(J96,'E. III. kcs'!$J$3:$J$58,0)","v":3}]
["Sági Tímea",2009,"III.",9.6999999999999993,{"$f":"IF(D97<6.19,0,VLOOKUP(D97,rrfut,7,TRUE))","v":152},3.56,98,20.5,60,310,{"$f":"RANK(J97,'E. III. kcs'!$J$3:$J$58,0)","v":10}]
["Gellér Fanni",2007,"IV.",16.2,{"$f":"IF(D98<6.19,0,VLOOKUP(D98,rfut,5,TRUE))","v":91},3.58,99,18.05,50,240,{"$f":"RANK(J98,'E. IV. kcs'!$J$3:$J$58,0)","v":10}]
["Naszvadi Hunorka",2007,"IV.",17.2,57,3.56,98,21.07,62,217,{"$f":"RANK(J99,'E. IV. kcs'!$J$3:$J$58,0)","v":13}]
[]
[]
[null,null,null,null,null,null,null,null,null,null,null,{"$f":"RANK(L104,Csapat!$C$3:P90,0)","v":7}]
["Név","Sz.év","Kcs.","R. futás",null,"Távolugrás",null,"Klabdahajítás",null,"Összpont","Helyezés"]
[null,null,"I-II.",null,{"$f":"IF(D104<6.19,0,VLOOKUP(D104,rrfut,7,TRUE))","v":0},null,{"$f":"IF(F104<1.79,0,VLOOKUP(F104,távol,4,TRUE))","v":0},null,{"$f":"IF(H104<4,0,VLOOKUP(H104,kisl,2,TRUE))","v":0},{"$f":"SUM(E104,G104,I104)","v":0},{"$f":"RANK(J104,'E. II. kcs'!$J$3:$J$58,0)","v":17},{"$f":"SUM(J104:J109)","v":0}]
[null,null,"I-II.",null,{"$f":"IF(D105<6.19,0,VLOOKUP(D105,rrfut,7,TRUE))","v":0},null,0,null,0,{"$f":"SUM(E105,G105,I105)","v":0},{"$f":"RANK(J105,'E. II. kcs'!$J$3:$J$58,0)","v":17}]
[null,null,"III.",null,{"$f":"IF(D106<6.19,0,VLOOKUP(D106,rrfut,7,TRUE))","v":0},null,0,null,0,0,{"$f":"RANK(J106,'E. III. kcs'!$J$3:$J$58,0)","v":16}]
[null,null,"III.",null,{"$f":"IF(D107<6.19,0,VLOOKUP(D107,rrfut,7,TRUE))","v":0},null,0,null,0,0,{"$f":"RANK(J107,'E. III. kcs'!$J$3:$J$58,0)","v":16}]
[null,null,"IV.",null,{"$f":"IF(D108<6.19,0,VLOOKUP(D108,rfut,5,TRUE))","v":0},null,0,null,0,0,{"$f":"RANK(J108,'E. IV. kcs'!$J$3:$J$58,0)","v":18}]
[null,null,"IV.",null,0,null,0,null,0,0,{"$f":"RANK(J109,'E. IV. kcs'!$J$3:$J$58,0)","v":18}]
[]
[]
[null,null,null,null,null,null,null,null,null,null,null,{"$f":"RANK(L114,Csapat!$C$3:P100,0)","v":7}]
["Név","Sz.év","Kcs.","R. futás",null,"Távolugrás",null,"Klabdahajítás",null,"Összpont","Helyezés"]
[null,null,"I-II.",null,{"$f":"IF(D114<6.19,0,VLOOKUP(D114,rrfut,7,TRUE))","v":0},null,{"$f":"IF(F114<1.79,0,VLOOKUP(F114,távol,4,TRUE))","v":0},null,{"$f":"IF(H114<4,0,VLOOKUP(H114,kisl,2,TRUE))","v":0},{"$f":"SUM(E114,G114,I114)","v":0},{"$f":"RANK(J114,'E. II. kcs'!$J$3:$J$58,0)","v":17},{"$f":"SUM(J114:J119)","v":0}]
[null,null,"I-II.",null,{"$f":"IF(D115<6.19,0,VLOOKUP(D115,rrfut,7,TRUE))","v":0},null,0,null,0,{"$f":"SUM(E115,G115,I115)","v":0},{"$f":"RANK(J115,'E. II. kcs'!$J$3:$J$58,0)","v":17}]
[null,null,"III.",null,{"$f":"IF(D116<6.19,0,VLOOKUP(D116,rrfut,7,TRUE))","v":0},null,0,null,0,0,{"$f":"RANK(J116,'E. III. kcs'!$J$3:$J$58,0)","v":16}]
[null,null,"III.",null,{"$f":"IF(D117<6.19,0,VLOOKUP(D117,rrfut,7,TRUE))","v":0},null,0,null,0,0,{"$f":"RANK(J117,'E. III. kcs'!$J$3:$J$58,0)","v":16}]
[null,null,"IV.",null,{"$f":"IF(D118<6.19,0,VLOOKUP(D118,rfut,5,TRUE))","v":0},null,0,null,0,0,{"$f":"RANK(J118,'E. IV. kcs'!$J$3:$J$58,0)","v":18}]
[null,null,"IV.",null,0,null,0,null,0,0,{"$f":"RANK(J119,'E. IV. kcs'!$J$3:$J$58,0)","v":18}]
[]
[]
[null,null,null,null,null,null,null,null,null,null,null,{"$f":"RANK(L124,Csapat!$C$3:P110,0)","v":7}]
["Név","Sz.év","Kcs.","R. futás",null,"Távolugrás",null,"Klabdahajítás",null,"Összpont","Helyezés"]
[null,null,"I-II.",null,{"$f":"IF(D124<6.19,0,VLOOKUP(D124,rrfut,7,TRUE))","v":0},null,{"$f":"IF(F124<1.79,0,VLOOKUP(F124,távol,4,TRUE))","v":0},null,{"$f":"IF(H124<4,0,VLOOKUP(H124,kisl,2,TRUE))","v":0},{"$f":"SUM(E124,G124,I124)","v":0},{"$f":"RANK(J124,'E. II. kcs'!$J$3:$J$58,0)","v":17},{"$f":"SUM(J124:J129)","v":0}]
[null,null,"I-II.",null,{"$f":"IF(D125<6.19,0,VLOOKUP(D125,rrfut,7,TRUE))","v":0},null,0,null,0,{"$f":"SUM(E125,G125,I125)","v":0},{"$f":"RANK(J125,'E. II. kcs'!$J$3:$J$58,0)","v":17}]
[null,null,"III.",null,{"$f":"IF(D126<6.19,0,VLOOKUP(D126,rrfut,7,TRUE))","v":0},null,0,null,0,0,{"$f":"RANK(J126,'E. III. kcs'!$J$3:$J$58,0)","v":16}]
[null,null,"III.",null,{"$f":"IF(D127<6.19,0,VLOOKUP(D127,rrfut,7,TRUE))","v":0},null,0,null,0,0,{"$f":"RANK(J127,'E. III. kcs'!$J$3:$J$58,0)","v":16}]
[null,null,"IV.",null,{"$f":"IF(D128<6.19,0,VLOOKUP(D128,rfut,5,TRUE))","v":0},null,0,null,0,0,{"$f":"RANK(J128,'E. IV. kcs'!$J$3:$J$58,0)","v":18}]
[null,null,"IV.",null,0,null,0,null,0,0,{"$f":"RANK(J129,'E. IV. kcs'!$J$3:$J$58,0)","v":18}]
[]
[]
[null,null,null,null,null,null,null,null,null,null,null,{"$f":"RANK(L134,Csapat!$C$3:P120,0)","v":7}]
["Név","Sz.év","Kcs.","R. futás",null,"Távolugrás",null,"Klabdahajítás",null,"Összpont","Helyezés"]
[null,null,"I-II.",null,{"$f":"IF(D134<6.19,0,VLOOKUP(D134,rrfut,7,TRUE))","v":0},null,{"$f":"IF(F134<1.79,0,VLOOKUP(F134,távol,4,TRUE))","v":0},null,{"$f":"IF(H134<4,0,VLOOKUP(H134,kisl,2,TRUE))","v":0},{"$f":"SUM(E134,G134,I134)","v":0},{"$f":"RANK(J134,'E. II. kcs'!$J$3:$J$58,0)","v":17},{"$f":"SUM(J134:J139)","v":0}]
[null,null,"I-II.",null,{"$f":"IF(D135<6.19,0,VLOOKUP(D135,rrfut,7,TRUE))","v":0},null,0,null,0,{"$f":"SUM(E135,G135,I135)","v":0},{"$f":"RANK(J135,'E. II. kcs'!$J$3:$J$58,0)","v":17}]
[null,null,"III.",null,{"$f":"IF(D136<6.19,0,VLOOKUP(D136,rrfut,7,TRUE))","v":0},null,0,null,0,0,{"$f":"RANK(J136,'E. III. kcs'!$J$3:$J$58,0)","v":16}]
[null,null,"III.",null,{"$f":"IF(D137<6.19,0,VLOOKUP(D137,rrfut,7,TRUE))","v":0},null,0,null,0,0,{"$f":"RANK(J137,'E. III. kcs'!$J$3:$J$58,0)","v":16}]
[null,null,"IV.",null,{"$f":"IF(D138<6.19,0,VLOOKUP(D138,rfut,5,TRUE))","v":0},null,0,null,0,0,{"$f":"RANK(J138,'E. IV. kcs'!$J$3:$J$58,0)","v":18}]
[null,null,"IV.",null,0,null,0,null,0,0,{"$f":"RANK(J139,'E. IV. kcs'!$J$3:$J$58,0)","v":18}]
[]
[]
[null,null,null,null,null,null,null,null,null,null,null,{"$f":"RANK(L144,Csapat!$C$3:P130,0)","v":7}]
["Név","Sz.év","Kcs.","R. futás",null,"Távolugrás",null,"Klabdahajítás",null,"Összpont","Helyezés"]
[null,null,"I-II.",null,{"$f":"IF(D144<6.19,0,VLOOKUP(D144,rrfut,7,TRUE))","v":0},null,{"$f":"IF(F144<1.79,0,VLOOKUP(F144,távol,4,TRUE))","v":0},null,{"$f":"IF(H144<4,0,VLOOKUP(H144,kisl,2,TRUE))","v":0},{"$f":"SUM(E144,G144,I144)","v":0},{"$f":"RANK(J144,'E. II. kcs'!$J$3:$J$58,0)","v":17},{"$f":"SUM(J144:J149)","v":0}]
[null,null,"I-II.",null,{"$f":"IF(D145<6.19,0,VLOOKUP(D145,rrfut,7,TRUE))","v":0},null,0,null,0,{"$f":"SUM(E145,G145,I145)","v":0},{"$f":"RANK(J145,'E. II. kcs'!$J$3:$J$58,0)","v":17}]
[null,null,"III.",null,{"$f":"IF(D146<6.19,0,VLOOKUP(D146,rrfut,7,TRUE))","v":0},null,0,null,0,0,{"$f":"RANK(J146,'E. III. kcs'!$J$3:$J$58,0)","v":16}]
[null,null,"III.",null,{"$f":"IF(D147<6.19,0,VLOOKUP(D147,rrfut,7,TRUE))","v":0},null,0,null,0,0,{"$f":"RANK(J147,'E. III. kcs'!$J$3:$J$58,0)","v":16}]
[null,null,"IV.",null,{"$f":"IF(D148<6.19,0,VLOOKUP(D148,rfut,5,TRUE))","v":0},null,0,null,0,0,{"$f":"RANK(J148,'E. IV. kcs'!$J$3:$J$58,0)","v":18}]
[null,null,"IV.",null,0,null,0,null,0,0,{"$f":"RANK(J149,'E. IV. kcs'!$J$3:$J$58,0)","v":18}]
[]
[]
[null,null,null,null,null,null,null,null,null,null,null,{"$f":"RANK(L154,Csapat!$C$3:P140,0)","v":7}]
["Név","Sz.év","Kcs.","R. futás",null,"Távolugrás",null,"Klabdahajítás",null,"Összpont","Helyezés"]
[null,null,"I-II.",null,{"$f":"IF(D154<6.19,0,VLOOKUP(D154,rrfut,7,TRUE))","v":0},null,{"$f":"IF(F154<1.79,0,VLOOKUP(F154,távol,4,TRUE))","v":0},null,{"$f":"IF(H154<4,0,VLOOKUP(H154,kisl,2,TRUE))","v":0},{"$f":"SUM(E154,G154,I154)","v":0},{"$f":"RANK(J154,'E. II. kcs'!$J$3:$J$58,0)","v":17},{"$f":"SUM(J154:J159)","v":0}]
[null,null,"I-II.",null,{"$f":"IF(D155<6.19,0,VLOOKUP(D155,rrfut,7,TRUE))","v":0},null,0,null,0,{"$f":"SUM(E155,G155,I155)","v":0},{"$f":"RANK(J155,'E. II. kcs'!$J$3:$J$58,0)","v":17}]
[null,null,"III.",null,{"$f":"IF(D156<6.19,0,VLOOKUP(D156,rrfut,7,TRUE))","v":0},null,0,null,0,0,{"$f":"RANK(J156,'E. III. kcs'!$J$3:$J$58,0)","v":16}]
[null,null,"III.",null,{"$f":"IF(D157<6.19,0,VLOOKUP(D157,rrfut,7,TRUE))","v":0},null,0,null,0,0,{"$f":"RANK(J157,'E. III. kcs'!$J$3:$J$58,0)","v":16}]
[null,null,"IV.",null,{"$f":"IF(D158<6.19,0,VLOOKUP(D158,rfut,5,TRUE))","v":0},null,0,null,0,0,{"$f":"RANK(J158,'E. IV. kcs'!$J$3:$J$58,0)","v":18}]
[null,null,"IV.",null,0,null,0,null,0,0,{"$f":"RANK(J159,'E. IV. kcs'!$J$3:$J$58,0)","v":18}]
[]
[]
[null,null,null,null,null,null,null,null,null,null,null,{"$f":"RANK(L164,Csapat!$C$3:P150,0)","v":7}]
["Név","Sz.év","Kcs.","R. futás",null,"Távolugrás",null,"Klabdahajítás",null,"Összpont","Helyezés"]
[null,null,"I-II.",null,{"$f":"IF(D164<6.19,0,VLOOKUP(D164,rrfut,7,TRUE))","v":0},null,{"$f":"IF(F164<1.79,0,VLOOKUP(F164,távol,4,TRUE))","v":0},null,{"$f":"IF(H164<4,0,VLOOKUP(H164,kisl,2,TRUE))","v":0},{"$f":"SUM(E164,G164,I164)","v":0},{"$f":"RANK(J164,'E. II. kcs'!$J$3:$J$58,0)","v":17},{"$f":"SUM(J164:J169)","v":0}]
[null,null,"I-II.",null,{"$f":"IF(D165<6.19,0,VLOOKUP(D165,rrfut,7,TRUE))","v":0},null,0,null,0,{"$f":"SUM(E165,G165,I165)","v":0},{"$f":"RANK(J165,'E. II. kcs'!$J$3:$J$58,0)","v":17}]
[null,null,"III.",null,{"$f":"IF(D166<6.19,0,VLOOKUP(D166,rrfut,7,TRUE))","v":0},null,0,null,0,0,{"$f":"RANK(J166,'E. III. kcs'!$J$3:$J$58,0)","v":16}]
[null,null,"III.",null,{"$f":"IF(D167<6.19,0,VLOOKUP(D167,rrfut,7,TRUE))","v":0},null,0,null,0,0,{"$f":"RANK(J167,'E. III. kcs'!$J$3:$J$58,0)","v":16}]
[null,null,"IV.",null,{"$f":"IF(D168<6.19,0,VLOOKUP(D168,rfut,5,TRUE))","v":0},null,0,null,0,0,{"$f":"RANK(J168,'E. IV. kcs'!$J$3:$J$58,0)","v":18}]
[null,null,"IV.",null,0,null,0,null,0,0,{"$f":"RANK(J169,'E. IV. kcs'!$J$3:$J$58,0)","v":18}]
[]
[]
[null,null,null,null,null,null,null,null,null,null,null,{"$f":"RANK(L174,Csapat!$C$3:P160,0)","v":7}]
["Név","Sz.év","Kcs.","R. futás",null,"Távolugrás",null,"Klabdahajítás",null,"Összpont","Helyezés"]
[null,null,"I-II.",null,{"$f":"IF(D174<6.19,0,VLOOKUP(D174,rrfut,7,TRUE))","v":0},null,{"$f":"IF(F174<1.79,0,VLOOKUP(F174,távol,4,TRUE))","v":0},null,{"$f":"IF(H174<4,0,VLOOKUP(H174,kisl,2,TRUE))","v":0},{"$f":"SUM(E174,G174,I174)","v":0},{"$f":"RANK(J174,'E. II. kcs'!$J$3:$J$58,0)","v":17},{"$f":"SUM(J174:J179)","v":0}]
[null,null,"I-II.",null,{"$f":"IF(D175<6.19,0,VLOOKUP(D175,rrfut,7,TRUE))","v":0},null,0,null,0,{"$f":"SUM(E175,G175,I175)","v":0},{"$f":"RANK(J175,'E. II. kcs'!$J$3:$J$58,0)","v":17}]
[null,null,"III.",null,{"$f":"IF(D176<6.19,0,VLOOKUP(D176,rrfut,7,TRUE))","v":0},null,0,null,0,0,{"$f":"RANK(J176,'E. III. kcs'!$J$3:$J$58,0)","v":16}]
[null,null,"III.",null,{"$f":"IF(D177<6.19,0,VLOOKUP(D177,rrfut,7,TRUE))","v":0},null,0,null,0,0,{"$f":"RANK(J177,'E. III. kcs'!$J$3:$J$58,0)","v":16}]
[null,null,"IV.",null,{"$f":"IF(D178<6.19,0,VLOOKUP(D178,rfut,5,TRUE))","v":0},null,0,null,0,0,{"$f":"RANK(J178,'E. IV. kcs'!$J$3:$J$58,0)","v":18}]
[null,null,"IV.",null,0,null,0,null,0,0,{"$f":"RANK(J179,'E. IV. kcs'!$J$3:$J$58,0)","v":18}]
[]
[]
[null,null,null,null,null,null,null,null,null,null,null,{"$f":"RANK(L184,Csapat!$C$3:P170,0)","v":7}]
["Név","Sz.év","Kcs.","R. futás",null,"Távolugrás",null,"Klabdahajítás",null,"Összpont","Helyezés"]
[null,null,"I-II.",null,{"$f":"IF(D184<6.19,0,VLOOKUP(D184,rrfut,7,TRUE))","v":0},null,{"$f":"IF(F184<1.79,0,VLOOKUP(F184,távol,4,TRUE))","v":0},null,{"$f":"IF(H184<4,0,VLOOKUP(H184,kisl,2,TRUE))","v":0},{"$f":"SUM(E184,G184,I184)","v":0},{"$f":"RANK(J184,'E. II. kcs'!$J$3:$J$58,0)","v":17},{"$f":"SUM(J184:J189)","v":0}]
[null,null,"I-II.",null,{"$f":"IF(D185<6.19,0,VLOOKUP(D185,rrfut,7,TRUE))","v":0},null,0,null,0,{"$f":"SUM(E185,G185,I185)","v":0},{"$f":"RANK(J185,'E. II. kcs'!$J$3:$J$58,0)","v":17}]
[null,null,"III.",null,{"$f":"IF(D186<6.19,0,VLOOKUP(D186,rrfut,7,TRUE))","v":0},null,0,null,0,0,{"$f":"RANK(J186,'E. III. kcs'!$J$3:$J$58,0)","v":16}]
[null,null,"III.",null,{"$f":"IF(D187<6.19,0,VLOOKUP(D187,rrfut,7,TRUE))","v":0},null,0,null,0,0,{"$f":"RANK(J187,'E. III. kcs'!$J$3:$J$58,0)","v":16}]
[null,null,"IV.",null,{"$f":"IF(D188<6.19,0,VLOOKUP(D188,rfut,5,TRUE))","v":0},null,0,null,0,0,{"$f":"RANK(J188,'E. IV. kcs'!$J$3:$J$58,0)","v":18}]
[null,null,"IV.",null,0,null,0,null,0,0,{"$f":"RANK(J189,'E. IV. kcs'!$J$3:$J$58,0)","v":18}]
[]
[]
[null,null,null,null,null,null,null,null,null,null,null,{"$f":"RANK(L194,Csapat!$C$3:P180,0)","v":7}]
["Név","Sz.év","Kcs.","R. futás",null,"Távolugrás",null,"Klabdahajítás",null,"Összpont","Helyezés"]
[null,null,"I-II.",null,{"$f":"IF(D194<6.19,0,VLOOKUP(D194,rrfut,7,TRUE))","v":0},null,{"$f":"IF(F194<1.79,0,VLOOKUP(F194,távol,4,TRUE))","v":0},null,{"$f":"IF(H194<4,0,VLOOKUP(H194,kisl,2,TRUE))","v":0},{"$f":"SUM(E194,G194,I194)","v":0},{"$f":"RANK(J194,'E. II. kcs'!$J$3:$J$58,0)","v":17},{"$f":"SUM(J194:J199)","v":0}]
[null,null,"I-II.",null,{"$f":"IF(D195<6.19,0,VLOOKUP(D195,rrfut,7,TRUE))","v":0},null,0,null,0,{"$f":"SUM(E195,G195,I195)","v":0},{"$f":"RANK(J195,'E. II. kcs'!$J$3:$J$58,0)","v":17}]
[null,null,"III.",null,{"$f":"IF(D196<6.19,0,VLOOKUP(D196,rrfut,7,TRUE))","v":0},null,0,null,0,0,{"$f":"RANK(J196,'E. III. kcs'!$J$3:$J$58,0)","v":16}]
[null,null,"III.",null,{"$f":"IF(D197<6.19,0,VLOOKUP(D197,rrfut,7,TRUE))","v":0},null,0,null,0,0,{"$f":"RANK(J197,'E. III. kcs'!$J$3:$J$58,0)","v":16}]
[null,null,"IV.",null,{"$f":"IF(D198<6.19,0,VLOOKUP(D198,rfut,5,TRUE))","v":0},null,0,null,0,0,{"$f":"RANK(J198,'E. IV. kcs'!$J$3:$J$58,0)","v":18}]
[null,null,"IV.",null,0,null,0,null,0,0,{"$f":"RANK(J199,'E. IV. kcs'!$J$3:$J$58,0)","v":18}]
[]
[]
[null,null,null,null,null,null,null,null,null,null,null,{"$f":"RANK(L204,Csapat!$C$3:P190,0)","v":7}]
["Név","Sz.év","Kcs.","R. futás",null,"Távolugrás",null,"Klabdahajítás",null,"Összpont","Helyezés"]
[null,null,"I-II.",null,{"$f":"IF(D204<6.19,0,VLOOKUP(D204,rrfut,7,TRUE))","v":0},null,{"$f":"IF(F204<1.79,0,VLOOKUP(F204,távol,4,TRUE))","v":0},null,{"$f":"IF(H204<4,0,VLOOKUP(H204,kisl,2,TRUE))","v":0},{"$f":"SUM(E204,G204,I204)","v":0},{"$f":"RANK(J204,'E. II. kcs'!$J$3:$J$58,0)","v":17},{"$f":"SUM(J204:J209)","v":0}]
[null,null,"I-II.",null,{"$f":"IF(D205<6.19,0,VLOOKUP(D205,rrfut,7,TRUE))","v":0},null,0,null,0,{"$f":"SUM(E205,G205,I205)","v":0},{"$f":"RANK(J205,'E. II. kcs'!$J$3:$J$58,0)","v":17}]
[null,null,"III.",null,{"$f":"IF(D206<6.19,0,VLOOKUP(D206,rrfut,7,TRUE))","v":0},null,0,null,0,0,{"$f":"RANK(J206,'E. III. kcs'!$J$3:$J$58,0)","v":16}]
[null,null,"III.",null,{"$f":"IF(D207<6.19,0,VLOOKUP(D207,rrfut,7,TRUE))","v":0},null,0,null,0,0,{"$f":"RANK(J207,'E. III. kcs'!$J$3:$J$58,0)","v":16}]
[null,null,"IV.",null,{"$f":"IF(D208<6.19,0,VLOOKUP(D208,rfut,5,TRUE))","v":0},null,0,null,0,0,{"$f":"RANK(J208,'E. IV. kcs'!$J$3:$J$58,0)","v":18}]
[null,null,"IV.",null,0,null,0,null,0,0,{"$f":"RANK(J209,'E. IV. kcs'!$J$3:$J$58,0)","v":18}]
[]
[]
[null,null,null,null,null,null,null,null,null,null,null,{"$f":"RANK(L214,Csapat!$C$3:P200,0)","v":7}]
["Név","Sz.év","Kcs.","R. futás",null,"Távolugrás",null,"Klabdahajítás",null,"Összpont","Helyezés"]
[null,null,"I-II.",null,{"$f":"IF(D214<6.19,0,VLOOKUP(D214,rrfut,7,TRUE))","v":0},null,{"$f":"IF(F214<1.79,0,VLOOKUP(F214,távol,4,TRUE))","v":0},null,{"$f":"IF(H214<4,0,VLOOKUP(H214,kisl,2,TRUE))","v":0},{"$f":"SUM(E214,G214,I214)","v":0},{"$f":"RANK(J214,'E. II. kcs'!$J$3:$J$58,0)","v":17},{"$f":"SUM(J214:J219)","v":0}]
[null,null,"I-II.",null,{"$f":"IF(D215<6.19,0,VLOOKUP(D215,rrfut,7,TRUE))","v":0},null,0,null,0,{"$f":"SUM(E215,G215,I215)","v":0},{"$f":"RANK(J215,'E. II. kcs'!$J$3:$J$58,0)","v":17}]
[null,null,"III.",null,{"$f":"IF(D216<6.19,0,VLOOKUP(D216,rrfut,7,TRUE))","v":0},null,0,null,0,0,{"$f":"RANK(J216,'E. III. kcs'!$J$3:$J$58,0)","v":16}]
[null,null,"III.",null,{"$f":"IF(D217<6.19,0,VLOOKUP(D217,rrfut,7,TRUE))","v":0},null,0,null,0,0,{"$f":"RANK(J217,'E. III. kcs'!$J$3:$J$58,0)","v":16}]
[null,null,"IV.",null,{"$f":"IF(D218<6.19,0,VLOOKUP(D218,rfut,5,TRUE))","v":0},null,0,null,0,0,{"$f":"RANK(J218,'E. IV. kcs'!$J$3:$J$58,0)","v":18}]
[null,null,"IV.",null,0,null,0,null,0,0,{"$f":"RANK(J219,'E. IV. kcs'!$J$3:$J$58,0)","v":18}]
[]
[]
[null,null,null,null,null,null,null,null,null,null,null,{"$f":"RANK(L224,Csapat!$C$3:P210,0)","v":7}]
["Név","Sz.év","Kcs.","R. futás",null,"Távolugrás",null,"Klabdahajítás",null,"Összpont","Helyezés"]
[null,null,"I-II.",null,{"$f":"IF(D224<6.19,0,VLOOKUP(D224,rrfut,7,TRUE))","v":0},null,{"$f":"IF(F224<1.79,0,VLOOKUP(F224,távol,4,TRUE))","v":0},null,{"$f":"IF(H224<4,0,VLOOKUP(H224,kisl,2,TRUE))","v":0},{"$f":"SUM(E224,G224,I224)","v":0},{"$f":"RANK(J224,'E. II. kcs'!$J$3:$J$58,0)","v":17},{"$f":"SUM(J224:J229)","v":0}]
[null,null,"I-II.",null,{"$f":"IF(D225<6.19,0,VLOOKUP(D225,rrfut,7,TRUE))","v":0},null,0,null,0,{"$f":"SUM(E225,G225,I225)","v":0},{"$f":"RANK(J225,'E. II. kcs'!$J$3:$J$58,0)","v":17}]
[null,null,"III.",null,{"$f":"IF(D226<6.19,0,VLOOKUP(D226,rrfut,7,TRUE))","v":0},null,0,null,0,0,{"$f":"RANK(J226,'E. III. kcs'!$J$3:$J$58,0)","v":16}]
[null,null,"III.",null,{"$f":"IF(D227<6.19,0,VLOOKUP(D227,rrfut,7,TRUE))","v":0},null,0,null,0,0,{"$f":"RANK(J227,'E. III. kcs'!$J$3:$J$58,0)","v":16}]
[null,null,"IV.",null,{"$f":"IF(D228<6.19,0,VLOOKUP(D228,rfut,5,TRUE))","v":0},null,0,null,0,0,{"$f":"RANK(J228,'E. IV. kcs'!$J$3:$J$58,0)","v":18}]
[null,null,"IV.",null,0,null,0,null,0,0,{"$f":"RANK(J229,'E. IV. kcs'!$J$3:$J$58,0)","v":18}]
[]
[]
[null,null,null,null,null,null,null,null,null,null,null,{"$f":"RANK(L234,Csapat!$C$3:P220,0)","v":7}]
["Név","Sz.év","Kcs.","R. futás",null,"Távolugrás",null,"Klabdahajítás",null,"Összpont","Helyezés"]
[null,null,"I-II.",null,{"$f":"IF(D234<6.19,0,VLOOKUP(D234,rrfut,7,TRUE))","v":0},null,{"$f":"IF(F234<1.79,0,VLOOKUP(F234,távol,4,TRUE))","v":0},null,{"$f":"IF(H234<4,0,VLOOKUP(H234,kisl,2,TRUE))","v":0},{"$f":"SUM(E234,G234,I234)","v":0},{"$f":"RANK(J234,'E. II. kcs'!$J$3:$J$58,0)","v":17},{"$f":"SUM(J234:J239)","v":0}]
[null,null,"I-II.",null,{"$f":"IF(D235<6.19,0,VLOOKUP(D235,rrfut,7,TRUE))","v":0},null,0,null,0,{"$f":"SUM(E235,G235,I235)","v":0},{"$f":"RANK(J235,'E. II. kcs'!$J$3:$J$58,0)","v":17}]
[null,null,"III.",null,{"$f":"IF(D236<6.19,0,VLOOKUP(D236,rrfut,7,TRUE))","v":0},null,0,null,0,0,{"$f":"RANK(J236,'E. III. kcs'!$J$3:$J$58,0)","v":16}]
[null,null,"III.",null,{"$f":"IF(D237<6.19,0,VLOOKUP(D237,rrfut,7,TRUE))","v":0},null,0,null,0,0,{"$f":"RANK(J237,'E. III. kcs'!$J$3:$J$58,0)","v":16}]
[null,null,"IV.",null,{"$f":"IF(D238<6.19,0,VLOOKUP(D238,rfut,5,TRUE))","v":0},null,0,null,0,0,{"$f":"RANK(J238,'E. IV. kcs'!$J$3:$J$58,0)","v":18}]
[null,null,"IV.",null,0,null,0,null,0,0,{"$f":"RANK(J239,'E. IV. kcs'!$J$3:$J$58,0)","v":18}]
[]
[]
[null,null,null,null,null,null,null,null,null,null,null,{"$f":"RANK(L244,Csapat!$C$3:P230,0)","v":7}]
["Név","Sz.év","Kcs.","R. futás",null,"Távolugrás",null,"Klabdahajítás",null,"Összpont","Helyezés"]
[null,null,"I-II.",null,{"$f":"IF(D244<6.19,0,VLOOKUP(D244,rrfut,7,TRUE))","v":0},null,{"$f":"IF(F244<1.79,0,VLOOKUP(F244,távol,4,TRUE))","v":0},null,{"$f":"IF(H244<4,0,VLOOKUP(H244,kisl,2,TRUE))","v":0},{"$f":"SUM(E244,G244,I244)","v":0},{"$f":"RANK(J244,'E. II. kcs'!$J$3:$J$58,0)","v":17},{"$f":"SUM(J244:J249)","v":0}]
[null,null,"I-II.",null,{"$f":"IF(D245<6.19,0,VLOOKUP(D245,rrfut,7,TRUE))","v":0},null,0,null,0,{"$f":"SUM(E245,G245,I245)","v":0},{"$f":"RANK(J245,'E. II. kcs'!$J$3:$J$58,0)","v":17}]
[null,null,"III.",null,{"$f":"IF(D246<6.19,0,VLOOKUP(D246,rrfut,7,TRUE))","v":0},null,0,null,0,0,{"$f":"RANK(J246,'E. III. kcs'!$J$3:$J$58,0)","v":16}]
[null,null,"III.",null,{"$f":"IF(D247<6.19,0,VLOOKUP(D247,rrfut,7,TRUE))","v":0},null,0,null,0,0,{"$f":"RANK(J247,'E. III. kcs'!$J$3:$J$58,0)","v":16}]
[null,null,"IV.",null,{"$f":"IF(D248<6.19,0,VLOOKUP(D248,rfut,5,TRUE))","v":0},null,0,null,0,0,{"$f":"RANK(J248,'E. IV. kcs'!$J$3:$J$58,0)","v":18}]
[null,null,"IV.",null,0,null,0,null,0,0,{"$f":"RANK(J249,'E. IV. kcs'!$J$3:$J$58,0)","v":18}]
[]
[]
[null,null,null,null,null,null,null,null,null,null,null,{"$f":"RANK(L254,Csapat!$C$3:P240,0)","v":7}]
["Név","Sz.év","Kcs.","R. futás",null,"Távolugrás",null,"Klabdahajítás",null,"Összpont","Helyezés"]
[null,null,"I-II.",null,{"$f":"IF(D254<6.19,0,VLOOKUP(D254,rrfut,7,TRUE))","v":0},null,{"$f":"IF(F254<1.79,0,VLOOKUP(F254,távol,4,TRUE))","v":0},null,{"$f":"IF(H254<4,0,VLOOKUP(H254,kisl,2,TRUE))","v":0},{"$f":"SUM(E254,G254,I254)","v":0},{"$f":"RANK(J254,'E. II. kcs'!$J$3:$J$58,0)","v":17},{"$f":"SUM(J254:J259)","v":0}]
[null,null,"I-II.",null,{"$f":"IF(D255<6.19,0,VLOOKUP(D255,rrfut,7,TRUE))","v":0},null,0,null,0,{"$f":"SUM(E255,G255,I255)","v":0},{"$f":"RANK(J255,'E. II. kcs'!$J$3:$J$58,0)","v":17}]
[null,null,"III.",null,{"$f":"IF(D256<6.19,0,VLOOKUP(D256,rrfut,7,TRUE))","v":0},null,0,null,0,0,{"$f":"RANK(J256,'E. III. kcs'!$J$3:$J$58,0)","v":16}]
[null,null,"III.",null,{"$f":"IF(D257<6.19,0,VLOOKUP(D257,rrfut,7,TRUE))","v":0},null,0,null,0,0,{"$f":"RANK(J257,'E. III. kcs'!$J$3:$J$58,0)","v":16}]
[null,null,"IV.",null,{"$f":"IF(D258<6.19,0,VLOOKUP(D258,rfut,5,TRUE))","v":0},null,0,null,0,0,{"$f":"RANK(J258,'E. IV. kcs'!$J$3:$J$58,0)","v":18}]
[null,null,"IV.",null,0,null,0,null,0,0,{"$f":"RANK(J259,'E. IV. kcs'!$J$3:$J$58,0)","v":18}]

{"sheet":"Csapat","index":2,"n_rows":24,"n_cols":3,"rows_kept":24,"cut":false,"hidden":false,"merged":[[0,0,0,2]]}
["Kis iskolák LEÁNY csapatverseny (Sorrendezés Ctrl + z )"]
["Ssz","Iskola","Pont"]
["1.",{"$f":"Be!$A$62&CHAR(10)&Be!$A$64&\"   \"&Be!$J$64&\"      \"&Be!$A$65&\"   \"&Be!$J$65&CHAR(10)&Be!$A$66&\"   \"&Be!$J$66&\"      \"&Be!$A$67&\"   \"&Be!$J$67&CHAR(10)&Be!$A$68&\"   \"&Be!$J$68&\"      \"&Be!$A$69&\"   \"&Be!$J$69","v":"Hőgyészi Hegyhát Ált. Isk. \nHorváth Dzsenifer   310      Pallag Vivien   237\nRofrics Fatima   415      Tóth-Bera Dzsenifer   325\nBordás Lara   332      Orsós Nikoletta   315"},{"$f":"Be!$L$64","v":1934}]
["2.",{"$f":"Be!$A$72&CHAR(10)&Be!$A$74&\"   \"&Be!$J$74&\"      \"&Be!$A$75&\"   \"&Be!$J$75&CHAR(10)&Be!$A$76&\"   \"&Be!$J$76&\"      \"&Be!$A$77&\"   \"&Be!$J$77&CHAR(10)&Be!$A$78&\"   \"&Be!$J$78&\"      \"&Be!$A$79&\"   \"&Be!$J$79","v":"Kölesdi Béri Balogh Ádám Ált. Isk.\nBarkóczi Hanna   203      Szalai Izabella Dzsenna   263\nBencze Vanessza Mária   299      Féder Jázmin   312\nBán Dzsenifer Réka   409      Kalmár Zsófia    361"},{"$f":"Be!$L$74","v":1847}]
["3.",{"$f":"Be!$A$82&CHAR(10)&Be!$A$84&\"   \"&Be!$J$84&\"      \"&Be!$A$85&\"   \"&Be!$J$85&CHAR(10)&Be!$A$86&\"   \"&Be!$J$86&\"      \"&Be!$A$87&\"   \"&Be!$J$87&CHAR(10)&Be!$A$88&\"   \"&Be!$J$88&\"      \"&Be!$A$89&\"   \"&Be!$J$89","v":"BÁI Kakasd\nSzabó Csenge   289      Dunai Inez   314\nParóczai Dana Eszter   341      Plózel Anna   273\nPesti Lívia   235      Kolozsvári Hilcz Kitti   386"},{"$f":"Be!$L$84","v":1838}]
["4.",{"$f":"Be!$A$42&CHAR(10)&Be!$A$44&\"   \"&Be!$J$44&\"      \"&Be!$A$45&\"   \"&Be!$J$45&CHAR(10)&Be!$A$46&\"   \"&Be!$J$46&\"      \"&Be!$A$47&\"   \"&Be!$J$47&CHAR(10)&Be!$A$48&\"   \"&Be!$J$48&\"      \"&Be!$A$49&\"   \"&Be!$J$49","v":"Teveli Ált. Isk\nVelikán Nóra   161      Nagy Nóra Veronika   323\nCsobot Léna Viktória   345      Salamon Csenge   353\nÉri Boglárka   337      Erb Zsüliett   276"},{"$f":"Be!$L$44","v":1795}]
["5.",{"$f":"Be!$A$92&CHAR(10)&Be!$A$94&\"   \"&Be!$J$94&\"      \"&Be!$A$95&\"   \"&Be!$J$95&CHAR(10)&Be!$A$96&\"   \"&Be!$J$96&\"      \"&Be!$A$97&\"   \"&Be!$J$97&CHAR(10)&Be!$A$98&\"   \"&Be!$J$98&\"      \"&Be!$A$99&\"   \"&Be!$J$99","v":"Őcsényi Perczel Mór Ált. Isk.\nTóth Míra Maja   302      Kulcsár Lilien   264\nLakó Csenge   361      Sági Tímea   310\nGellér Fanni   240      Naszvadi Hunorka   217"},{"$f":"Be!$L$94","v":1694}]
["6.",{"$f":"Be!$A$52&CHAR(10)&Be!$A$54&\"   \"&Be!$J$54&\"      \"&Be!$A$55&\"   \"&Be!$J$55&CHAR(10)&Be!$A$56&\"   \"&Be!$J$56&\"      \"&Be!$A$57&\"   \"&Be!$J$57&CHAR(10)&Be!$A$58&\"   \"&Be!$J$58&\"      \"&Be!$A$59&\"   \"&Be!$J$59","v":"Várdomb-Alsónána Ált. Isk.\nKarácsony Dorina   139      Berecz Mercédesz   190\nPéter Vivien   306      Sárközi Angéla   302\nKeinráth Anna   212      Medveczki Dóra   183"},{"$f":"Be!$L$54","v":1332}]
["7.",{"$f":"Be!$A$102&CHAR(10)&Be!$A$104&\"   \"&Be!$J$104&\"      \"&Be!$A$105&\"   \"&Be!$J$105&CHAR(10)&Be!$A$106&\"   \"&Be!$J$106&\"      \"&Be!$A$107&\"   \"&Be!$J$107&CHAR(10)&Be!$A$108&\"   \"&Be!$J$108&\"      \"&Be!$A$109&\"   \"&Be!$J$109","v":"\n   0         0\n   0         0\n   0         0"},{"$f":"Be!$L$104","v":0}]
["8.",{"$f":"Be!$A$112&CHAR(10)&Be!$A$114&\"   \"&Be!$J$114&\"      \"&Be!$A$115&\"   \"&Be!$J$115&CHAR(10)&Be!$A$116&\"   \"&Be!$J$116&\"      \"&Be!$A$117&\"   \"&Be!$J$117&CHAR(10)&Be!$A$118&\"   \"&Be!$J$118&\"      \"&Be!$A$119&\"   \"&Be!$J$119","v":"\n   0         0\n   0         0\n   0         0"},{"$f":"Be!$L$114","v":0}]
["9.",{"$f":"Be!$A$122&CHAR(10)&Be!$A$124&\"   \"&Be!$J$124&\"      \"&Be!$A$125&\"   \"&Be!$J$125&CHAR(10)&Be!$A$126&\"   \"&Be!$J$126&\"      \"&Be!$A$127&\"   \"&Be!$J$127&CHAR(10)&Be!$A$128&\"   \"&Be!$J$128&\"      \"&Be!$A$129&\"   \"&Be!$J$129","v":"\n   0         0\n   0         0\n   0         0"},{"$f":"Be!$L$124","v":0}]
["10.",{"$f":"Be!$A$132&CHAR(10)&Be!$A$134&\"   \"&Be!$J$134&\"      \"&Be!$A$135&\"   \"&Be!$J$135&CHAR(10)&Be!$A$136&\"   \"&Be!$J$136&\"      \"&Be!$A$137&\"   \"&Be!$J$137&CHAR(10)&Be!$A$138&\"   \"&Be!$J$138&\"      \"&Be!$A$139&\"   \"&Be!$J$139","v":"\n   0         0\n   0         0\n   0         0"},{"$f":"Be!$L$134","v":0}]
["11.",{"$f":"Be!$A$142&CHAR(10)&Be!$A$144&\"   \"&Be!$J$144&\"      \"&Be!$A$145&\"   \"&Be!$J$145&CHAR(10)&Be!$A$146&\"   \"&Be!$J$146&\"      \"&Be!$A$147&\"   \"&Be!$J$147&CHAR(10)&Be!$A$148&\"   \"&Be!$J$148&\"      \"&Be!$A$149&\"   \"&Be!$J$149","v":"\n   0         0\n   0         0\n   0         0"},{"$f":"Be!$L$144","v":0}]
["12.",{"$f":"Be!$A$152&CHAR(10)&Be!$A$154&\"   \"&Be!$J$154&\"      \"&Be!$A$155&\"   \"&Be!$J$155&CHAR(10)&Be!$A$156&\"   \"&Be!$J$156&\"      \"&Be!$A$157&\"   \"&Be!$J$157&CHAR(10)&Be!$A$158&\"   \"&Be!$J$158&\"      \"&Be!$A$159&\"   \"&Be!$J$159","v":"\n   0         0\n   0         0\n   0         0"},{"$f":"Be!$L$154","v":0}]
["13.",{"$f":"Be!$A$162&CHAR(10)&Be!$A$164&\"   \"&Be!$J$164&\"      \"&Be!$A$165&\"   \"&Be!$J$165&CHAR(10)&Be!$A$166&\"   \"&Be!$J$166&\"      \"&Be!$A$167&\"   \"&Be!$J$167&CHAR(10)&Be!$A$168&\"   \"&Be!$J$168&\"      \"&Be!$A$169&\"   \"&Be!$J$169","v":"\n   0         0\n   0         0\n   0         0"},{"$f":"Be!$L$164","v":0}]
["14.",{"$f":"Be!$A$172&CHAR(10)&Be!$A$174&\"   \"&Be!$J$174&\"      \"&Be!$A$175&\"   \"&Be!$J$175&CHAR(10)&Be!$A$176&\"   \"&Be!$J$176&\"      \"&Be!$A$177&\"   \"&Be!$J$177&CHAR(10)&Be!$A$178&\"   \"&Be!$J$178&\"      \"&Be!$A$179&\"   \"&Be!$J$179","v":"\n   0         0\n   0         0\n   0         0"},{"$f":"Be!$L$174","v":0}]
["15.",{"$f":"Be!$A$182&CHAR(10)&Be!$A$184&\"   \"&Be!$J$184&\"      \"&Be!$A$185&\"   \"&Be!$J$185&CHAR(10)&Be!$A$186&\"   \"&Be!$J$186&\"      \"&Be!$A$187&\"   \"&Be!$J$187&CHAR(10)&Be!$A$188&\"   \"&Be!$J$188&\"      \"&Be!$A$189&\"   \"&Be!$J$189","v":"\n   0         0\n   0         0\n   0         0"},{"$f":"Be!$L$184","v":0}]
["16.",{"$f":"Be!$A$192&CHAR(10)&Be!$A$194&\"   \"&Be!$J$194&\"      \"&Be!$A$195&\"   \"&Be!$J$195&CHAR(10)&Be!$A$196&\"   \"&Be!$J$196&\"      \"&Be!$A$197&\"   \"&Be!$J$197&CHAR(10)&Be!$A$198&\"   \"&Be!$J$198&\"      \"&Be!$A$199&\"   \"&Be!$J$199","v":"\n   0         0\n   0         0\n   0         0"},{"$f":"Be!$L$194","v":0}]
["17.",{"$f":"Be!$A$202&CHAR(10)&Be!$A$204&\"   \"&Be!$J$204&\"      \"&Be!$A$205&\"   \"&Be!$J$205&CHAR(10)&Be!$A$206&\"   \"&Be!$J$206&\"      \"&Be!$A$207&\"   \"&Be!$J$207&CHAR(10)&Be!$A$208&\"   \"&Be!$J$208&\"      \"&Be!$A$209&\"   \"&Be!$J$209","v":"\n   0         0\n   0         0\n   0         0"},{"$f":"Be!$L$204","v":0}]
["18.",{"$f":"Be!$A$212&CHAR(10)&Be!$A$214&\"   \"&Be!$J$214&\"      \"&Be!$A$215&\"   \"&Be!$J$215&CHAR(10)&Be!$A$216&\"   \"&Be!$J$216&\"      \"&Be!$A$217&\"   \"&Be!$J$217&CHAR(10)&Be!$A$218&\"   \"&Be!$J$218&\"      \"&Be!$A$219&\"   \"&Be!$J$219","v":"\n   0         0\n   0         0\n   0         0"},{"$f":"Be!$L$214","v":0}]
["19.",{"$f":"Be!$A$222&CHAR(10)&Be!$A$224&\"   \"&Be!$J$224&\"      \"&Be!$A$225&\"   \"&Be!$J$225&CHAR(10)&Be!$A$226&\"   \"&Be!$J$226&\"      \"&Be!$A$227&\"   \"&Be!$J$227&CHAR(10)&Be!$A$228&\"   \"&Be!$J$228&\"      \"&Be!$A$229&\"   \"&Be!$J$229","v":"\n   0         0\n   0         0\n   0         0"},{"$f":"Be!$L$224","v":0}]
["20.",{"$f":"Be!$A$232&CHAR(10)&Be!$A$234&\"   \"&Be!$J$234&\"      \"&Be!$A$235&\"   \"&Be!$J$235&CHAR(10)&Be!$A$236&\"   \"&Be!$J$236&\"      \"&Be!$A$237&\"   \"&Be!$J$237&CHAR(10)&Be!$A$238&\"   \"&Be!$J$238&\"      \"&Be!$A$239&\"   \"&Be!$J$239","v":"\n   0         0\n   0         0\n   0         0"},{"$f":"Be!$L$234","v":0}]
["21.",{"$f":"Be!$A$242&CHAR(10)&Be!$A$244&\"   \"&Be!$J$244&\"      \"&Be!$A$245&\"   \"&Be!$J$245&CHAR(10)&Be!$A$246&\"   \"&Be!$J$246&\"      \"&Be!$A$247&\"   \"&Be!$J$247&CHAR(10)&Be!$A$248&\"   \"&Be!$J$248&\"      \"&Be!$A$249&\"   \"&Be!$J$249","v":"\n   0         0\n   0         0\n   0         0"},{"$f":"Be!$L$244","v":0}]
["22.",{"$f":"Be!$A$252&CHAR(10)&Be!$A$254&\"   \"&Be!$J$254&\"      \"&Be!$A$255&\"   \"&Be!$J$255&CHAR(10)&Be!$A$256&\"   \"&Be!$J$256&\"      \"&Be!$A$257&\"   \"&Be!$J$257&CHAR(10)&Be!$A$258&\"   \"&Be!$J$258&\"      \"&Be!$A$259&\"   \"&Be!$J$259","v":"\n   0         0\n   0         0\n   0         0"},{"$f":"Be!$L$254","v":0}]

{"sheet":"E. II. kcs","index":3,"n_rows":155,"n_cols":12,"rows_kept":155,"cut":false,"hidden":false,"merged":[[0,0,0,11]]}
["Kis iskolák II. korcsoport LEÁNY EGYÉNI végeredmény (Sorbarendezés Ctrl + t )"]
["Ssz","Név","Szév","100 m","p","Távol","p","Kisl","p","Összp",null,"Iskola"]
["1.",{"$f":"Be!A45","v":"Nagy Nóra Veronika"},{"$f":"Be!B45","v":2011},{"$f":"Be!D45","v":9.5},{"$f":"Be!E45","v":161},{"$f":"Be!F45","v":3.62},{"$f":"Be!G45","v":102},{"$f":"Be!H45","v":20.65},{"$f":"Be!I45","v":60},{"$f":"Be!J45","v":323},null,{"$f":"Be!A42","v":"Teveli Ált. Isk"}]
["2.",{"$f":"Be!A85","v":"Dunai Inez"},{"$f":"Be!B85","v":2011},{"$f":"Be!D85","v":9.8000000000000007},{"$f":"Be!E85","v":147},{"$f":"Be!F85","v":3.22},{"$f":"Be!G85","v":78},{"$f":"Be!H85","v":28.05},{"$f":"Be!I85","v":89},{"$f":"Be!J85","v":314},null,{"$f":"Be!A82","v":"BÁI Kakasd"}]
["3.",{"$f":"Be!A64","v":"Horváth Dzsenifer"},{"$f":"Be!B64","v":2011},{"$f":"Be!D64","v":10},{"$f":"Be!E64","v":138},{"$f":"Be!F64","v":3.11},{"$f":"Be!G64","v":72},{"$f":"Be!H64","v":30.82},{"$f":"Be!I64","v":100},{"$f":"Be!J64","v":310},null,{"$f":"Be!A62","v":"Hőgyészi Hegyhát Ált. Isk. "}]
["4.",{"$f":"Be!A94","v":"Tóth Míra Maja"},{"$f":"Be!B94","v":2012},{"$f":"Be!D94","v":9.5},{"$f":"Be!E94","v":161},{"$f":"Be!F94","v":3.43},{"$f":"Be!G94","v":91},{"$f":"Be!H94","v":18.03},{"$f":"Be!I94","v":50},{"$f":"Be!J94","v":302},null,{"$f":"Be!A92","v":"Őcsényi Perczel Mór Ált. Isk."}]
["5.",{"$f":"Be!A84","v":"Szabó Csenge"},{"$f":"Be!B84","v":2012},{"$f":"Be!D84","v":10.4},{"$f":"Be!E84","v":121},{"$f":"Be!F84","v":3.61},{"$f":"Be!G84","v":101},{"$f":"Be!H84","v":22.4},{"$f":"Be!I84","v":67},{"$f":"Be!J84","v":289},null,{"$f":"Be!A82","v":"BÁI Kakasd"}]
["6.",{"$f":"Be!A5","v":"Molnár Dorka"},{"$f":"Be!B5","v":2011},{"$f":"Be!D5","v":10.7},{"$f":"Be!E5","v":108},{"$f":"Be!F5","v":3.13},{"$f":"Be!G5","v":73},{"$f":"Be!H5","v":26.74},{"$f":"Be!I5","v":84},{"$f":"Be!J5","v":265},null,{"$f":"Be!L5","v":"BÁI Kakasd"}]
["7.",{"$f":"Be!A95","v":"Kulcsár Lilien"},{"$f":"Be!B95","v":2011},{"$f":"Be!D95","v":10.4},{"$f":"Be!E95","v":121},{"$f":"Be!F95","v":2.87},{"$f":"Be!G95","v":58},{"$f":"Be!H95","v":27},{"$f":"Be!I95","v":85},{"$f":"Be!J95","v":264},null,{"$f":"Be!A92","v":"Őcsényi Perczel Mór Ált. Isk."}]
["8.",{"$f":"Be!A6","v":"Fekete Aporka"},{"$f":"Be!B6","v":2011},{"$f":"Be!D6","v":10.6},{"$f":"Be!E6","v":112},{"$f":"Be!F6","v":3.41},{"$f":"Be!G6","v":89},{"$f":"Be!H6","v":21.26},{"$f":"Be!I6","v":63},{"$f":"Be!J6","v":264},null,{"$f":"Be!L6","v":"BÁI Kakasd"}]
["9.",{"$f":"Be!A75","v":"Szalai Izabella Dzsenna"},{"$f":"Be!B75","v":2011},{"$f":"Be!D75","v":10.5},{"$f":"Be!E75","v":116},{"$f":"Be!F75","v":3.02},{"$f":"Be!G75","v":67},{"$f":"Be!H75","v":25.7},{"$f":"Be!I75","v":80},{"$f":"Be!J75","v":263},null,{"$f":"Be!A72","v":"Kölesdi Béri Balogh Ádám Ált. Isk."}]
["10.",{"$f":"Be!A7","v":"Szép Letícia"},{"$f":"Be!B7","v":2011},{"$f":"Be!D7","v":10.1},{"$f":"Be!E7","v":134},{"$f":"Be!F7","v":3.16},{"$f":"Be!G7","v":75},{"$f":"Be!H7","v":16.600000000000001},{"$f":"Be!I7","v":45},{"$f":"Be!J7","v":254},null,{"$f":"Be!L7","v":"Decs"}]
["11.",{"$f":"Be!A65","v":"Pallag Vivien"},{"$f":"Be!B65","v":2011},{"$f":"Be!D65","v":10.5},{"$f":"Be!E65","v":116},{"$f":"Be!F65","v":2.81},{"$f":"Be!G65","v":54},{"$f":"Be!H65","v":22.35},{"$f":"Be!I65","v":67},{"$f":"Be!J65","v":237},null,{"$f":"Be!A62","v":"Hőgyészi Hegyhát Ált. Isk. "}]
["12.",{"$f":"Be!A74","v":"Barkóczi Hanna"},{"$f":"Be!B74","v":2012},{"$f":"Be!D74","v":11},{"$f":"Be!E74","v":95},{"$f":"Be!F74","v":2.84},{"$f":"Be!G74","v":56},{"$f":"Be!H74","v":18.64},{"$f":"Be!I74","v":52},{"$f":"Be!J74","v":203},null,{"$f":"Be!A72","v":"Kölesdi Béri Balogh Ádám Ált. Isk."}]
["13.",{"$f":"Be!A55","v":"Berecz Mercédesz"},{"$f":"Be!B55","v":2012},{"$f":"Be!D55","v":10.8},{"$f":"Be!E55","v":103},{"$f":"Be!F55","v":2.4},{"$f":"Be!G55","v":32},{"$f":"Be!H55","v":19.3},{"$f":"Be!I55","v":55},{"$f":"Be!J55","v":190},null,{"$f":"Be!A52","v":"Várdomb-Alsónána Ált. Isk."}]
["14.",{"$f":"Be!A8","v":"Beck Tímea"},{"$f":"Be!B8","v":2013},{"$f":"Be!D8","v":11},{"$f":"Be!E8","v":95},{"$f":"Be!F8","v":2.76},{"$f":"Be!G8","v":52},{"$f":"Be!H8","v":9.1999999999999993},{"$f":"Be!I8","v":18},{"$f":"Be!J8","v":165},null,{"$f":"Be!L8","v":"Várdomb"}]
["15.",{"$f":"Be!A44","v":"Velikán Nóra"},{"$f":"Be!B44","v":2013},{"$f":"Be!D44","v":11.8},{"$f":"Be!E44","v":63},{"$f":"Be!F44","v":2.62},{"$f":"Be!G44","v":44},{"$f":"Be!H44","v":19.07},{"$f":"Be!I44","v":54},{"$f":"Be!J44","v":161},null,{"$f":"Be!A42","v":"Teveli Ált. Isk"}]
["16.",{"$f":"Be!A54","v":"Karácsony Dorina"},{"$f":"Be!B54","v":2013},{"$f":"Be!D54","v":11.6},{"$f":"Be!E54","v":71},{"$f":"Be!F54","v":2.31},{"$f":"Be!G54","v":27},{"$f":"Be!H54","v":15.64},{"$f":"Be!I54","v":41},{"$f":"Be!J54","v":139},null,{"$f":"Be!A52","v":"Várdomb-Alsónána Ált. Isk."}]
["17.",{"$f":"Be!#REF!","v":{"$error":"#REF!"}},{"$f":"Be!B4","v":0},{"$f":"Be!D4","v":0},{"$f":"Be!E4","v":0},{"$f":"Be!F4","v":0},{"$f":"Be!G4","v":0},{"$f":"Be!H4","v":0},{"$f":"Be!I4","v":0},{"$f":"Be!J4","v":0},null,{"$f":"Be!L4","v":0}]
["18.",{"$f":"Be!A104","v":0},{"$f":"Be!B104","v":0},{"$f":"Be!D104","v":0},{"$f":"Be!E104","v":0},{"$f":"Be!F104","v":0},{"$f":"Be!G104","v":0},{"$f":"Be!H104","v":0},{"$f":"Be!I104","v":0},{"$f":"Be!J104","v":0},null,{"$f":"Be!A102","v":0}]
["19.",{"$f":"Be!A105","v":0},{"$f":"Be!B105","v":0},{"$f":"Be!D105","v":0},{"$f":"Be!E105","v":0},{"$f":"Be!F105","v":0},{"$f":"Be!G105","v":0},{"$f":"Be!H105","v":0},{"$f":"Be!I105","v":0},{"$f":"Be!J105","v":0},null,{"$f":"Be!A102","v":0}]
["20.",{"$f":"Be!A114","v":0},{"$f":"Be!B114","v":0},{"$f":"Be!D114","v":0},{"$f":"Be!E114","v":0},{"$f":"Be!F114","v":0},{"$f":"Be!G114","v":0},{"$f":"Be!H114","v":0},{"$f":"Be!I114","v":0},{"$f":"Be!J114","v":0},null,{"$f":"Be!A112","v":0}]
["21.",{"$f":"Be!A115","v":0},{"$f":"Be!B115","v":0},{"$f":"Be!D115","v":0},{"$f":"Be!E115","v":0},{"$f":"Be!F115","v":0},{"$f":"Be!G115","v":0},{"$f":"Be!H115","v":0},{"$f":"Be!I115","v":0},{"$f":"Be!J115","v":0},null,{"$f":"Be!A112","v":0}]
["22.",{"$f":"Be!A124","v":0},{"$f":"Be!B124","v":0},{"$f":"Be!D124","v":0},{"$f":"Be!E124","v":0},{"$f":"Be!F124","v":0},{"$f":"Be!G124","v":0},{"$f":"Be!H124","v":0},{"$f":"Be!I124","v":0},{"$f":"Be!J124","v":0},null,{"$f":"Be!A122","v":0}]
["23.",{"$f":"Be!A125","v":0},{"$f":"Be!B125","v":0},{"$f":"Be!D125","v":0},{"$f":"Be!E125","v":0},{"$f":"Be!F125","v":0},{"$f":"Be!G125","v":0},{"$f":"Be!H125","v":0},{"$f":"Be!I125","v":0},{"$f":"Be!J125","v":0},null,{"$f":"Be!A122","v":0}]
["24.",{"$f":"Be!A134","v":0},{"$f":"Be!B134","v":0},{"$f":"Be!D134","v":0},{"$f":"Be!E134","v":0},{"$f":"Be!F134","v":0},{"$f":"Be!G134","v":0},{"$f":"Be!H134","v":0},{"$f":"Be!I134","v":0},{"$f":"Be!J134","v":0},null,{"$f":"Be!A132","v":0}]
["25.",{"$f":"Be!A135","v":0},{"$f":"Be!B135","v":0},{"$f":"Be!D135","v":0},{"$f":"Be!E135","v":0},{"$f":"Be!F135","v":0},{"$f":"Be!G135","v":0},{"$f":"Be!H135","v":0},{"$f":"Be!I135","v":0},{"$f":"Be!J135","v":0},null,{"$f":"Be!A132","v":0}]
["26.",{"$f":"Be!A144","v":0},{"$f":"Be!B144","v":0},{"$f":"Be!D144","v":0},{"$f":"Be!E144","v":0},{"$f":"Be!F144","v":0},{"$f":"Be!G144","v":0},{"$f":"Be!H144","v":0},{"$f":"Be!I144","v":0},{"$f":"Be!J144","v":0},null,{"$f":"Be!A142","v":0}]
["27.",{"$f":"Be!A145","v":0},{"$f":"Be!B145","v":0},{"$f":"Be!D145","v":0},{"$f":"Be!E145","v":0},{"$f":"Be!F145","v":0},{"$f":"Be!G145","v":0},{"$f":"Be!H145","v":0},{"$f":"Be!I145","v":0},{"$f":"Be!J145","v":0},null,{"$f":"Be!A142","v":0}]
["28.",{"$f":"Be!A154","v":0},{"$f":"Be!B154","v":0},{"$f":"Be!D154","v":0},{"$f":"Be!E154","v":0},{"$f":"Be!F154","v":0},{"$f":"Be!G154","v":0},{"$f":"Be!H154","v":0},{"$f":"Be!I154","v":0},{"$f":"Be!J154","v":0},null,{"$f":"Be!A152","v":0}]
["29.",{"$f":"Be!A155","v":0},{"$f":"Be!B155","v":0},{"$f":"Be!D155","v":0},{"$f":"Be!E155","v":0},{"$f":"Be!F155","v":0},{"$f":"Be!G155","v":0},{"$f":"Be!H155","v":0},{"$f":"Be!I155","v":0},{"$f":"Be!J155","v":0},null,{"$f":"Be!A152","v":0}]
["30.",{"$f":"Be!A164","v":0},{"$f":"Be!B164","v":0},{"$f":"Be!D164","v":0},{"$f":"Be!E164","v":0},{"$f":"Be!F164","v":0},{"$f":"Be!G164","v":0},{"$f":"Be!H164","v":0},{"$f":"Be!I164","v":0},{"$f":"Be!J164","v":0},null,{"$f":"Be!A162","v":0}]
["31.",{"$f":"Be!A165","v":0},{"$f":"Be!B165","v":0},{"$f":"Be!D165","v":0},{"$f":"Be!E165","v":0},{"$f":"Be!F165","v":0},{"$f":"Be!G165","v":0},{"$f":"Be!H165","v":0},{"$f":"Be!I165","v":0},{"$f":"Be!J165","v":0},null,{"$f":"Be!A162","v":0}]
["32.",{"$f":"Be!A174","v":0},{"$f":"Be!B174","v":0},{"$f":"Be!D174","v":0},{"$f":"Be!E174","v":0},{"$f":"Be!F174","v":0},{"$f":"Be!G174","v":0},{"$f":"Be!H174","v":0},{"$f":"Be!I174","v":0},{"$f":"Be!J174","v":0},null,{"$f":"Be!A172","v":0}]
["33.",{"$f":"Be!A175","v":0},{"$f":"Be!B175","v":0},{"$f":"Be!D175","v":0},{"$f":"Be!E175","v":0},{"$f":"Be!F175","v":0},{"$f":"Be!G175","v":0},{"$f":"Be!H175","v":0},{"$f":"Be!I175","v":0},{"$f":"Be!J175","v":0},null,{"$f":"Be!A172","v":0}]
["34.",{"$f":"Be!A184","v":0},{"$f":"Be!B184","v":0},{"$f":"Be!D184","v":0},{"$f":"Be!E184","v":0},{"$f":"Be!F184","v":0},{"$f":"Be!G184","v":0},{"$f":"Be!H184","v":0},{"$f":"Be!I184","v":0},{"$f":"Be!J184","v":0},null,{"$f":"Be!A182","v":0}]
["35.",{"$f":"Be!A185","v":0},{"$f":"Be!B185","v":0},{"$f":"Be!D185","v":0},{"$f":"Be!E185","v":0},{"$f":"Be!F185","v":0},{"$f":"Be!G185","v":0},{"$f":"Be!H185","v":0},{"$f":"Be!I185","v":0},{"$f":"Be!J185","v":0},null,{"$f":"Be!A182","v":0}]
["36.",{"$f":"Be!A194","v":0},{"$f":"Be!B194","v":0},{"$f":"Be!D194","v":0},{"$f":"Be!E194","v":0},{"$f":"Be!F194","v":0},{"$f":"Be!G194","v":0},{"$f":"Be!H194","v":0},{"$f":"Be!I194","v":0},{"$f":"Be!J194","v":0},null,{"$f":"Be!A192","v":0}]
["37.",{"$f":"Be!A195","v":0},{"$f":"Be!B195","v":0},{"$f":"Be!D195","v":0},{"$f":"Be!E195","v":0},{"$f":"Be!F195","v":0},{"$f":"Be!G195","v":0},{"$f":"Be!H195","v":0},{"$f":"Be!I195","v":0},{"$f":"Be!J195","v":0},null,{"$f":"Be!A192","v":0}]
["38.",{"$f":"Be!A204","v":0},{"$f":"Be!B204","v":0},{"$f":"Be!D204","v":0},{"$f":"Be!E204","v":0},{"$f":"Be!F204","v":0},{"$f":"Be!G204","v":0},{"$f":"Be!H204","v":0},{"$f":"Be!I204","v":0},{"$f":"Be!J204","v":0},null,{"$f":"Be!A202","v":0}]
["39.",{"$f":"Be!A205","v":0},{"$f":"Be!B205","v":0},{"$f":"Be!D205","v":0},{"$f":"Be!E205","v":0},{"$f":"Be!F205","v":0},{"$f":"Be!G205","v":0},{"$f":"Be!H205","v":0},{"$f":"Be!I205","v":0},{"$f":"Be!J205","v":0},null,{"$f":"Be!A202","v":0}]
["40.",{"$f":"Be!A214","v":0},{"$f":"Be!B214","v":0},{"$f":"Be!D214","v":0},{"$f":"Be!E214","v":0},{"$f":"Be!F214","v":0},{"$f":"Be!G214","v":0},{"$f":"Be!H214","v":0},{"$f":"Be!I214","v":0},{"$f":"Be!J214","v":0},null,{"$f":"Be!A212","v":0}]
["41.",{"$f":"Be!A215","v":0},{"$f":"Be!B215","v":0},{"$f":"Be!D215","v":0},{"$f":"Be!E215","v":0},{"$f":"Be!F215","v":0},{"$f":"Be!G215","v":0},{"$f":"Be!H215","v":0},{"$f":"Be!I215","v":0},{"$f":"Be!J215","v":0},null,{"$f":"Be!A212","v":0}]
["42.",{"$f":"Be!A224","v":0},{"$f":"Be!B224","v":0},{"$f":"Be!D224","v":0},{"$f":"Be!E224","v":0},{"$f":"Be!F224","v":0},{"$f":"Be!G224","v":0},{"$f":"Be!H224","v":0},{"$f":"Be!I224","v":0},{"$f":"Be!J224","v":0},null,{"$f":"Be!A222","v":0}]
["43.",{"$f":"Be!A225","v":0},{"$f":"Be!B225","v":0},{"$f":"Be!D225","v":0},{"$f":"Be!E225","v":0},{"$f":"Be!F225","v":0},{"$f":"Be!G225","v":0},{"$f":"Be!H225","v":0},{"$f":"Be!I225","v":0},{"$f":"Be!J225","v":0},null,{"$f":"Be!A222","v":0}]
["44.",{"$f":"Be!A234","v":0},{"$f":"Be!B234","v":0},{"$f":"Be!D234","v":0},{"$f":"Be!E234","v":0},{"$f":"Be!F234","v":0},{"$f":"Be!G234","v":0},{"$f":"Be!H234","v":0},{"$f":"Be!I234","v":0},{"$f":"Be!J234","v":0},null,{"$f":"Be!A232","v":0}]
["45.",{"$f":"Be!A235","v":0},{"$f":"Be!B235","v":0},{"$f":"Be!D235","v":0},{"$f":"Be!E235","v":0},{"$f":"Be!F235","v":0},{"$f":"Be!G235","v":0},{"$f":"Be!H235","v":0},{"$f":"Be!I235","v":0},{"$f":"Be!J235","v":0},null,{"$f":"Be!A232","v":0}]
["46.",{"$f":"Be!A244","v":0},{"$f":"Be!B244","v":0},{"$f":"Be!D244","v":0},{"$f":"Be!E244","v":0},{"$f":"Be!F244","v":0},{"$f":"Be!G244","v":0},{"$f":"Be!H244","v":0},{"$f":"Be!I244","v":0},{"$f":"Be!J244","v":0},null,{"$f":"Be!A242","v":0}]
["47.",{"$f":"Be!A245","v":0},{"$f":"Be!B245","v":0},{"$f":"Be!D245","v":0},{"$f":"Be!E245","v":0},{"$f":"Be!F245","v":0},{"$f":"Be!G245","v":0},{"$f":"Be!H245","v":0},{"$f":"Be!I245","v":0},{"$f":"Be!J245","v":0},null,{"$f":"Be!A242","v":0}]
["48.",{"$f":"Be!A254","v":0},{"$f":"Be!B254","v":0},{"$f":"Be!D254","v":0},{"$f":"Be!E254","v":0},{"$f":"Be!F254","v":0},{"$f":"Be!G254","v":0},{"$f":"Be!H254","v":0},{"$f":"Be!I254","v":0},{"$f":"Be!J254","v":0},null,{"$f":"Be!A252","v":0}]
["49.",{"$f":"Be!A255","v":0},{"$f":"Be!B255","v":0},{"$f":"Be!D255","v":0},{"$f":"Be!E255","v":0},{"$f":"Be!F255","v":0},{"$f":"Be!G255","v":0},{"$f":"Be!H255","v":0},{"$f":"Be!I255","v":0},{"$f":"Be!J255","v":0},null,{"$f":"Be!A252","v":0}]
["50.",{"$f":"Be!A9","v":0},{"$f":"Be!B9","v":0},{"$f":"Be!D9","v":0},{"$f":"Be!E9","v":0},{"$f":"Be!F9","v":0},{"$f":"Be!G9","v":0},{"$f":"Be!H9","v":0},{"$f":"Be!I9","v":0},{"$f":"Be!J9","v":0},null,{"$f":"Be!L9","v":0}]
["51.",{"$f":"Be!A10","v":0},{"$f":"Be!B10","v":0},{"$f":"Be!D10","v":0},{"$f":"Be!E10","v":0},{"$f":"Be!F10","v":0},{"$f":"Be!G10","v":0},{"$f":"Be!H10","v":0},{"$f":"Be!I10","v":0},{"$f":"Be!J10","v":0},null,{"$f":"Be!L10","v":0}]
["52.",{"$f":"Be!A11","v":0},{"$f":"Be!B11","v":0},{"$f":"Be!D11","v":0},{"$f":"Be!E11","v":0},{"$f":"Be!F11","v":0},{"$f":"Be!G11","v":0},{"$f":"Be!H11","v":0},{"$f":"Be!I11","v":0},{"$f":"Be!J11","v":0},null,{"$f":"Be!L11","v":0}]
["53.",{"$f":"Be!A12","v":0},{"$f":"Be!B12","v":0},{"$f":"Be!D12","v":0},{"$f":"Be!E12","v":0},{"$f":"Be!F12","v":0},{"$f":"Be!G12","v":0},{"$f":"Be!H12","v":0},{"$f":"Be!I12","v":0},{"$f":"Be!J12","v":0},null,{"$f":"Be!L12","v":0}]
["54.",{"$f":"Be!A13","v":0},{"$f":"Be!B13","v":0},{"$f":"Be!D13","v":0},{"$f":"Be!E13","v":0},{"$f":"Be!F13","v":0},{"$f":"Be!G13","v":0},{"$f":"Be!H13","v":0},{"$f":"Be!I13","v":0},{"$f":"Be!J13","v":0},null,{"$f":"Be!L13","v":0}]
["55.",{"$f":"Be!A14","v":0},{"$f":"Be!B14","v":0},{"$f":"Be!D14","v":0},{"$f":"Be!E14","v":0},{"$f":"Be!F14","v":0},{"$f":"Be!G14","v":0},{"$f":"Be!H14","v":0},{"$f":"Be!I14","v":0},{"$f":"Be!J14","v":0},null,{"$f":"Be!L14","v":0}]
["56.",{"$f":"Be!A15","v":0},{"$f":"Be!B15","v":0},{"$f":"Be!D15","v":0},{"$f":"Be!E15","v":0},{"$f":"Be!F15","v":0},{"$f":"Be!G15","v":0},{"$f":"Be!H15","v":0},{"$f":"Be!I15","v":0},{"$f":"Be!J15","v":0},null,{"$f":"Be!L15","v":0}]
[]
[]
[]
[]
[]
[]
[]
[]
[]
[]
[]
[]
[]
[]
[]
[]
[]
[]
[]
[]
[]
[]
[]
[]
[]
[]
[]
[]
[]
[]
[]
[]
[]
[]
[]
[]
[]
[]
[]
[]
[]
[]
[]
[]
[]
[]
[]
[]
[]
[]
[]
[]
[]
[]
[]
[]
[]
[]
[]
[]
[]
[]
[]
[]
[]
[]
[]
[]
[]
[]
[]
[]
[]
[]
[]
["133."]
["134."]
["135."]
["136."]
["137."]
["138."]
["139."]
["140."]
["141."]
["142."]
["143."]
["144."]
["145."]
["146."]
["147."]
["148."]
["149."]
["150."]
["151."]
["152."]
["153."]
["154."]

{"sheet":"E. III. kcs","index":4,"n_rows":58,"n_cols":12,"rows_kept":58,"cut":false,"hidden":false,"merged":[[0,0,0,11]]}
["Kis iskolák III. korcsoport LEÁNY EGYÉNI végeredmény (Sorbarendezés Ctrl + f )"]
["Ssz","Név","Szév","100 m","p","Távol","p","Kisl","p","Összp",null,"Iskola"]
["1.",{"$f":"Be!A16","v":"László Amanda"},{"$f":"Be!B16","v":2010},{"$f":"Be!D16","v":8.9},{"$f":"Be!E16","v":191},{"$f":"Be!F16","v":3.75},{"$f":"Be!G16","v":110},{"$f":"Be!H16","v":38.9},{"$f":"Be!I16","v":135},{"$f":"Be!J16","v":436},null,{"$f":"Be!L16","v":"cikó"}]
["2.",{"$f":"Be!A66","v":"Rofrics Fatima"},{"$f":"Be!B66","v":2010},{"$f":"Be!D66","v":8.9},{"$f":"Be!E66","v":191},{"$f":"Be!F66","v":3.61},{"$f":"Be!G66","v":101},{"$f":"Be!H66","v":36.14},{"$f":"Be!I66","v":123},{"$f":"Be!J66","v":415},null,{"$f":"Be!A62","v":"Hőgyészi Hegyhát Ált. Isk. "}]
["3.",{"$f":"Be!A96","v":"Lakó Csenge"},{"$f":"Be!B96","v":2009},{"$f":"Be!D96","v":9.8000000000000007},{"$f":"Be!E96","v":147},{"$f":"Be!F96","v":4.03},{"$f":"Be!G96","v":128},{"$f":"Be!H96","v":27.28},{"$f":"Be!I96","v":86},{"$f":"Be!J96","v":361},null,{"$f":"Be!A92","v":"Őcsényi Perczel Mór Ált. Isk."}]
["4.",{"$f":"Be!A47","v":"Salamon Csenge"},{"$f":"Be!B47","v":2009},{"$f":"Be!D47","v":9.6999999999999993},{"$f":"Be!E47","v":152},{"$f":"Be!F47","v":3.48},{"$f":"Be!G47","v":93},{"$f":"Be!H47","v":32.700000000000003},{"$f":"Be!I47","v":108},{"$f":"Be!J47","v":353},null,{"$f":"Be!A42","v":"Teveli Ált. Isk"}]
["5.",{"$f":"Be!A46","v":"Csobot Léna Viktória"},{"$f":"Be!B46","v":2010},{"$f":"Be!D46","v":9.6999999999999993},{"$f":"Be!E46","v":152},{"$f":"Be!F46","v":3.74},{"$f":"Be!G46","v":109},{"$f":"Be!H46","v":26.8},{"$f":"Be!I46","v":84},{"$f":"Be!J46","v":345},null,{"$f":"Be!A42","v":"Teveli Ált. Isk"}]
["6.",{"$f":"Be!A86","v":"Paróczai Dana Eszter"},{"$f":"Be!B86","v":2010},{"$f":"Be!D86","v":9.4},{"$f":"Be!E86","v":166},{"$f":"Be!F86","v":3.66},{"$f":"Be!G86","v":104},{"$f":"Be!H86","v":23.28},{"$f":"Be!I86","v":71},{"$f":"Be!J86","v":341},null,{"$f":"Be!A82","v":"BÁI Kakasd"}]
["7.",{"$f":"Be!A67","v":"Tóth-Bera Dzsenifer"},{"$f":"Be!B67","v":2009},{"$f":"Be!D67","v":9.07},{"$f":"Be!E67","v":182},{"$f":"Be!F67","v":2.89},{"$f":"Be!G67","v":59},{"$f":"Be!H67","v":26.6},{"$f":"Be!I67","v":84},{"$f":"Be!J67","v":325},null,{"$f":"Be!A62","v":"Hőgyészi Hegyhát Ált. Isk. "}]
["8.",{"$f":"Be!A18","v":"Halvax Dominika"},{"$f":"Be!B18","v":2010},{"$f":"Be!D18","v":9.5},{"$f":"Be!E18","v":161},{"$f":"Be!F18","v":3.41},{"$f":"Be!G18","v":89},{"$f":"Be!H18","v":22.12},{"$f":"Be!I18","v":66},{"$f":"Be!J18","v":316},null,{"$f":"Be!L18","v":"Decs"}]
["9.",{"$f":"Be!A77","v":"Féder Jázmin"},{"$f":"Be!B77","v":2009},{"$f":"Be!D77","v":10},{"$f":"Be!E77","v":138},{"$f":"Be!F77","v":3.52},{"$f":"Be!G77","v":96},{"$f":"Be!H77","v":25.1},{"$f":"Be!I77","v":78},{"$f":"Be!J77","v":312},null,{"$f":"Be!A72","v":"Kölesdi Béri Balogh Ádám Ált. Isk."}]
["10.",{"$f":"Be!A97","v":"Sági Tímea"},{"$f":"Be!B97","v":2009},{"$f":"Be!D97","v":9.6999999999999993},{"$f":"Be!E97","v":152},{"$f":"Be!F97","v":3.56},{"$f":"Be!G97","v":98},{"$f":"Be!H97","v":20.5},{"$f":"Be!I97","v":60},{"$f":"Be!J97","v":310},null,{"$f":"Be!A92","v":"Őcsényi Perczel Mór Ált. Isk."}]
["11.",{"$f":"Be!A56","v":"Péter Vivien"},{"$f":"Be!B56","v":2010},{"$f":"Be!D56","v":9.5},{"$f":"Be!E56","v":161},{"$f":"Be!F56","v":3.48},{"$f":"Be!G56","v":93},{"$f":"Be!H56","v":18.68},{"$f":"Be!I56","v":52},{"$f":"Be!J56","v":306},null,{"$f":"Be!A52","v":"Várdomb-Alsónána Ált. Isk."}]
["12.",{"$f":"Be!A57","v":"Sárközi Angéla"},{"$f":"Be!B57","v":2009},{"$f":"Be!D57","v":9.3000000000000007},{"$f":"Be!E57","v":171},{"$f":"Be!F57","v":3.1},{"$f":"Be!G57","v":71},{"$f":"Be!H57","v":20.64},{"$f":"Be!I57","v":60},{"$f":"Be!J57","v":302},null,{"$f":"Be!A52","v":"Várdomb-Alsónána Ált. Isk."}]
["13.",{"$f":"Be!A19","v":"Rofsics Vanessza"},{"$f":"Be!B19","v":2010},{"$f":"Be!D19","v":9.8000000000000007},{"$f":"Be!E19","v":147},{"$f":"Be!F19","v":3.11},{"$f":"Be!G19","v":72},{"$f":"Be!H19","v":26.2},{"$f":"Be!I19","v":82},{"$f":"Be!J19","v":301},null,{"$f":"Be!L19","v":"Hőgyész"}]
["14.",{"$f":"Be!A76","v":"Bencze Vanessza Mária"},{"$f":"Be!B76","v":2009},{"$f":"Be!D76","v":9.5},{"$f":"Be!E76","v":161},{"$f":"Be!F76","v":2.77},{"$f":"Be!G76","v":52},{"$f":"Be!H76","v":27.3},{"$f":"Be!I76","v":86},{"$f":"Be!J76","v":299},null,{"$f":"Be!A72","v":"Kölesdi Béri Balogh Ádám Ált. Isk."}]
["15.",{"$f":"Be!A87","v":"Plózel Anna"},{"$f":"Be!B87","v":2010},{"$f":"Be!D87","v":10},{"$f":"Be!E87","v":138},{"$f":"Be!F87","v":2.94},{"$f":"Be!G87","v":62},{"$f":"Be!H87","v":23.79},{"$f":"Be!I87","v":73},{"$f":"Be!J87","v":273},null,{"$f":"Be!A82","v":"BÁI Kakasd"}]
["16.",{"$f":"Be!#REF!","v":{"$error":"#REF!"}},{"$f":"Be!B17","v":0},{"$f":"Be!D17","v":0},{"$f":"Be!E17","v":0},{"$f":"Be!F17","v":0},{"$f":"Be!G17","v":0},{"$f":"Be!H17","v":0},{"$f":"Be!I17","v":0},{"$f":"Be!J17","v":0},null,{"$f":"Be!L17","v":0}]
["17.",{"$f":"Be!A256","v":0},{"$f":"Be!B256","v":0},{"$f":"Be!D256","v":0},{"$f":"Be!E256","v":0},{"$f":"Be!F256","v":0},{"$f":"Be!G256","v":0},{"$f":"Be!H256","v":0},{"$f":"Be!I256","v":0},{"$f":"Be!J256","v":0},null,{"$f":"Be!A252","v":0}]
["18.",{"$f":"Be!A257","v":0},{"$f":"Be!B257","v":0},{"$f":"Be!D257","v":0},{"$f":"Be!E257","v":0},{"$f":"Be!F257","v":0},{"$f":"Be!G257","v":0},{"$f":"Be!H257","v":0},{"$f":"Be!I257","v":0},{"$f":"Be!J257","v":0},null,{"$f":"Be!A252","v":0}]
["19.",{"$f":"Be!A106","v":0},{"$f":"Be!B106","v":0},{"$f":"Be!D106","v":0},{"$f":"Be!E106","v":0},{"$f":"Be!F106","v":0},{"$f":"Be!G106","v":0},{"$f":"Be!H106","v":0},{"$f":"Be!I106","v":0},{"$f":"Be!J106","v":0},null,{"$f":"Be!A102","v":0}]
["20.",{"$f":"Be!A107","v":0},{"$f":"Be!B107","v":0},{"$f":"Be!D107","v":0},{"$f":"Be!E107","v":0},{"$f":"Be!F107","v":0},{"$f":"Be!G107","v":0},{"$f":"Be!H107","v":0},{"$f":"Be!I107","v":0},{"$f":"Be!J107","v":0},null,{"$f":"Be!A102","v":0}]
["21.",{"$f":"Be!A116","v":0},{"$f":"Be!B116","v":0},{"$f":"Be!D116","v":0},{"$f":"Be!E116","v":0},{"$f":"Be!F116","v":0},{"$f":"Be!G116","v":0},{"$f":"Be!H116","v":0},{"$f":"Be!I116","v":0},{"$f":"Be!J116","v":0},null,{"$f":"Be!A112","v":0}]
["22.",{"$f":"Be!A117","v":0},{"$f":"Be!B117","v":0},{"$f":"Be!D117","v":0},{"$f":"Be!E117","v":0},{"$f":"Be!F117","v":0},{"$f":"Be!G117","v":0},{"$f":"Be!H117","v":0},{"$f":"Be!I117","v":0},{"$f":"Be!J117","v":0},null,{"$f":"Be!A112","v":0}]
["23.",{"$f":"Be!A126","v":0},{"$f":"Be!B126","v":0},{"$f":"Be!D126","v":0},{"$f":"Be!E126","v":0},{"$f":"Be!F126","v":0},{"$f":"Be!G126","v":0},{"$f":"Be!H126","v":0},{"$f":"Be!I126","v":0},{"$f":"Be!J126","v":0},null,{"$f":"Be!A122","v":0}]
["24.",{"$f":"Be!A127","v":0},{"$f":"Be!B127","v":0},{"$f":"Be!D127","v":0},{"$f":"Be!E127","v":0},{"$f":"Be!F127","v":0},{"$f":"Be!G127","v":0},{"$f":"Be!H127","v":0},{"$f":"Be!I127","v":0},{"$f":"Be!J127","v":0},null,{"$f":"Be!A122","v":0}]
["25.",{"$f":"Be!A136","v":0},{"$f":"Be!B136","v":0},{"$f":"Be!D136","v":0},{"$f":"Be!E136","v":0},{"$f":"Be!F136","v":0},{"$f":"Be!G136","v":0},{"$f":"Be!H136","v":0},{"$f":"Be!I136","v":0},{"$f":"Be!J136","v":0},null,{"$f":"Be!A132","v":0}]
["26.",{"$f":"Be!A137","v":0},{"$f":"Be!B137","v":0},{"$f":"Be!D137","v":0},{"$f":"Be!E137","v":0},{"$f":"Be!F137","v":0},{"$f":"Be!G137","v":0},{"$f":"Be!H137","v":0},{"$f":"Be!I137","v":0},{"$f":"Be!J137","v":0},null,{"$f":"Be!A132","v":0}]
["27.",{"$f":"Be!A146","v":0},{"$f":"Be!B146","v":0},{"$f":"Be!D146","v":0},{"$f":"Be!E146","v":0},{"$f":"Be!F146","v":0},{"$f":"Be!G146","v":0},{"$f":"Be!H146","v":0},{"$f":"Be!I146","v":0},{"$f":"Be!J146","v":0},null,{"$f":"Be!A142","v":0}]
["28.",{"$f":"Be!A147","v":0},{"$f":"Be!B147","v":0},{"$f":"Be!D147","v":0},{"$f":"Be!E147","v":0},{"$f":"Be!F147","v":0},{"$f":"Be!G147","v":0},{"$f":"Be!H147","v":0},{"$f":"Be!I147","v":0},{"$f":"Be!J147","v":0},null,{"$f":"Be!A142","v":0}]
["29.",{"$f":"Be!A156","v":0},{"$f":"Be!B156","v":0},{"$f":"Be!D156","v":0},{"$f":"Be!E156","v":0},{"$f":"Be!F156","v":0},{"$f":"Be!G156","v":0},{"$f":"Be!H156","v":0},{"$f":"Be!I156","v":0},{"$f":"Be!J156","v":0},null,{"$f":"Be!A152","v":0}]
["30.",{"$f":"Be!A157","v":0},{"$f":"Be!B157","v":0},{"$f":"Be!D157","v":0},{"$f":"Be!E157","v":0},{"$f":"Be!F157","v":0},{"$f":"Be!G157","v":0},{"$f":"Be!H157","v":0},{"$f":"Be!I157","v":0},{"$f":"Be!J157","v":0},null,{"$f":"Be!A152","v":0}]
["31.",{"$f":"Be!A166","v":0},{"$f":"Be!B166","v":0},{"$f":"Be!D166","v":0},{"$f":"Be!E166","v":0},{"$f":"Be!F166","v":0},{"$f":"Be!G166","v":0},{"$f":"Be!H166","v":0},{"$f":"Be!I166","v":0},{"$f":"Be!J166","v":0},null,{"$f":"Be!A162","v":0}]
["32.",{"$f":"Be!A167","v":0},{"$f":"Be!B167","v":0},{"$f":"Be!D167","v":0},{"$f":"Be!E167","v":0},{"$f":"Be!F167","v":0},{"$f":"Be!G167","v":0},{"$f":"Be!H167","v":0},{"$f":"Be!I167","v":0},{"$f":"Be!J167","v":0},null,{"$f":"Be!A162","v":0}]
["33.",{"$f":"Be!A176","v":0},{"$f":"Be!B176","v":0},{"$f":"Be!D176","v":0},{"$f":"Be!E176","v":0},{"$f":"Be!F176","v":0},{"$f":"Be!G176","v":0},{"$f":"Be!H176","v":0},{"$f":"Be!I176","v":0},{"$f":"Be!J176","v":0},null,{"$f":"Be!A172","v":0}]
["34.",{"$f":"Be!A177","v":0},{"$f":"Be!B177","v":0},{"$f":"Be!D177","v":0},{"$f":"Be!E177","v":0},{"$f":"Be!F177","v":0},{"$f":"Be!G177","v":0},{"$f":"Be!H177","v":0},{"$f":"Be!I177","v":0},{"$f":"Be!J177","v":0},null,{"$f":"Be!A172","v":0}]
["35.",{"$f":"Be!A186","v":0},{"$f":"Be!B186","v":0},{"$f":"Be!D186","v":0},{"$f":"Be!E186","v":0},{"$f":"Be!F186","v":0},{"$f":"Be!G186","v":0},{"$f":"Be!H186","v":0},{"$f":"Be!I186","v":0},{"$f":"Be!J186","v":0},null,{"$f":"Be!A182","v":0}]
["36.",{"$f":"Be!A187","v":0},{"$f":"Be!B187","v":0},{"$f":"Be!D187","v":0},{"$f":"Be!E187","v":0},{"$f":"Be!F187","v":0},{"$f":"Be!G187","v":0},{"$f":"Be!H187","v":0},{"$f":"Be!I187","v":0},{"$f":"Be!J187","v":0},null,{"$f":"Be!A182","v":0}]
["37.",{"$f":"Be!A196","v":0},{"$f":"Be!B196","v":0},{"$f":"Be!D196","v":0},{"$f":"Be!E196","v":0},{"$f":"Be!F196","v":0},{"$f":"Be!G196","v":0},{"$f":"Be!H196","v":0},{"$f":"Be!I196","v":0},{"$f":"Be!J196","v":0},null,{"$f":"Be!A192","v":0}]
["38.",{"$f":"Be!A197","v":0},{"$f":"Be!B197","v":0},{"$f":"Be!D197","v":0},{"$f":"Be!E197","v":0},{"$f":"Be!F197","v":0},{"$f":"Be!G197","v":0},{"$f":"Be!H197","v":0},{"$f":"Be!I197","v":0},{"$f":"Be!J197","v":0},null,{"$f":"Be!A192","v":0}]
["39.",{"$f":"Be!A206","v":0},{"$f":"Be!B206","v":0},{"$f":"Be!D206","v":0},{"$f":"Be!E206","v":0},{"$f":"Be!F206","v":0},{"$f":"Be!G206","v":0},{"$f":"Be!H206","v":0},{"$f":"Be!I206","v":0},{"$f":"Be!J206","v":0},null,{"$f":"Be!A202","v":0}]
["40.",{"$f":"Be!A207","v":0},{"$f":"Be!B207","v":0},{"$f":"Be!D207","v":0},{"$f":"Be!E207","v":0},{"$f":"Be!F207","v":0},{"$f":"Be!G207","v":0},{"$f":"Be!H207","v":0},{"$f":"Be!I207","v":0},{"$f":"Be!J207","v":0},null,{"$f":"Be!A202","v":0}]
["41.",{"$f":"Be!A216","v":0},{"$f":"Be!B216","v":0},{"$f":"Be!D216","v":0},{"$f":"Be!E216","v":0},{"$f":"Be!F216","v":0},{"$f":"Be!G216","v":0},{"$f":"Be!H216","v":0},{"$f":"Be!I216","v":0},{"$f":"Be!J216","v":0},null,{"$f":"Be!A212","v":0}]
["42.",{"$f":"Be!A217","v":0},{"$f":"Be!B217","v":0},{"$f":"Be!D217","v":0},{"$f":"Be!E217","v":0},{"$f":"Be!F217","v":0},{"$f":"Be!G217","v":0},{"$f":"Be!H217","v":0},{"$f":"Be!I217","v":0},{"$f":"Be!J217","v":0},null,{"$f":"Be!A212","v":0}]
["43.",{"$f":"Be!A226","v":0},{"$f":"Be!B226","v":0},{"$f":"Be!D226","v":0},{"$f":"Be!E226","v":0},{"$f":"Be!F226","v":0},{"$f":"Be!G226","v":0},{"$f":"Be!H226","v":0},{"$f":"Be!I226","v":0},{"$f":"Be!J226","v":0},null,{"$f":"Be!A222","v":0}]
["44.",{"$f":"Be!A227","v":0},{"$f":"Be!B227","v":0},{"$f":"Be!D227","v":0},{"$f":"Be!E227","v":0},{"$f":"Be!F227","v":0},{"$f":"Be!G227","v":0},{"$f":"Be!H227","v":0},{"$f":"Be!I227","v":0},{"$f":"Be!J227","v":0},null,{"$f":"Be!A222","v":0}]
["45.",{"$f":"Be!A236","v":0},{"$f":"Be!B236","v":0},{"$f":"Be!D236","v":0},{"$f":"Be!E236","v":0},{"$f":"Be!F236","v":0},{"$f":"Be!G236","v":0},{"$f":"Be!H236","v":0},{"$f":"Be!I236","v":0},{"$f":"Be!J236","v":0},null,{"$f":"Be!A232","v":0}]
["46.",{"$f":"Be!A237","v":0},{"$f":"Be!B237","v":0},{"$f":"Be!D237","v":0},{"$f":"Be!E237","v":0},{"$f":"Be!F237","v":0},{"$f":"Be!G237","v":0},{"$f":"Be!H237","v":0},{"$f":"Be!I237","v":0},{"$f":"Be!J237","v":0},null,{"$f":"Be!A232","v":0}]
["47.",{"$f":"Be!A246","v":0},{"$f":"Be!B246","v":0},{"$f":"Be!D246","v":0},{"$f":"Be!E246","v":0},{"$f":"Be!F246","v":0},{"$f":"Be!G246","v":0},{"$f":"Be!H246","v":0},{"$f":"Be!I246","v":0},{"$f":"Be!J246","v":0},null,{"$f":"Be!A242","v":0}]
["48.",{"$f":"Be!A247","v":0},{"$f":"Be!B247","v":0},{"$f":"Be!D247","v":0},{"$f":"Be!E247","v":0},{"$f":"Be!F247","v":0},{"$f":"Be!G247","v":0},{"$f":"Be!H247","v":0},{"$f":"Be!I247","v":0},{"$f":"Be!J247","v":0},null,{"$f":"Be!A242","v":0}]
["49.",{"$f":"Be!A20","v":0},{"$f":"Be!B20","v":0},{"$f":"Be!D20","v":0},{"$f":"Be!E20","v":0},{"$f":"Be!F20","v":0},{"$f":"Be!G20","v":0},{"$f":"Be!H20","v":0},{"$f":"Be!I20","v":0},{"$f":"Be!J20","v":0},null,{"$f":"Be!L20","v":0}]
["50.",{"$f":"Be!A17","v":0},{"$f":"Be!B21","v":0},{"$f":"Be!D21","v":0},{"$f":"Be!E21","v":0},{"$f":"Be!F21","v":0},{"$f":"Be!G21","v":0},{"$f":"Be!H21","v":0},{"$f":"Be!I21","v":0},{"$f":"Be!J21","v":0},null,{"$f":"Be!L21","v":0}]
["51.",{"$f":"Be!A22","v":0},{"$f":"Be!B22","v":0},{"$f":"Be!D22","v":0},{"$f":"Be!E22","v":0},{"$f":"Be!F22","v":0},{"$f":"Be!G22","v":0},{"$f":"Be!H22","v":0},{"$f":"Be!I22","v":0},{"$f":"Be!J22","v":0},null,{"$f":"Be!L22","v":0}]
["52.",{"$f":"Be!A23","v":0},{"$f":"Be!B23","v":0},{"$f":"Be!D23","v":0},{"$f":"Be!E23","v":0},{"$f":"Be!F23","v":0},{"$f":"Be!G23","v":0},{"$f":"Be!H23","v":0},{"$f":"Be!I23","v":0},{"$f":"Be!J23","v":0},null,{"$f":"Be!L23","v":0}]
["53.",{"$f":"Be!A24","v":0},{"$f":"Be!B24","v":0},{"$f":"Be!D24","v":0},{"$f":"Be!E24","v":0},{"$f":"Be!F24","v":0},{"$f":"Be!G24","v":0},{"$f":"Be!H24","v":0},{"$f":"Be!I24","v":0},{"$f":"Be!J24","v":0},null,{"$f":"Be!L24","v":0}]
["54.",{"$f":"Be!A25","v":0},{"$f":"Be!B25","v":0},{"$f":"Be!D25","v":0},{"$f":"Be!E25","v":0},{"$f":"Be!F25","v":0},{"$f":"Be!G25","v":0},{"$f":"Be!H25","v":0},{"$f":"Be!I25","v":0},{"$f":"Be!J25","v":0},null,{"$f":"Be!L25","v":0}]
["55.",{"$f":"Be!A26","v":0},{"$f":"Be!B26","v":0},{"$f":"Be!D26","v":0},{"$f":"Be!E26","v":0},{"$f":"Be!F26","v":0},{"$f":"Be!G26","v":0},{"$f":"Be!H26","v":0},{"$f":"Be!I26","v":0},{"$f":"Be!J26","v":0},null,{"$f":"Be!L26","v":0}]
["56.",{"$f":"Be!A27","v":0},{"$f":"Be!B27","v":0},{"$f":"Be!D27","v":0},{"$f":"Be!E27","v":0},{"$f":"Be!F27","v":0},{"$f":"Be!G27","v":0},{"$f":"Be!H27","v":0},{"$f":"Be!I27","v":0},{"$f":"Be!J27","v":0},null,{"$f":"Be!L27","v":0}]

{"sheet":"E. IV. kcs","index":5,"n_rows":58,"n_cols":12,"rows_kept":58,"cut":false,"hidden":false,"merged":[[0,0,0,11]]}
["Kis iskolák IV. korcsoport LEÁNY EGYÉNI végeredmény (Sorbarendezés Ctrl + g )"]
["Ssz","Név","Szév","100 m","p","Távol","p","Kisl","p","Összp",null,"Iskola"]
["1.",{"$f":"Be!A78","v":"Bán Dzsenifer Réka"},{"$f":"Be!B78","v":2007},{"$f":"Be!D78","v":14.7},{"$f":"Be!E78","v":147},{"$f":"Be!F78","v":4.32},{"$f":"Be!G78","v":147},{"$f":"Be!H78","v":34.159999999999997},{"$f":"Be!I78","v":115},{"$f":"Be!J78","v":409},null,{"$f":"Be!A72","v":"Kölesdi Béri Balogh Ádám Ált. Isk."}]
["2.",{"$f":"Be!A89","v":"Kolozsvári Hilcz Kitti"},{"$f":"Be!B89","v":2007},{"$f":"Be!D89","v":14.4},{"$f":"Be!E89","v":160},{"$f":"Be!F89","v":3.92},{"$f":"Be!G89","v":121},{"$f":"Be!H89","v":31.95},{"$f":"Be!I89","v":105},{"$f":"Be!J89","v":386},null,{"$f":"Be!A82","v":"BÁI Kakasd"}]
["3.",{"$f":"Be!A79","v":"Kalmár Zsófia "},{"$f":"Be!B79","v":2007},{"$f":"Be!D79","v":14.6},{"$f":"Be!E79","v":151},{"$f":"Be!F79","v":3.72},{"$f":"Be!G79","v":108},{"$f":"Be!H79","v":31.2},{"$f":"Be!I79","v":102},{"$f":"Be!J79","v":361},null,{"$f":"Be!A72","v":"Kölesdi Béri Balogh Ádám Ált. Isk."}]
["4.",{"$f":"Be!A48","v":"Éri Boglárka"},{"$f":"Be!B48","v":2008},{"$f":"Be!D48","v":14.9},{"$f":"Be!E48","v":140},{"$f":"Be!F48","v":3.77},{"$f":"Be!G48","v":111},{"$f":"Be!H48","v":27.29},{"$f":"Be!I48","v":86},{"$f":"Be!J48","v":337},null,{"$f":"Be!A42","v":"Teveli Ált. Isk"}]
["5.",{"$f":"Be!A68","v":"Bordás Lara"},{"$f":"Be!B68","v":2008},{"$f":"Be!D68","v":15.3},{"$f":"Be!E68","v":125},{"$f":"Be!F68","v":3.74},{"$f":"Be!G68","v":109},{"$f":"Be!H68","v":30.24},{"$f":"Be!I68","v":98},{"$f":"Be!J68","v":332},null,{"$f":"Be!A62","v":"Hőgyészi Hegyhát Ált. Isk. "}]
["6.",{"$f":"Be!A28","v":"Horváth Réka"},{"$f":"Be!B28","v":2007},{"$f":"Be!D28","v":15},{"$f":"Be!E28","v":136},{"$f":"Be!F28","v":3.96},{"$f":"Be!G28","v":124},{"$f":"Be!H28","v":23.45},{"$f":"Be!I28","v":71},{"$f":"Be!J28","v":331},null,{"$f":"Be!L28","v":"Hőgyész"}]
["7.",{"$f":"Be!A69","v":"Orsós Nikoletta"},{"$f":"Be!B69","v":2008},{"$f":"Be!D69","v":17},{"$f":"Be!E69","v":64},{"$f":"Be!F69","v":3.78},{"$f":"Be!G69","v":112},{"$f":"Be!H69","v":39.950000000000003},{"$f":"Be!I69","v":139},{"$f":"Be!J69","v":315},null,{"$f":"Be!A62","v":"Hőgyészi Hegyhát Ált. Isk. "}]
["8.",{"$f":"Be!A32","v":"Varga Dóra"},{"$f":"Be!B32","v":2008},{"$f":"Be!D32","v":14.5},{"$f":"Be!E32","v":156},{"$f":"Be!F32","v":3.32},{"$f":"Be!G32","v":84},{"$f":"Be!H32","v":20},{"$f":"Be!I32","v":58},{"$f":"Be!J32","v":298},null,{"$f":"Be!L32","v":"Decs"}]
["9.",{"$f":"Be!A49","v":"Erb Zsüliett"},{"$f":"Be!B49","v":2008},{"$f":"Be!D49","v":16.399999999999999},{"$f":"Be!E49","v":85},{"$f":"Be!F49","v":3.3},{"$f":"Be!G49","v":83},{"$f":"Be!H49","v":32.65},{"$f":"Be!I49","v":108},{"$f":"Be!J49","v":276},null,{"$f":"Be!A42","v":"Teveli Ált. Isk"}]
["10.",{"$f":"Be!A98","v":"Gellér Fanni"},{"$f":"Be!B98","v":2007},{"$f":"Be!D98","v":16.2},{"$f":"Be!E98","v":91},{"$f":"Be!F98","v":3.58},{"$f":"Be!G98","v":99},{"$f":"Be!H98","v":18.05},{"$f":"Be!I98","v":50},{"$f":"Be!J98","v":240},null,{"$f":"Be!A92","v":"Őcsényi Perczel Mór Ált. Isk."}]
["11.",{"$f":"Be!A88","v":"Pesti Lívia"},{"$f":"Be!B88","v":2008},{"$f":"Be!D88","v":17},{"$f":"Be!E88","v":64},{"$f":"Be!F88","v":3.39},{"$f":"Be!G88","v":88},{"$f":"Be!H88","v":26.55},{"$f":"Be!I88","v":83},{"$f":"Be!J88","v":235},null,{"$f":"Be!A82","v":"BÁI Kakasd"}]
["12.",{"$f":"Be!A30","v":"Auvalszki Renáta"},{"$f":"Be!B30","v":2008},{"$f":"Be!D30","v":16.3},{"$f":"Be!E30","v":88},{"$f":"Be!F30","v":2.8},{"$f":"Be!G30","v":54},{"$f":"Be!H30","v":25.76},{"$f":"Be!I30","v":80},{"$f":"Be!J30","v":222},null,{"$f":"Be!L30","v":"Várdomb"}]
["13.",{"$f":"Be!A99","v":"Naszvadi Hunorka"},{"$f":"Be!B99","v":2007},{"$f":"Be!D99","v":17.2},{"$f":"Be!E99","v":57},{"$f":"Be!F99","v":3.56},{"$f":"Be!G99","v":98},{"$f":"Be!H99","v":21.07},{"$f":"Be!I99","v":62},{"$f":"Be!J99","v":217},null,{"$f":"Be!A92","v":"Őcsényi Perczel Mór Ált. Isk."}]
["14.",{"$f":"Be!A58","v":"Keinráth Anna"},{"$f":"Be!B58","v":2007},{"$f":"Be!D58","v":16.600000000000001},{"$f":"Be!E58","v":78},{"$f":"Be!F58","v":2.72},{"$f":"Be!G58","v":49},{"$f":"Be!H58","v":26.86},{"$f":"Be!I58","v":85},{"$f":"Be!J58","v":212},null,{"$f":"Be!A52","v":"Várdomb-Alsónána Ált. Isk."}]
["15.",{"$f":"Be!A59","v":"Medveczki Dóra"},{"$f":"Be!B59","v":2007},{"$f":"Be!D59","v":18.8},{"$f":"Be!E59","v":6},{"$f":"Be!F59","v":3.08},{"$f":"Be!G59","v":70},{"$f":"Be!H59","v":32.299999999999997},{"$f":"Be!I59","v":107},{"$f":"Be!J59","v":183},null,{"$f":"Be!A52","v":"Várdomb-Alsónána Ált. Isk."}]
["16.",{"$f":"Be!A31","v":"Pasztovszki Zsófia"},{"$f":"Be!B31","v":2008},{"$f":"Be!D31","v":18.7},{"$f":"Be!E31","v":9},{"$f":"Be!F31","v":2.57},{"$f":"Be!G31","v":41},{"$f":"Be!H31","v":20.97},{"$f":"Be!I31","v":61},{"$f":"Be!J31","v":111},null,{"$f":"Be!L31","v":"Várdomb"}]
["17.",{"$f":"Be!A29","v":"Kovács Ramóna"},{"$f":"Be!B29","v":2007},{"$f":"Be!D29","v":20},{"$f":"Be!E29","v":0},{"$f":"Be!F29","v":0},{"$f":"Be!G29","v":0},{"$f":"Be!H29","v":23.26},{"$f":"Be!I29","v":70},{"$f":"Be!J29","v":70},null,{"$f":"Be!L29","v":"Hőgyész"}]
["18.",{"$f":"Be!A258","v":0},{"$f":"Be!B258","v":0},{"$f":"Be!D258","v":0},{"$f":"Be!E258","v":0},{"$f":"Be!F258","v":0},{"$f":"Be!G258","v":0},{"$f":"Be!H258","v":0},{"$f":"Be!I258","v":0},{"$f":"Be!J258","v":0},null,{"$f":"Be!A252","v":0}]
["19.",{"$f":"Be!A259","v":0},{"$f":"Be!B259","v":0},{"$f":"Be!D259","v":0},{"$f":"Be!E259","v":0},{"$f":"Be!F259","v":0},{"$f":"Be!G259","v":0},{"$f":"Be!H259","v":0},{"$f":"Be!I259","v":0},{"$f":"Be!J259","v":0},null,{"$f":"Be!A252","v":0}]
["20.",{"$f":"Be!A108","v":0},{"$f":"Be!B108","v":0},{"$f":"Be!D108","v":0},{"$f":"Be!E108","v":0},{"$f":"Be!F108","v":0},{"$f":"Be!G108","v":0},{"$f":"Be!H108","v":0},{"$f":"Be!I108","v":0},{"$f":"Be!J108","v":0},null,{"$f":"Be!A102","v":0}]
["21.",{"$f":"Be!A109","v":0},{"$f":"Be!B109","v":0},{"$f":"Be!D109","v":0},{"$f":"Be!E109","v":0},{"$f":"Be!F109","v":0},{"$f":"Be!G109","v":0},{"$f":"Be!H109","v":0},{"$f":"Be!I109","v":0},{"$f":"Be!J109","v":0},null,{"$f":"Be!A102","v":0}]
["22.",{"$f":"Be!A118","v":0},{"$f":"Be!B118","v":0},{"$f":"Be!D118","v":0},{"$f":"Be!E118","v":0},{"$f":"Be!F118","v":0},{"$f":"Be!G118","v":0},{"$f":"Be!H118","v":0},{"$f":"Be!I118","v":0},{"$f":"Be!J118","v":0},null,{"$f":"Be!A112","v":0}]
["23.",{"$f":"Be!A119","v":0},{"$f":"Be!B119","v":0},{"$f":"Be!D119","v":0},{"$f":"Be!E119","v":0},{"$f":"Be!F119","v":0},{"$f":"Be!G119","v":0},{"$f":"Be!H119","v":0},{"$f":"Be!I119","v":0},{"$f":"Be!J119","v":0},null,{"$f":"Be!A112","v":0}]
["24.",{"$f":"Be!A128","v":0},{"$f":"Be!B128","v":0},{"$f":"Be!D128","v":0},{"$f":"Be!E128","v":0},{"$f":"Be!F128","v":0},{"$f":"Be!G128","v":0},{"$f":"Be!H128","v":0},{"$f":"Be!I128","v":0},{"$f":"Be!J128","v":0},null,{"$f":"Be!A122","v":0}]
["25.",{"$f":"Be!A129","v":0},{"$f":"Be!B129","v":0},{"$f":"Be!D129","v":0},{"$f":"Be!E129","v":0},{"$f":"Be!F129","v":0},{"$f":"Be!G129","v":0},{"$f":"Be!H129","v":0},{"$f":"Be!I129","v":0},{"$f":"Be!J129","v":0},null,{"$f":"Be!A122","v":0}]
["26.",{"$f":"Be!A138","v":0},{"$f":"Be!B138","v":0},{"$f":"Be!D138","v":0},{"$f":"Be!E138","v":0},{"$f":"Be!F138","v":0},{"$f":"Be!G138","v":0},{"$f":"Be!H138","v":0},{"$f":"Be!I138","v":0},{"$f":"Be!J138","v":0},null,{"$f":"Be!A132","v":0}]
["27.",{"$f":"Be!A139","v":0},{"$f":"Be!B139","v":0},{"$f":"Be!D139","v":0},{"$f":"Be!E139","v":0},{"$f":"Be!F139","v":0},{"$f":"Be!G139","v":0},{"$f":"Be!H139","v":0},{"$f":"Be!I139","v":0},{"$f":"Be!J139","v":0},null,{"$f":"Be!A132","v":0}]
["28.",{"$f":"Be!A148","v":0},{"$f":"Be!B148","v":0},{"$f":"Be!D148","v":0},{"$f":"Be!E148","v":0},{"$f":"Be!F148","v":0},{"$f":"Be!G148","v":0},{"$f":"Be!H148","v":0},{"$f":"Be!I148","v":0},{"$f":"Be!J148","v":0},null,{"$f":"Be!A142","v":0}]
["29.",{"$f":"Be!A149","v":0},{"$f":"Be!B149","v":0},{"$f":"Be!D149","v":0},{"$f":"Be!E149","v":0},{"$f":"Be!F149","v":0},{"$f":"Be!G149","v":0},{"$f":"Be!H149","v":0},{"$f":"Be!I149","v":0},{"$f":"Be!J149","v":0},null,{"$f":"Be!A142","v":0}]
["30.",{"$f":"Be!A158","v":0},{"$f":"Be!B158","v":0},{"$f":"Be!D158","v":0},{"$f":"Be!E158","v":0},{"$f":"Be!F158","v":0},{"$f":"Be!G158","v":0},{"$f":"Be!H158","v":0},{"$f":"Be!I158","v":0},{"$f":"Be!J158","v":0},null,{"$f":"Be!A152","v":0}]
["31.",{"$f":"Be!A159","v":0},{"$f":"Be!B159","v":0},{"$f":"Be!D159","v":0},{"$f":"Be!E159","v":0},{"$f":"Be!F159","v":0},{"$f":"Be!G159","v":0},{"$f":"Be!H159","v":0},{"$f":"Be!I159","v":0},{"$f":"Be!J159","v":0},null,{"$f":"Be!A152","v":0}]
["32.",{"$f":"Be!A168","v":0},{"$f":"Be!B168","v":0},{"$f":"Be!D168","v":0},{"$f":"Be!E168","v":0},{"$f":"Be!F168","v":0},{"$f":"Be!G168","v":0},{"$f":"Be!H168","v":0},{"$f":"Be!I168","v":0},{"$f":"Be!J168","v":0},null,{"$f":"Be!A162","v":0}]
["33.",{"$f":"Be!A169","v":0},{"$f":"Be!B169","v":0},{"$f":"Be!D169","v":0},{"$f":"Be!E169","v":0},{"$f":"Be!F169","v":0},{"$f":"Be!G169","v":0},{"$f":"Be!H169","v":0},{"$f":"Be!I169","v":0},{"$f":"Be!J169","v":0},null,{"$f":"Be!A162","v":0}]
["34.",{"$f":"Be!A178","v":0},{"$f":"Be!B178","v":0},{"$f":"Be!D178","v":0},{"$f":"Be!E178","v":0},{"$f":"Be!F178","v":0},{"$f":"Be!G178","v":0},{"$f":"Be!H178","v":0},{"$f":"Be!I178","v":0},{"$f":"Be!J178","v":0},null,{"$f":"Be!A172","v":0}]
["35.",{"$f":"Be!A179","v":0},{"$f":"Be!B179","v":0},{"$f":"Be!D179","v":0},{"$f":"Be!E179","v":0},{"$f":"Be!F179","v":0},{"$f":"Be!G179","v":0},{"$f":"Be!H179","v":0},{"$f":"Be!I179","v":0},{"$f":"Be!J179","v":0},null,{"$f":"Be!A172","v":0}]
["36.",{"$f":"Be!A188","v":0},{"$f":"Be!B188","v":0},{"$f":"Be!D188","v":0},{"$f":"Be!E188","v":0},{"$f":"Be!F188","v":0},{"$f":"Be!G188","v":0},{"$f":"Be!H188","v":0},{"$f":"Be!I188","v":0},{"$f":"Be!J188","v":0},null,{"$f":"Be!A182","v":0}]
["37.",{"$f":"Be!A189","v":0},{"$f":"Be!B189","v":0},{"$f":"Be!D189","v":0},{"$f":"Be!E189","v":0},{"$f":"Be!F189","v":0},{"$f":"Be!G189","v":0},{"$f":"Be!H189","v":0},{"$f":"Be!I189","v":0},{"$f":"Be!J189","v":0},null,{"$f":"Be!A182","v":0}]
["38.",{"$f":"Be!A198","v":0},{"$f":"Be!B198","v":0},{"$f":"Be!D198","v":0},{"$f":"Be!E198","v":0},{"$f":"Be!F198","v":0},{"$f":"Be!G198","v":0},{"$f":"Be!H198","v":0},{"$f":"Be!I198","v":0},{"$f":"Be!J198","v":0},null,{"$f":"Be!A192","v":0}]
["39.",{"$f":"Be!A199","v":0},{"$f":"Be!B199","v":0},{"$f":"Be!D199","v":0},{"$f":"Be!E199","v":0},{"$f":"Be!F199","v":0},{"$f":"Be!G199","v":0},{"$f":"Be!H199","v":0},{"$f":"Be!I199","v":0},{"$f":"Be!J199","v":0},null,{"$f":"Be!A192","v":0}]
["40.",{"$f":"Be!A208","v":0},{"$f":"Be!B208","v":0},{"$f":"Be!D208","v":0},{"$f":"Be!E208","v":0},{"$f":"Be!F208","v":0},{"$f":"Be!G208","v":0},{"$f":"Be!H208","v":0},{"$f":"Be!I208","v":0},{"$f":"Be!J208","v":0},null,{"$f":"Be!A202","v":0}]
["41.",{"$f":"Be!A209","v":0},{"$f":"Be!B209","v":0},{"$f":"Be!D209","v":0},{"$f":"Be!E209","v":0},{"$f":"Be!F209","v":0},{"$f":"Be!G209","v":0},{"$f":"Be!H209","v":0},{"$f":"Be!I209","v":0},{"$f":"Be!J209","v":0},null,{"$f":"Be!A202","v":0}]
["42.",{"$f":"Be!A218","v":0},{"$f":"Be!B218","v":0},{"$f":"Be!D218","v":0},{"$f":"Be!E218","v":0},{"$f":"Be!F218","v":0},{"$f":"Be!G218","v":0},{"$f":"Be!H218","v":0},{"$f":"Be!I218","v":0},{"$f":"Be!J218","v":0},null,{"$f":"Be!A212","v":0}]
["43.",{"$f":"Be!A219","v":0},{"$f":"Be!B219","v":0},{"$f":"Be!D219","v":0},{"$f":"Be!E219","v":0},{"$f":"Be!F219","v":0},{"$f":"Be!G219","v":0},{"$f":"Be!H219","v":0},{"$f":"Be!I219","v":0},{"$f":"Be!J219","v":0},null,{"$f":"Be!A212","v":0}]
["44.",{"$f":"Be!A228","v":0},{"$f":"Be!B228","v":0},{"$f":"Be!D228","v":0},{"$f":"Be!E228","v":0},{"$f":"Be!F228","v":0},{"$f":"Be!G228","v":0},{"$f":"Be!H228","v":0},{"$f":"Be!I228","v":0},{"$f":"Be!J228","v":0},null,{"$f":"Be!A222","v":0}]
["45.",{"$f":"Be!A229","v":0},{"$f":"Be!B229","v":0},{"$f":"Be!D229","v":0},{"$f":"Be!E229","v":0},{"$f":"Be!F229","v":0},{"$f":"Be!G229","v":0},{"$f":"Be!H229","v":0},{"$f":"Be!I229","v":0},{"$f":"Be!J229","v":0},null,{"$f":"Be!A222","v":0}]
["46.",{"$f":"Be!A238","v":0},{"$f":"Be!B238","v":0},{"$f":"Be!D238","v":0},{"$f":"Be!E238","v":0},{"$f":"Be!F238","v":0},{"$f":"Be!G238","v":0},{"$f":"Be!H238","v":0},{"$f":"Be!I238","v":0},{"$f":"Be!J238","v":0},null,{"$f":"Be!A232","v":0}]
["47.",{"$f":"Be!A239","v":0},{"$f":"Be!B239","v":0},{"$f":"Be!D239","v":0},{"$f":"Be!E239","v":0},{"$f":"Be!F239","v":0},{"$f":"Be!G239","v":0},{"$f":"Be!H239","v":0},{"$f":"Be!I239","v":0},{"$f":"Be!J239","v":0},null,{"$f":"Be!A232","v":0}]
["48.",{"$f":"Be!A248","v":0},{"$f":"Be!B248","v":0},{"$f":"Be!D248","v":0},{"$f":"Be!E248","v":0},{"$f":"Be!F248","v":0},{"$f":"Be!G248","v":0},{"$f":"Be!H248","v":0},{"$f":"Be!I248","v":0},{"$f":"Be!J248","v":0},null,{"$f":"Be!A242","v":0}]
["49.",{"$f":"Be!A249","v":0},{"$f":"Be!B249","v":0},{"$f":"Be!D249","v":0},{"$f":"Be!E249","v":0},{"$f":"Be!F249","v":0},{"$f":"Be!G249","v":0},{"$f":"Be!H249","v":0},{"$f":"Be!I249","v":0},{"$f":"Be!J249","v":0},null,{"$f":"Be!A242","v":0}]
["50.",{"$f":"Be!A33","v":0},{"$f":"Be!B33","v":0},{"$f":"Be!D33","v":0},{"$f":"Be!E33","v":0},{"$f":"Be!F33","v":0},{"$f":"Be!G33","v":0},{"$f":"Be!H33","v":0},{"$f":"Be!I33","v":0},{"$f":"Be!J33","v":0},null,{"$f":"Be!L33","v":0}]
["51.",{"$f":"Be!A34","v":0},{"$f":"Be!B34","v":0},{"$f":"Be!D34","v":0},{"$f":"Be!E34","v":0},{"$f":"Be!F34","v":0},{"$f":"Be!G34","v":0},{"$f":"Be!H34","v":0},{"$f":"Be!I34","v":0},{"$f":"Be!J34","v":0},null,{"$f":"Be!L34","v":0}]
["52.",{"$f":"Be!A35","v":0},{"$f":"Be!B35","v":0},{"$f":"Be!D35","v":0},{"$f":"Be!E35","v":0},{"$f":"Be!F35","v":0},{"$f":"Be!G35","v":0},{"$f":"Be!H35","v":0},{"$f":"Be!I35","v":0},{"$f":"Be!J35","v":0},null,{"$f":"Be!L35","v":0}]
["53.",{"$f":"Be!A36","v":0},{"$f":"Be!B36","v":0},{"$f":"Be!D36","v":0},{"$f":"Be!E36","v":0},{"$f":"Be!F36","v":0},{"$f":"Be!G36","v":0},{"$f":"Be!H36","v":0},{"$f":"Be!I36","v":0},{"$f":"Be!J36","v":0},null,{"$f":"Be!L36","v":0}]
["54.",{"$f":"Be!A37","v":0},{"$f":"Be!B37","v":0},{"$f":"Be!D37","v":0},{"$f":"Be!E37","v":0},{"$f":"Be!F37","v":0},{"$f":"Be!G37","v":0},{"$f":"Be!H37","v":0},{"$f":"Be!I37","v":0},{"$f":"Be!J37","v":0},null,{"$f":"Be!L37","v":0}]
["55.",{"$f":"Be!A38","v":0},{"$f":"Be!B38","v":0},{"$f":"Be!D38","v":0},{"$f":"Be!E38","v":0},{"$f":"Be!F38","v":0},{"$f":"Be!G38","v":0},{"$f":"Be!H38","v":0},{"$f":"Be!I38","v":0},{"$f":"Be!J38","v":0},null,{"$f":"Be!L38","v":0}]
["56.",{"$f":"Be!A39","v":0},{"$f":"Be!B39","v":0},{"$f":"Be!D39","v":0},{"$f":"Be!E39","v":0},{"$f":"Be!F39","v":0},{"$f":"Be!G39","v":0},{"$f":"Be!H39","v":0},{"$f":"Be!I39","v":0},{"$f":"Be!J39","v":0},null,{"$f":"Be!L39","v":0}]