{"text_format":"1","workbook":"xlsx","n_sheets":6,"sheets":["fiú","Be","Csapat","E. II. kcs","E. III. kcs","E. IV. kcs"],"not_rendered":{"charts":0,"images":0,"macros":1,"external_links":1,"defined_names":10,"comments":0,"pivot_tables":0},"unopened":[],"bounds":{"document_bytes":16777216,"sheet_cells":100000,"rows_first":2000,"rows_last":500,"rows_between":2000,"halvings":0,"cell_chars":16384,"cell_head_chars":4096},"cells_cut":0,"cells_raw":0,"read":"whole","date_system":"1900"}

{"sheet":"fiú","index":0,"n_rows":302,"n_cols":18,"rows_kept":302,"cut":false,"hidden":true,"merged":[]}
[null,"61 m","60m","101 m","100m","801 m","800 m","Pont","Távol","Súlyl.","Kisl.","Pont"]
[null,6.21,6.22,9.98,10,"00:01:58","00:02:00",300,1.8,3,4,0,null,null,null,null,null,180]
[null,{"$f":"C2+0.0051","v":6.2250999999999994},{"$f":"C4-(C$52-C$2)/50","v":6.2396000000000189},10.005100000000001,10.024000000000042,"00:02:00.001","00:02:00.200",299,1.82,3.06,4.3600000000000003,1,null,null,null,null,null,182]
[null,6.2447000000000186,6.2592000000000185,10.029100000000042,10.048000000000041,"00:02:00.201","00:02:00.600",298,1.85,3.12,4.7300000000000004,2,null,null,null,null,null,184]
[null,6.2643000000000182,6.2788000000000181,10.053100000000041,10.07200000000004,"00:02:00.601","00:02:00.900",297,1.87,3.17,5.09,3,null,null,null,null,null,186]
[null,6.2839000000000178,6.2984000000000178,10.077100000000041,10.096000000000039,"00:02:00.901","00:02:01.200",296,1.89,3.23,5.46,4,null,null,null,null,null,187]
[null,6.3035000000000174,6.3180000000000174,10.10110000000004,10.120000000000038,"00:02:01.201","00:02:01.500",295,1.92,3.29,5.82,5,null,null,null,null,null,189]
[null,6.323100000000017,6.337600000000017,10.125100000000039,10.144000000000037,"00:02:01.501","00:02:01.800",294,1.94,3.35,6.19,6,null,null,null,null,null,191]
[null,6.3427000000000167,6.3572000000000166,10.149100000000038,10.168000000000037,"00:02:01.801","00:02:02.100",293,1.96,3.4,6.55,7,null,null,null,null,null,193]
[null,6.3623000000000163,6.3768000000000162,10.173100000000037,10.192000000000036,"00:02:02.101","00:02:02.400",292,1.99,3.46,6.92,8,null,null,null,null,null,195]
[null,6.3819000000000159,6.3964000000000159,10.197100000000036,10.216000000000035,"00:02:02.401","00:02:02.700",291,2.0099999999999998,3.52,7.28,9,null,null,null,null,null,197]
[null,6.4015000000000155,6.4160000000000155,10.221100000000035,10.240000000000034,"00:02:02.701","00:02:03",290,2.0299999999999998,3.58,7.65,10,null,null,null,null,null,199]
[null,6.4211000000000151,6.4356000000000151,10.245100000000035,10.264000000000033,"00:02:03.001","00:02:03.300",289,2.06,3.63,8.01,11,null,null,null,null,null,201]
[null,6.4407000000000147,6.4552000000000147,10.269100000000034,10.288000000000032,"00:02:03.301","00:02:03.600",288,2.08,3.69,8.3800000000000008,12,null,null,null,null,null,202]
[null,6.4603000000000144,6.4748000000000143,10.293100000000033,10.312000000000031,"00:02:03.601","00:02:03.900",287,2.1,3.75,8.74,13,null,null,null,null,null,204]
[null,6.479900000000014,6.4944000000000139,10.317100000000032,10.33600000000003,"00:02:03.901","00:02:04.200",286,2.13,3.81,9.11,14,null,null,null,null,null,206]
[null,6.4995000000000136,6.5140000000000136,10.341100000000031,10.36000000000003,"00:02:04.201","00:02:04.500",285,2.15,3.86,9.4700000000000006,15,null,null,null,null,null,208]
[null,6.5191000000000132,6.5336000000000132,10.36510000000003,10.384000000000029,"00:02:04.501","00:02:04.800",284,2.17,3.92,9.84,16,null,null,null,null,null,210]
[null,6.5387000000000128,6.5532000000000128,10.389100000000029,10.408000000000028,"00:02:04.801","00:02:05.100",283,2.2000000000000002,3.98,10.199999999999999,17,null,null,null,null,null,212]
[null,6.5583000000000125,6.5728000000000124,10.413100000000028,10.432000000000027,"00:02:05.101","00:02:05.400",282,2.2200000000000002,4.04,10.57,18,null,null,null,null,null,214]
[null,6.5779000000000121,6.592400000000012,10.437100000000028,10.456000000000026,"00:02:05.401","00:02:05.700",281,2.2400000000000002,4.09,10.93,19,null,null,null,null,null,216]
[null,6.5975000000000117,6.6120000000000116,10.461100000000027,10.480000000000025,"00:02:05.701","00:02:06",280,2.27,4.1500000000000004,11.3,20,null,null,null,null,null,217]
[null,6.6171000000000113,6.6316000000000113,10.485100000000026,10.504000000000024,"00:02:06.001","00:02:06.300",279,2.29,4.21,11.66,21,null,null,null,null,null,219]
[null,6.6367000000000109,6.6512000000000109,10.509100000000025,10.528000000000024,"00:02:06.301","00:02:06.600",278,2.31,4.2699999999999996,12.03,22,null,null,null,null,null,221]
[null,6.6563000000000105,6.6708000000000105,10.533100000000024,10.552000000000023,"00:02:06.601","00:02:06.900",277,2.34,4.32,12.39,23,null,null,null,null,null,223]
[null,6.6759000000000102,6.6904000000000101,10.557100000000023,10.576000000000022,"00:02:06.901","00:02:07.200",276,2.36,4.38,12.76,24,null,null,null,null,null,225]
[null,6.6955000000000098,6.7100000000000097,10.581100000000022,10.600000000000021,"00:02:07.201","00:02:07.500",275,2.39,4.4400000000000004,13.12,25,null,null,null,null,null,227]
[null,6.7151000000000094,6.7296000000000094,10.605100000000022,10.62400000000002,"00:02:07.501","00:02:07.800",274,2.41,4.5,13.48,26,null,null,null,null,null,229]
[null,6.734700000000009,6.749200000000009,10.629100000000021,10.648000000000019,"00:02:07.801","00:02:08.100",273,2.4300000000000002,4.5599999999999996,13.85,27,null,null,null,null,null,231]
[null,6.7543000000000086,6.7688000000000086,10.65310000000002,10.672000000000018,"00:02:08.101","00:02:08.400",272,2.46,4.6100000000000003,14.21,28,null,null,null,null,null,232]
[null,6.7739000000000082,6.7884000000000082,10.677100000000019,10.696000000000017,"00:02:08.401","00:02:08.700",271,2.48,4.67,14.58,29,null,null,null,null,null,234]
[null,6.7935000000000079,6.8080000000000078,10.701100000000018,10.720000000000017,"00:02:08.701","00:02:09",270,2.5,4.7300000000000004,14.94,30,null,null,null,null,null,236]
[null,6.8131000000000075,6.8276000000000074,10.725100000000017,10.744000000000016,"00:02:09.001","00:02:09.300",269,2.5299999999999998,4.79,15.31,31,null,null,null,null,null,238]
[null,6.8327000000000071,6.8472000000000071,10.749100000000016,10.768000000000015,"00:02:09.301","00:02:09.600",268,2.5499999999999998,4.84,15.67,32,null,null,null,null,null,240]
[null,6.8523000000000067,6.8668000000000067,10.773100000000015,10.792000000000014,"00:02:09.601","00:02:09.900",267,2.57,4.9000000000000004,16.04,33,null,null,null,null,null,242]
[null,6.8719000000000063,6.8864000000000063,10.797100000000015,10.816000000000013,"00:02:09.901","00:02:10.200",266,2.6,4.96,16.399999999999999,34,null,null,null,null,null,244]
[null,6.891500000000006,6.9060000000000059,10.821100000000014,10.840000000000012,"00:02:10.201","00:02:10.500",265,2.62,5.0199999999999996,16.77,35,null,null,null,null,null,246]
[null,6.9111000000000056,6.9256000000000055,10.845100000000013,10.864000000000011,"00:02:10.501","00:02:10.800",264,2.64,5.07,17.13,36,null,null,null,null,null,247]
[null,6.9307000000000052,6.9452000000000051,10.869100000000012,10.888000000000011,"00:02:10.801","00:02:11.100",263,2.67,5.13,17.5,37,null,null,null,null,null,249]
[null,6.9503000000000048,6.9648000000000048,10.893100000000011,10.91200000000001,"00:02:11.101","00:02:11.400",262,2.69,5.19,17.86,38,null,null,null,null,null,251]
[null,6.9699000000000044,6.9844000000000044,10.91710000000001,10.936000000000009,"00:02:11.401","00:02:11.700",261,2.71,5.25,18.23,39,null,null,null,null,null,253]
[null,6.989500000000004,7.004000000000004,10.941100000000009,10.960000000000008,"00:02:11.701","00:02:12",260,2.74,5.3,18.59,40,null,null,null,null,null,255]
[null,7.0091000000000037,7.0236000000000036,10.965100000000009,10.984000000000007,"00:02:12.001","00:02:12.300",259,2.76,5.36,18.96,41,null,null,null,null,null,257]
[null,7.0287000000000033,7.0432000000000032,10.989100000000008,11.008000000000006,"00:02:12.301","00:02:12.600",258,2.78,5.42,19.32,42,null,null,null,null,null,259]
[null,7.0483000000000029,7.0628000000000029,11.013100000000007,11.032000000000005,"00:02:12.601","00:02:12.900",257,2.81,5.48,19.690000000000001,43,null,null,null,null,null,261]
[null,7.0679000000000025,7.0824000000000025,11.037100000000006,11.056000000000004,"00:02:12.901","00:02:13.200",256,2.83,5.53,20.05,44,null,null,null,null,null,262]
[null,7.0875000000000021,7.1020000000000021,11.061100000000005,11.080000000000004,"00:02:13.201","00:02:13.500",255,2.85,5.59,20.420000000000002,45,null,null,null,null,null,264]
[null,7.1071000000000017,7.1216000000000017,11.085100000000004,11.104000000000003,"00:02:13.501","00:02:13.800",254,2.88,5.65,20.78,46,null,null,null,null,null,266]
[null,7.1267000000000014,7.1412000000000013,11.109100000000003,11.128000000000002,"00:02:13.801","00:02:14.100",253,2.9,5.71,21.15,47,null,null,null,null,null,268]
[null,7.146300000000001,7.1608000000000009,11.133100000000002,11.152000000000001,"00:02:14.101","00:02:14.400",252,2.92,5.76,21.51,48,null,null,null,null,null,270]
[null,7.1659000000000006,7.1804000000000006,11.157100000000002,11.176,"00:02:14.401","00:02:14.700",251,2.95,5.82,21.88,49,null,null,null,null,null,272]
[null,7.1855000000000002,7.2,11.181100000000001,11.2,"00:02:14.701","00:02:15",250,2.97,5.88,22.24,50,null,null,null,null,null,273]
[null,7.2050999999999998,7.22,11.2051,11.23,"00:02:15.001","00:02:15.336",249,2.99,5.93,22.57,51,null,null,null,null,null,275]
[null,7.2250999999999994,7.24,11.235100000000001,11.25,"00:02:15.341","00:02:15.672",248,3.01,5.99,22.91,52,null,null,null,null,null,276]
[null,7.2450999999999999,7.26,11.255100000000001,11.28,"00:02:15.671","00:02:16.008",247,3.03,6.04,23.24,53,null,null,null,null,null,278]
[null,7.2650999999999994,7.28,11.2851,11.3,"00:02:16.011","00:02:16.344",246,3.06,6.09,23.58,54,null,null,null,null,null,280]
[null,7.2850999999999999,7.3,11.305100000000001,11.33,"00:02:16.341","00:02:16.680",245,3.08,6.14,23.91,55,null,null,null,null,null,282]
[null,7.3050999999999995,7.32,11.335100000000001,11.35,"00:02:16.681","00:02:17.016",244,3.1,6.2,24.25,56,null,null,null,null,null,283]
[null,7.3250999999999999,7.33,11.3551,11.38,"00:02:17.021","00:02:17.352",243,3.12,6.25,24.58,57,null,null,null,null,null,285]
[null,7.3350999999999997,7.35,11.385100000000001,11.4,"00:02:17.351","00:02:17.688",242,3.14,6.3,24.92,58,null,null,null,null,null,287]
[null,7.3550999999999993,7.37,11.405100000000001,11.43,"00:02:17.691","00:02:18.024",241,3.16,6.36,25.25,59,null,null,null,null,null,288]
[null,7.3750999999999998,7.39,11.4351,11.45,"00:02:18.021","00:02:18.360",240,3.19,6.41,25.58,60,null,null,null,null,null,290]
[null,7.3950999999999993,7.41,11.4551,11.48,"00:02:18.361","00:02:18.696",239,3.21,6.46,25.92,61,null,null,null,null,null,292]
[null,7.4150999999999998,7.43,11.485100000000001,11.5,"00:02:18.701","00:02:19.032",238,3.23,6.51,26.25,62,null,null,null,null,null,294]
[null,7.4350999999999994,7.45,11.505100000000001,11.53,"00:02:19.031","00:02:19.368",237,3.25,6.57,26.59,63,null,null,null,null,null,295]
[null,7.4550999999999998,7.47,11.5351,11.55,"00:02:19.371","00:02:19.704",236,3.27,6.62,26.92,64,null,null,null,null,null,297]
[null,{"$f":"C66+0.0051","v":7.4750999999999994},7.49,11.555100000000001,11.58,"00:02:19.701","00:02:20.040",235,3.29,6.67,27.26,65,null,null,null,null,null,299]
[null,7.4950999999999999,7.51,11.585100000000001,11.6,"00:02:20.041","00:02:20.376",234,3.32,6.72,27.59,66,null,null,null,null,null,300]
[null,7.5150999999999994,7.53,11.6051,11.63,"00:02:20.381","00:02:20.712",233,3.34,6.78,27.92,67,null,null,null,null,null,302]
[null,7.5350999999999999,7.55,11.635100000000001,11.65,"00:02:20.711","00:02:21.048",232,3.36,6.83,28.26,68,null,null,null,null,null,304]
[null,7.5550999999999995,7.56,11.655100000000001,11.68,"00:02:21.049","00:02:21.384",231,3.38,6.88,28.59,69,null,null,null,null,null,306]
[null,7.5650999999999993,7.58,11.6851,11.7,"00:02:21.386","00:02:21.720",230,3.4,6.94,28.93,70,null,null,null,null,null,307]
[null,7.5850999999999997,7.6,11.7051,11.73,"00:02:21.722","00:02:22.056",229,3.42,6.99,29.26,71,null,null,null,null,null,309]
[null,7.6050999999999993,7.62,11.735100000000001,11.75,"00:02:22.261","00:02:22.392",228,3.45,7.04,29.6,72,null,null,null,null,null,311]
[null,7.6250999999999998,7.64,11.755100000000001,11.78,"00:02:22.395","00:02:22.728",227,3.47,7.09,29.93,73,null,null,null,null,null,312]
[null,7.6450999999999993,7.66,11.7851,11.8,"00:02:22.731","00:02:23.064",226,3.49,7.15,30.27,74,null,null,null,null,null,314]
[null,7.6650999999999998,7.68,11.805100000000001,11.83,"00:02:23.066","00:02:23.400",225,3.51,7.2,30.6,75,null,null,null,null,null,316]
[null,7.6850999999999994,7.7,11.835100000000001,11.85,"00:02:23.402","00:02:23.736",224,3.53,7.25,30.93,76,null,null,null,null,null,318]
[null,7.7050999999999998,7.72,11.8551,11.88,"00:02:23.741","00:02:24.072",223,3.55,7.31,31.27,77,null,null,null,null,null,319]
[null,7.7250999999999994,7.74,11.885100000000001,11.9,"00:02:24.073","00:02:24.408",222,3.57,7.36,31.6,78,null,null,null,null,null,321]
[null,7.7450999999999999,7.76,11.905100000000001,11.93,"00:02:24.411","00:02:24.744",221,3.6,7.41,31.94,79,null,null,null,null,null,323]
[null,7.7650999999999994,7.78,11.9351,11.95,"00:02:24.745","00:02:25.080",220,3.62,7.46,32.270000000000003,80,null,null,null,null,null,324]
[null,7.7850999999999999,7.8,11.9551,11.98,"00:02:25.081","00:02:25.416",219,3.64,7.52,32.61,81,null,null,null,null,null,326]
[null,7.8050999999999995,7.81,11.985100000000001,12,"00:02:25.421","00:02:25.752",218,3.66,7.57,32.94,82,null,null,null,null,null,328]
[null,7.8150999999999993,7.83,12.005100000000001,12.03,"00:02:25.757","00:02:26.088",217,3.68,7.62,33.28,83,null,null,null,null,null,330]
[null,7.8350999999999997,7.85,12.0351,12.05,"00:02:26.093","00:02:26.424",216,3.7,7.68,33.61,84,null,null,null,null,null,331]
[null,7.8550999999999993,7.87,12.055100000000001,12.08,"00:02:26.429","00:02:26.760",215,3.73,7.73,33.94,85,null,null,null,null,null,333]
[null,7.8750999999999998,7.89,12.085100000000001,12.1,"00:02:26.765","00:02:27.096",214,3.75,7.78,34.28,86,null,null,null,null,null,335]
[null,7.8950999999999993,7.91,12.1051,12.13,"00:02:27.101","00:02:27.432",213,3.77,7.83,34.61,87,null,null,null,null,null,336]
[null,7.9150999999999998,7.93,12.135100000000001,12.15,"00:02:27.437","00:02:27.768",212,3.79,7.89,34.950000000000003,88,null,null,null,null,null,338]
[null,7.9350999999999994,7.95,12.155100000000001,12.18,"00:02:27.773","00:02:28.104",211,3.81,7.94,35.28,89,null,null,null,null,null,340]
[null,7.9550999999999998,7.97,12.1851,12.2,"00:02:28.109","00:02:28.440",210,3.83,7.99,35.619999999999997,90,null,null,null,null,null,342]
[null,7.9750999999999994,7.99,12.2051,12.23,"00:02:28.445","00:02:28.776",209,3.86,8.0399999999999991,35.950000000000003,91,null,null,null,null,null,343]
[null,7.9950999999999999,8.01,12.235100000000001,12.25,"00:02:28.781","00:02:29.112",208,3.88,8.1,36.28,92,null,null,null,null,null,345]
[null,8.0151000000000003,8.0299999999999994,12.255100000000001,12.28,"00:02:29.117","00:02:29.448",207,3.9,8.15,36.619999999999997,93,null,null,null,null,null,347]
[null,8.0350999999999999,8.0399999999999991,12.2851,12.3,"00:02:29.453","00:02:29.784",206,3.92,8.1999999999999993,36.950000000000003,94,null,null,null,null,null,349]
[null,8.0450999999999997,8.06,12.305100000000001,12.33,"00:02:29.789","00:02:30.120",205,3.94,8.26,37.29,95,null,null,null,null,null,350]
[null,8.065100000000001,8.08,12.335100000000001,12.35,"00:02:30.125","00:02:30.456",204,3.96,8.31,37.619999999999997,96,null,null,null,null,null,352]
[null,8.0851000000000006,8.1,12.3551,12.38,"00:02:30.461","00:02:30.792",203,3.99,8.36,37.96,97,null,null,null,null,null,354]
[null,8.1051000000000002,8.1199999999999992,12.385100000000001,12.4,"00:02:30.797","00:02:31.128",202,4.01,8.41,38.29,98,null,null,null,null,null,355]
[null,8.1250999999999998,8.14,12.405100000000001,12.43,"00:02:31.133","00:02:31.464",201,4.03,8.4700000000000006,38.630000000000003,99,null,null,null,null,null,357]
[null,8.1451000000000011,8.16,12.4351,12.45,"00:02:31.469","00:02:31.800",200,4.05,8.52,38.96,100,null,null,null,null,null,359]
[null,8.1651000000000007,8.18,12.4551,12.48,"00:02:31.805","00:02:32.178",199,4.07,8.57,39.26,101,null,null,null,null,null,361]
[null,8.1851000000000003,8.1999999999999993,12.485100000000001,12.51,"00:02:32.183","00:02:32.556",198,4.09,8.6199999999999992,39.57,102,null,null,null,null,null,362]
[null,8.2050999999999998,8.2200000000000006,12.5151,12.53,"00:02:32.561","00:02:32.934",197,4.1100000000000003,8.66,39.869999999999997,103,null,null,null,null,null,364]
[null,8.2251000000000012,8.25,12.5351,12.56,"00:02:32.939","00:02:33.312",196,4.13,8.7100000000000009,40.18,104,null,null,null,null,null,365]
[null,8.2551000000000005,8.27,12.565100000000001,12.59,"00:02:33.317","00:02:33.690",195,4.1500000000000004,8.76,40.479999999999997,105,null,null,null,null,null,367]
[null,8.2751000000000001,8.2899999999999991,12.5951,12.62,"00:02:33.695","00:02:34.068",194,4.17,8.81,40.78,106,null,null,null,null,null,368]
[null,8.2950999999999997,8.31,12.6251,12.65,"00:02:34.073","00:02:34.446",193,4.1900000000000004,8.86,41.09,107,null,null,null,null,null,370]
[null,8.315100000000001,8.33,12.655100000000001,12.67,"00:02:34.451","00:02:34.824",192,4.21,8.9,41.39,108,null,null,null,null,null,371]
[null,8.3351000000000006,8.35,12.6751,12.7,"00:02:34.829","00:02:35.202",191,4.2300000000000004,8.9499999999999993,41.7,109,null,null,null,null,null,373]
[null,8.3551000000000002,8.3800000000000008,12.7051,12.73,"00:02:35.207","00:02:35.580",190,4.25,9,42,110,null,null,null,null,null,375]
[null,8.3851000000000013,8.4,12.735100000000001,12.76,"00:02:35.585","00:02:35.958",189,4.2699999999999996,9.0500000000000007,42.3,111,null,null,null,null,null,376]
[null,8.4051000000000009,8.42,12.7651,12.79,"00:02:35.963","00:02:36.336",188,4.29,9.1,42.61,112,null,null,null,null,null,378]
[null,8.4251000000000005,8.44,12.7951,12.81,"00:02:36.341","00:02:36.714",187,4.3,9.14,42.91,113,null,null,null,null,null,379]
[null,8.4451000000000001,8.4600000000000009,12.815100000000001,12.84,"00:02:36.719","00:02:37.092",186,4.32,9.19,43.22,114,null,null,null,null,null,381]
[null,8.4651000000000014,8.48,12.8451,12.87,"00:02:37.097","00:02:37.470",185,4.34,9.24,43.52,115,null,null,null,null,null,382]
[null,8.485100000000001,8.51,12.8751,12.9,"00:02:37.475","00:02:37.848",184,4.3600000000000003,9.2899999999999991,43.82,116,null,null,null,null,null,384]
[null,8.5151000000000003,8.5299999999999994,12.905100000000001,12.93,"00:02:37.853","00:02:38.226",183,4.38,9.34,44.13,117,null,null,null,null,null,386]
[null,8.5350999999999999,8.5500000000000007,12.9351,12.95,"00:02:38.231","00:02:38.604",182,4.4000000000000004,9.3800000000000008,44.43,118,null,null,null,null,null,387]
[null,8.5551000000000013,8.57,12.9551,12.98,"00:02:38.609","00:02:38.982",181,4.42,9.43,44.74,119,null,null,null,null,null,389]
[null,8.5751000000000008,8.59,12.985100000000001,13.01,"00:02:38.987","00:02:39.360",180,4.4400000000000004,9.48,45.04,120,null,null,null,null,null,390]
[null,8.5951000000000004,8.61,13.0151,13.04,"00:02:39.365","00:02:39.738",179,4.46,9.5299999999999994,45.34,121,null,null,null,null,null,392]
[null,8.6151,8.64,13.0451,13.07,"00:02:39.743","00:02:40.116",178,4.4800000000000004,9.58,45.65,122,null,null,null,null,null,393]
[null,8.6451000000000011,8.66,13.075100000000001,13.09,"00:02:40.121","00:02:40.494",177,4.5,9.6199999999999992,45.95,123,null,null,null,null,null,395]
[null,8.6651000000000007,8.68,13.0951,13.12,"00:02:40.499","00:02:40.872",176,4.5199999999999996,9.67,46.26,124,null,null,null,null,null,396]
[null,8.6851000000000003,8.6999999999999993,13.1251,13.15,"00:02:40.877","00:02:41.250",175,4.54,9.7200000000000006,46.56,125,null,null,null,null,null,398]
[null,8.7050999999999998,8.7200000000000006,13.155100000000001,13.18,"00:02:41.255","00:02:41.628",174,4.5599999999999996,9.77,46.86,126,null,null,null,null,null,400]
[null,8.7251000000000012,8.74,13.1851,13.21,"00:02:41.633","00:02:42.006",173,4.58,9.82,47.17,127,null,null,null,null,null,401]
[null,8.7451000000000008,8.76,13.215100000000001,13.23,"00:02:42.011","00:02:42.384",172,4.5999999999999996,9.86,47.47,128,null,null,null,null,null,403]
[null,{"$f":"C130+0.0051","v":8.7651000000000003},8.7899999999999991,13.235100000000001,13.26,"00:02:42.389","00:02:42.762",171,4.62,9.91,47.78,129,null,null,null,null,null,404]
[null,8.7950999999999997,8.81,13.2651,13.29,"00:02:42.767","00:02:43.140",170,4.6399999999999997,9.9600000000000009,48.08,130,null,null,null,null,null,406]
[null,8.815100000000001,8.83,13.2951,13.32,"00:02:43.145","00:02:43.518",169,4.66,10.01,48.38,131,null,null,null,null,null,407]
[null,8.8351000000000006,8.85,13.325100000000001,13.35,"00:02:43.523","00:02:43.896",168,4.68,10.06,48.69,132,null,null,null,null,null,409]
[null,8.8551000000000002,8.8699999999999992,13.3551,13.37,"00:02:43.901","00:02:44.274",167,4.7,10.1,48.99,133,null,null,null,null,null,410]
[null,8.8750999999999998,8.89,13.3751,13.4,"00:02:44.279","00:02:44.652",166,4.72,10.15,49.3,134,null,null,null,null,null,412]
[null,8.8951000000000011,8.92,13.405100000000001,13.43,"00:02:44.657","00:02:45.030",165,4.74,10.199999999999999,49.6,135,null,null,null,null,null,414]
[null,8.9251000000000005,8.94,13.4351,13.46,"00:02:45.035","00:02:45.408",164,4.76,10.25,49.9,136,null,null,null,null,null,415]
[null,8.9451000000000001,8.9600000000000009,13.465100000000001,13.49,"00:02:45.413","00:02:45.786",163,4.78,10.3,50.21,137,null,null,null,null,null,417]
[null,8.9651000000000014,8.98,13.495100000000001,13.51,"00:02:45.791","00:02:46.164",162,4.79,10.34,50.51,138,null,null,null,null,null,418]
[null,8.985100000000001,9,13.5151,13.54,"00:02:46.169","00:02:46.542",161,4.8099999999999996,10.39,50.82,139,null,null,null,null,null,420]
[null,9.0051000000000005,9.02,13.5451,13.57,"00:02:46.547","00:02:46.920",160,4.83,10.44,51.12,140,null,null,null,null,null,421]
[null,9.0251000000000001,9.0500000000000007,13.575100000000001,13.6,"00:02:46.925","00:02:47.298",159,4.8499999999999996,10.49,51.42,141,null,null,null,null,null,423]
[null,9.0551000000000013,9.07,13.6051,13.63,"00:02:47.303","00:02:47.676",158,4.87,10.54,51.73,142,null,null,null,null,null,425]
[null,9.0751000000000008,9.09,13.635100000000001,13.65,"00:02:47.681","00:02:48.054",157,4.8899999999999997,10.58,52.03,143,null,null,null,null,null,426]
[null,9.0951000000000004,9.11,13.655100000000001,13.68,"00:02:48.059","00:02:48.432",156,4.91,10.63,52.34,144,null,null,null,null,null,428]
[null,9.1151,9.1300000000000008,13.6851,13.71,"00:02:48.437","00:02:48.810",155,4.93,10.68,52.64,145,null,null,null,null,null,429]
[null,9.1351000000000013,9.15,13.715100000000001,13.74,"00:02:48.815","00:02:49.188",154,4.95,10.73,52.94,146,null,null,null,null,null,431]
[null,9.1551000000000009,9.18,13.745100000000001,13.77,"00:02:49.193","00:02:49.566",153,4.97,10.78,53.25,147,null,null,null,null,null,432]
[null,9.1851000000000003,9.1999999999999993,13.7751,13.79,"00:02:49.571","00:02:49.944",152,4.99,10.82,53.55,148,null,null,null,null,null,434]
[null,9.2050999999999998,9.2200000000000006,13.7951,13.82,"00:02:49.949","00:02:50.322",151,5.01,10.87,53.86,149,null,null,null,null,null,435]
[null,9.2251000000000012,9.24,13.825100000000001,13.85,"00:02:50.327","00:02:50.700",150,5.03,10.92,54.16,150,null,null,null,null,null,437]
[null,9.2451000000000008,9.26,13.8551,13.88,"00:02:50.705","00:02:51.120",149,5.05,10.96,54.43,151,null,null,null,null,null,438]
[null,9.2651000000000003,9.2899999999999991,13.885100000000001,13.91,"00:02:51.125","00:02:51.540",148,5.07,11.01,54.71,152,null,null,null,null,null,440]
[null,9.2950999999999997,9.31,13.915100000000001,13.94,"00:02:51.545","00:02:51.960",147,5.08,11.05,54.98,153,null,null,null,null,null,441]
[null,9.315100000000001,9.34,13.9451,13.97,"00:02:51.965","00:02:52.380",146,5.0999999999999996,11.09,55.25,154,null,null,null,null,null,443]
[null,9.3451000000000004,9.36,13.975100000000001,14.01,"00:02:52.385","00:02:52.800",145,5.12,11.14,55.53,155,null,null,null,null,null,444]
[null,9.3651,9.3800000000000008,14.0151,14.04,"00:02:52.805","00:02:53.220",144,5.14,11.18,55.8,156,null,null,null,null,null,445]
[null,9.3851000000000013,9.41,14.0451,14.07,"00:02:53.225","00:02:53.640",143,5.15,11.22,56.08,157,null,null,null,null,null,447]
[null,9.4151000000000007,9.43,14.075100000000001,14.1,"00:02:53.645","00:02:54.060",142,5.17,11.27,56.35,158,null,null,null,null,null,448]
[null,9.4351000000000003,9.4600000000000009,14.1051,14.13,"00:02:54.065","00:02:54.480",141,5.19,11.31,56.62,159,null,null,null,null,null,450]
[null,9.4651000000000014,9.48,14.135100000000001,14.16,"00:02:54.485","00:02:54.900",140,5.21,11.35,56.9,160,null,null,null,null,null,451]
[null,9.485100000000001,9.5,14.165100000000001,14.19,"00:02:54.905","00:02:55.320",139,5.22,11.4,57.17,161,null,null,null,null,null,452]
[null,9.5051000000000005,9.5299999999999994,14.1951,14.22,"00:02:55.325","00:02:55.740",138,5.24,11.44,57.44,162,null,null,null,null,null,454]
[null,9.5350999999999999,9.5500000000000007,14.225100000000001,14.26,"00:02:55.745","00:02:56.160",137,5.26,11.48,57.72,163,null,null,null,null,null,455]
[null,9.5551000000000013,9.58,14.2651,14.29,"00:02:56.165","00:02:56.580",136,5.28,11.52,57.99,164,null,null,null,null,null,457]
[null,9.5851000000000006,9.6,14.2951,14.32,"00:02:56.585","00:02:57",135,5.29,11.57,58.26,165,null,null,null,null,null,458]
[null,9.6051000000000002,9.6199999999999992,14.325100000000001,14.35,"00:02:57.005","00:02:57.420",134,5.31,11.61,58.54,166,null,null,null,null,null,459]
[null,9.6250999999999998,9.65,14.3551,14.38,"00:02:57.425","00:02:57.840",133,5.33,11.65,58.81,167,null,null,null,null,null,461]
[null,9.6551000000000009,9.67,14.385100000000001,14.41,"00:02:57.845","00:02:58.260",132,5.35,11.7,59.08,168,null,null,null,null,null,462]
[null,9.6751000000000005,9.6999999999999993,14.415100000000001,14.44,"00:02:58.265","00:02:58.680",131,5.36,11.74,59.36,169,null,null,null,null,null,464]
[null,9.7050999999999998,9.7200000000000006,14.4451,14.47,"00:02:58.685","00:02:59.100",130,5.38,11.78,59.63,170,null,null,null,null,null,465]
[null,9.7251000000000012,9.74,14.475100000000001,14.51,"00:02:59.105","00:02:59.520",129,5.4,11.83,59.91,171,null,null,null,null,null,466]
[null,9.7451000000000008,9.77,14.5151,14.54,"00:02:59.525","00:02:59.940",128,5.42,11.87,60.18,172,null,null,null,null,null,468]
[null,9.7751000000000001,9.7899999999999991,14.5451,14.57,"00:02:59.945","00:03:00.360",127,5.43,11.91,60.45,173,null,null,null,null,null,469]
[null,9.7950999999999997,9.82,14.575100000000001,14.6,"00:03:00.365","00:03:00.780",126,5.45,11.96,60.73,174,null,null,null,null,null,471]
[null,9.8251000000000008,9.84,14.6051,14.63,"00:03:00.785","00:03:01.200",125,5.47,12,61,175,null,null,null,null,null,472]
[null,9.8451000000000004,9.86,14.635100000000001,14.66,"00:03:01.205","00:03:01.620",124,5.49,12.04,61.27,176,null,null,null,null,null,474]
[null,9.8651,9.89,14.665100000000001,14.69,"00:03:01.625","00:03:02.040",123,5.51,12.09,61.55,177,null,null,null,null,null,475]
[null,9.8951000000000011,9.91,14.6951,14.72,"00:03:02.045","00:03:02.460",122,5.52,12.13,61.82,178,null,null,null,null,null,476]
[null,9.9151000000000007,9.94,14.725100000000001,14.75,"00:03:02.465","00:03:02.880",121,5.54,12.17,62.09,179,null,null,null,null,null,478]
[null,9.9451000000000001,9.9600000000000009,14.755100000000001,14.79,"00:03:02.885","00:03:03.300",120,5.56,12.22,62.37,180,null,null,null,null,null,479]
[null,9.9651000000000014,9.98,14.7951,14.82,"00:03:03.305","00:03:03.720",119,5.58,12.26,62.64,181,null,null,null,null,null,481]
[null,9.985100000000001,10.01,14.825100000000001,14.85,"00:03:03.725","00:03:04.140",118,5.59,12.3,62.92,182,null,null,null,null,null,482]
[null,10.0151,10.029999999999999,14.8551,14.88,"00:03:04.145","00:03:04.560",117,5.61,12.35,63.19,183,null,null,null,null,null,483]
[null,10.0351,10.06,14.885100000000001,14.91,"00:03:04.565","00:03:04.980",116,5.63,12.39,63.46,184,null,null,null,null,null,485]
[null,10.065100000000001,10.08,14.915100000000001,14.94,"00:03:04.985","00:03:05.400",115,5.65,12.43,63.74,185,null,null,null,null,null,486]
[null,10.085100000000001,10.1,14.9451,14.97,"00:03:05.405","00:03:05.820",114,5.66,12.48,64.010000000000005,186,null,null,null,null,null,488]
[null,10.1051,10.130000000000001,14.975100000000001,15,"00:03:05.825","00:03:06.240",113,5.68,12.52,64.28,187,null,null,null,null,null,489]
[null,10.135100000000001,10.15,15.005100000000001,15.04,"00:03:06.245","00:03:06.660",112,5.7,12.56,64.56,188,null,null,null,null,null,490]
[null,10.155100000000001,10.18,15.0451,15.07,"00:03:06.665","00:03:07.080",111,5.72,12.6,64.83,189,null,null,null,null,null,492]
[null,10.1851,10.199999999999999,15.075100000000001,15.1,"00:03:07.085","00:03:07.500",110,5.73,12.65,65.099999999999994,190,null,null,null,null,null,493]
[null,10.2051,10.220000000000001,15.1051,15.13,"00:03:07.505","00:03:07.920",109,5.75,12.69,65.38,191,null,null,null,null,null,495]
[null,10.225100000000001,10.25,15.135100000000001,15.16,"00:03:07.925","00:03:08.340",108,5.77,12.73,65.650000000000006,192,null,null,null,null,null,496]
[null,{"$f":"C194+0.0051","v":10.255100000000001},10.27,15.165100000000001,15.19,"00:03:08.345","00:03:08.760",107,5.79,12.78,65.92,193,null,null,null,null,null,497]
[null,10.2751,10.3,15.1951,15.22,"00:03:08.765","00:03:09.180",106,5.8,12.82,66.2,194,null,null,null,null,null,499]
[null,10.305100000000001,10.32,15.225100000000001,15.25,"00:03:09.185","00:03:09.600",105,5.82,12.86,66.47,195,null,null,null,null,null,500]
[null,10.325100000000001,10.34,15.255100000000001,15.29,"00:03:09.605","00:03:10.020",104,5.84,12.91,66.75,196,null,null,null,null,null,502]
[null,10.3451,10.37,15.2951,15.32,"00:03:10.025","00:03:10.440",103,5.86,12.95,67.02,197,null,null,null,null,null,503]
[null,10.3751,10.39,15.325100000000001,15.35,"00:03:10.445","00:03:10.860",102,5.87,12.99,67.290000000000006,198,null,null,null,null,null,504]
[null,10.395100000000001,10.42,15.3551,15.38,"00:03:10.865","00:03:11.280",101,5.89,13.04,67.569999999999993,199,null,null,null,null,null,506]
[null,10.4251,10.44,15.385100000000001,15.41,"00:03:11.285","00:03:11.700",100,5.91,13.08,67.84,200,null,null,null,null,null,507]
[null,10.4451,10.47,15.415100000000001,15.44,"00:03:11.705","00:03:12.162",99,5.93,13.12,68.08,201,null,null,null,null,null,508]
[null,10.475100000000001,10.49,15.4451,15.48,"00:03:12.167","00:03:12.624",98,5.94,13.16,68.33,202,null,null,null,null,null,510]
[null,10.495100000000001,10.52,15.485100000000001,15.51,"00:03:12.629","00:03:13.086",97,5.96,13.2,68.569999999999993,203,null,null,null,null,null,511]
[null,10.5251,10.55,15.5151,15.55,"00:03:13.091","00:03:13.548",96,5.97,13.23,68.81,204,null,null,null,null,null,512]
[null,10.555100000000001,10.57,15.555100000000001,15.58,"00:03:13.553","00:03:14.010",95,5.99,13.27,69.06,205,null,null,null,null,null,513]
[null,10.575100000000001,10.6,15.585100000000001,15.62,"00:03:14.015","00:03:14.472",94,6,13.31,69.3,206,null,null,null,null,null,514]
[null,10.6051,10.62,15.6251,15.65,"00:03:14.477","00:03:14.934",93,6.02,13.35,69.540000000000006,207,null,null,null,null,null,516]
[null,10.6251,10.65,15.655100000000001,15.69,"00:03:14.939","00:03:15.396",92,6.04,13.39,69.790000000000006,208,null,null,null,null,null,517]
[null,10.655100000000001,10.68,15.6951,15.72,"00:03:15.401","00:03:15.858",91,6.05,13.43,70.03,209,null,null,null,null,null,518]
[null,10.6851,10.7,15.725100000000001,15.75,"00:03:15.863","00:03:16.320",90,6.07,13.46,70.27,210,null,null,null,null,null,519]
[null,10.7051,10.73,15.755100000000001,15.79,"00:03:16.325","00:03:16.782",89,6.08,13.5,70.52,211,null,null,null,null,null,521]
[null,10.735100000000001,10.76,15.7951,15.82,"00:03:16.787","00:03:17.244",88,6.1,13.54,70.760000000000005,212,null,null,null,null,null,522]
[null,10.7651,10.78,15.825100000000001,15.86,"00:03:17.249","00:03:17.706",87,6.12,13.58,71,213,null,null,null,null,null,523]
[null,10.7851,10.81,15.8651,15.89,"00:03:17.711","00:03:18.168",86,6.13,13.62,71.239999999999995,214,null,null,null,null,null,524]
[null,10.815100000000001,10.84,15.895100000000001,15.93,"00:03:18.173","00:03:18.630",85,6.15,13.66,71.489999999999995,215,null,null,null,null,null,526]
[null,10.8451,10.86,15.9351,15.96,"00:03:18.635","00:03:19.092",84,6.16,13.69,71.73,216,null,null,null,null,null,527]
[null,10.8651,10.89,15.965100000000001,15.99,"00:03:19.097","00:03:19.554",83,6.18,13.73,71.97,217,null,null,null,null,null,528]
[null,10.895100000000001,10.92,15.995100000000001,16.03,"00:03:19.559","00:03:20.016",82,6.19,13.77,72.22,218,null,null,null,null,null,529]
[null,10.9251,10.94,16.0351,16.059999999999999,"00:03:20.021","00:03:20.478",81,6.21,13.81,72.459999999999994,219,null,null,null,null,null,531]
[null,10.9451,10.97,16.065099999999997,16.100000000000001,"00:03:20.483","00:03:20.940",80,6.23,13.85,72.7,220,null,null,null,null,null,532]
[null,10.975100000000001,10.99,16.1051,16.13,"00:03:20.945","00:03:21.402",79,6.24,13.89,72.95,221,null,null,null,null,null,533]
[null,10.995100000000001,11.02,16.135099999999998,16.170000000000002,"00:03:21.407","00:03:21.864",78,6.26,13.92,73.19,222,null,null,null,null,null,534]
[null,11.0251,11.05,16.1751,16.2,"00:03:21.869","00:03:22.326",77,6.27,13.96,73.430000000000007,223,null,null,null,null,null,536]
[null,11.055100000000001,11.07,16.205099999999998,16.239999999999998,"00:03:22.331","00:03:22.788",76,6.29,14,73.680000000000007,224,null,null,null,null,null,537]
[null,11.075100000000001,11.1,16.245099999999997,16.27,"00:03:22.793","00:03:23.250",75,6.31,14.04,73.92,225,null,null,null,null,null,538]
[null,11.1051,11.13,16.275099999999998,16.3,"00:03:23.255","00:03:23.712",74,6.32,14.08,74.16,226,null,null,null,null,null,539]
[null,11.135100000000001,11.15,16.305099999999999,16.34,"00:03:23.717","00:03:24.174",73,6.34,14.12,74.41,227,null,null,null,null,null,541]
[null,11.155100000000001,11.18,16.345099999999999,16.37,"00:03:24.179","00:03:24.636",72,6.35,14.16,74.650000000000006,228,null,null,null,null,null,542]
[null,11.1851,11.21,16.3751,16.41,"00:03:24.641","00:03:25.098",71,6.37,14.19,74.89,229,null,null,null,null,null,543]
[null,11.215100000000001,11.23,16.415099999999999,16.440000000000001,"00:03:25.103","00:03:25.560",70,6.38,14.23,75.14,230,null,null,null,null,null,544]
[null,11.235100000000001,11.26,16.4451,16.48,"00:03:25.565","00:03:26.022",69,6.4,14.27,75.38,231,null,null,null,null,null,546]
[null,11.2651,11.28,16.485099999999999,16.510000000000002,"00:03:26.027","00:03:26.484",68,6.42,14.31,75.62,232,null,null,null,null,null,547]
[null,11.2851,11.31,16.5151,16.55,"00:03:26.489","00:03:26.946",67,6.43,14.35,75.87,233,null,null,null,null,null,548]
[null,11.315100000000001,11.34,16.555099999999999,16.579999999999998,"00:03:26.951","00:03:27.408",66,6.45,14.39,76.11,234,null,null,null,null,null,549]
[null,11.3451,11.36,16.585099999999997,16.61,"00:03:27.413","00:03:27.870",65,6.46,14.42,76.349999999999994,235,null,null,null,null,null,551]
[null,11.3651,11.39,16.615099999999998,16.649999999999999,"00:03:27.875","00:03:28.332",64,6.48,14.46,76.599999999999994,236,null,null,null,null,null,552]
[null,11.395100000000001,11.42,16.655099999999997,16.68,"00:03:28.337","00:03:28.794",63,6.49,14.5,76.84,237,null,null,null,null,null,553]
[null,11.4251,11.44,16.685099999999998,16.72,"00:03:28.799","00:03:29.256",62,6.51,14.54,77.08,238,null,null,null,null,null,554]
[null,11.4451,11.47,16.725099999999998,16.75,"00:03:29.261","00:03:29.718",61,6.53,14.58,77.319999999999993,239,null,null,null,null,null,556]
[null,11.475100000000001,11.5,16.755099999999999,16.79,"00:03:29.723","00:03:30.180",60,6.54,14.62,77.569999999999993,240,null,null,null,null,null,557]
[null,11.505100000000001,11.52,16.795099999999998,16.82,"00:03:30.185","00:03:30.642",59,6.56,14.65,77.81,241,null,null,null,null,null,558]
[null,11.5251,11.55,16.825099999999999,16.850000000000001,"00:03:30.647","00:03:31.104",58,6.57,14.69,78.05,242,null,null,null,null,null,559]
[null,11.555100000000001,11.58,16.8551,16.89,"00:03:31.109","00:03:31.566",57,6.59,14.73,78.3,243,null,null,null,null,null,561]
[null,11.585100000000001,11.6,16.895099999999999,16.920000000000002,"00:03:31.571","00:03:32.028",56,6.61,14.77,78.540000000000006,244,null,null,null,null,null,562]
[null,11.6051,11.63,16.9251,16.96,"00:03:32.033","00:03:32.490",55,6.62,14.81,78.78,245,null,null,null,null,null,563]
[null,11.635100000000001,11.65,16.9651,16.989999999999998,"00:03:32.495","00:03:32.952",54,6.64,14.85,79.03,246,null,null,null,null,null,564]
[null,11.655100000000001,11.68,16.995099999999997,17.03,"00:03:32.957","00:03:33.414",53,6.65,14.88,79.27,247,null,null,null,null,null,566]
[null,11.6851,11.71,17.0351,17.059999999999999,"00:03:33.419","00:03:33.876",52,6.67,14.92,79.510000000000005,248,null,null,null,null,null,567]
[null,11.715100000000001,11.73,17.065099999999997,17.100000000000001,"00:03:33.881","00:03:34.338",51,6.68,14.96,79.760000000000005,249,null,null,null,null,null,568]
[null,11.735100000000001,11.76,17.1051,17.13,"00:03:34.343","00:03:34.800",50,6.7,15,80,250,null,null,null,null,null,570]
[null,11.7651,11.79,17.135099999999998,17.170000000000002,"00:03:34.805","00:03:35.304",49,6.72,15.04,80.239999999999995,251,null,null,null,null,null,571]
[null,11.7951,11.82,17.1751,17.2,"00:03:35.309","00:03:35.808",48,6.73,15.08,80.48,252,null,null,null,null,null,572]
[null,11.825100000000001,11.85,17.205099999999998,17.239999999999998,"00:03:35.813","00:03:36.312",47,6.75,15.12,80.72,253,null,null,null,null,null,574]
[null,11.8551,11.88,17.245099999999997,17.28,"00:03:36.317","00:03:36.816",46,6.76,15.16,80.959999999999994,254,null,null,null,null,null,575]
[null,11.885100000000001,11.9,17.2851,17.32,"00:03:36.821","00:03:37.320",45,6.78,15.2,81.2,255,null,null,null,null,null,576]
[null,11.905100000000001,11.93,17.325099999999999,17.350000000000001,"00:03:37.325","00:03:37.824",44,6.79,15.24,81.44,256,null,null,null,null,null,577]
[null,{"$f":"C258+0.0051","v":11.9351},11.96,17.3551,17.39,"00:03:37.829","00:03:38.328",43,6.81,15.28,81.680000000000007,257,null,null,null,null,null,578]
[null,11.965100000000001,11.99,17.395099999999999,17.43,"00:03:38.333","00:03:38.832",42,6.83,15.32,81.92,258,null,null,null,null,null,580]
[null,11.995100000000001,12.02,17.435099999999998,17.47,"00:03:38.837","00:03:39.336",41,6.84,15.36,82.159999999999954,259,null,null,null,null,null,581]
[null,12.0251,12.05,17.475099999999998,17.5,"00:03:39.341","00:03:39.840",40,6.86,15.4,82.4,260,null,null,null,null,null,582]
[null,12.055100000000001,12.08,17.505099999999999,17.54,"00:03:39.845","00:03:40.344",39,6.87,15.44,82.64,261,null,null,null,null,null,583]
[null,12.085100000000001,12.11,17.545099999999998,17.579999999999998,"00:03:40.349","00:03:40.848",38,6.89,15.48,82.88,262,null,null,null,null,null,584]
[null,12.1151,12.13,17.585099999999997,17.62,"00:03:40.853","00:03:41.352",37,6.91,15.52,83.12,263,null,null,null,null,null,586]
[null,12.135100000000001,12.16,17.6251,17.649999999999999,"00:03:41.357","00:03:41.856",36,6.92,15.56,83.36,264,null,null,null,null,null,587]
[null,12.165100000000001,12.19,17.655099999999997,17.690000000000001,"00:03:41.861","00:03:42.360",35,6.94,15.6,83.6,265,null,null,null,null,null,588]
[null,12.1951,12.22,17.6951,17.73,"00:03:42.365","00:03:42.864",34,6.95,15.64,83.84,266,null,null,null,null,null,589]
[null,12.225100000000001,12.25,17.735099999999999,17.77,"00:03:42.869","00:03:43.368",33,6.97,15.68,84.08,267,null,null,null,null,null,590]
[null,12.255100000000001,12.28,17.775099999999998,17.8,"00:03:43.373","00:03:43.872",32,6.98,15.72,84.32,268,null,null,null,null,null,592]
[null,12.2851,12.31,17.805099999999999,17.84,"00:03:43.877","00:03:44.376",31,7,15.76,84.56,269,null,null,null,null,null,593]
[null,12.315100000000001,12.34,17.845099999999999,17.88,"00:03:44.381","00:03:44.880",30,7.02,15.8,84.8,270,null,null,null,null,null,594]
[null,12.3451,12.36,17.885099999999998,17.920000000000002,"00:03:44.885","00:03:45.384",29,7.03,15.84,85.04,271,null,null,null,null,null,595]
[null,12.3651,12.39,17.9251,17.95,"00:03:45.389","00:03:45.888",28,7.05,15.88,85.28,272,null,null,null,null,null,596]
[null,12.395100000000001,12.42,17.955099999999998,17.989999999999998,"00:03:45.893","00:03:46.392",27,7.06,15.92,85.52,273,null,null,null,null,null,598]
[null,12.4251,12.45,17.995099999999997,18.03,"00:03:46.397","00:03:46.896",26,7.08,15.96,85.76,274,null,null,null,null,null,599]
[null,12.4551,12.48,18.0351,18.07,"00:03:46.901","00:03:47.400",25,7.1,16,86,275,null,null,null,null,null,600]
[null,12.485100000000001,12.51,18.075099999999999,18.100000000000001,"00:03:47.405","00:03:47.904",24,7.11,16.04,86.24,276,null,null,null,null,null,601]
[null,12.5151,12.54,18.1051,18.14,"00:03:47.909","00:03:48.408",23,7.13,16.079999999999998,86.48,277,null,null,null,null,null,602]
[null,12.5451,12.57,18.145099999999999,18.18,"00:03:48.413","00:03:48.912",22,7.14,16.12,86.72,278,null,null,null,null,null,604]
[null,12.575100000000001,12.6,18.185099999999998,18.21,"00:03:48.917","00:03:49.416",21,7.16,16.16,86.96,279,null,null,null,null,null,605]
[null,12.6051,12.62,18.2151,18.25,"00:03:49.421","00:03:49.920",20,7.17,16.2,87.2,280,null,null,null,null,null,606]
[null,12.6251,12.65,18.255099999999999,18.29,"00:03:49.925","00:03:50.424",19,7.19,16.239999999999998,87.44,281,null,null,null,null,null,607]
[null,12.655100000000001,12.68,18.295099999999998,18.329999999999998,"00:03:50.429","00:03:50.928",18,7.21,16.28,87.68,282,null,null,null,null,null,608]
[null,12.6851,12.71,18.335099999999997,18.36,"00:03:50.933","00:03:51.432",17,7.22,16.32,87.92,283,null,null,null,null,null,610]
[null,12.715100000000001,12.74,18.365099999999998,18.399999999999999,"00:03:51.437","00:03:51.936",16,7.24,16.36,88.16,284,null,null,null,null,null,611]
[null,12.745100000000001,12.77,18.405099999999997,18.440000000000001,"00:03:51.941","00:03:52.440",15,7.25,16.399999999999999,88.4,285,null,null,null,null,null,612]
[null,12.7751,12.8,18.4451,18.48,"00:03:52.445","00:03:52.944",14,7.27,16.440000000000001,88.64,286,null,null,null,null,null,613]
[null,12.805100000000001,12.83,18.485099999999999,18.510000000000002,"00:03:52.949","00:03:53.448",13,7.28,16.48,88.88,287,null,null,null,null,null,614]
[null,12.835100000000001,12.85,18.5151,18.55,"00:03:53.453","00:03:53.952",12,7.3,16.52,89.12,288,null,null,null,null,null,616]
[null,12.8551,12.88,18.555099999999999,18.59,"00:03:53.957","00:03:54.456",11,7.32,16.559999999999999,89.36,289,null,null,null,null,null,617]
[null,12.885100000000001,12.91,18.595099999999999,18.63,"00:03:54.461","00:03:54.960",10,7.33,16.600000000000001,89.6,290,null,null,null,null,null,618]
[null,12.915100000000001,12.94,18.635099999999998,18.66,"00:03:54.965","00:03:55.464",9,7.35,16.64,89.84,291,null,null,null,null,null,619]
[null,12.9451,12.97,18.665099999999999,18.7,"00:03:55.469","00:03:55.968",8,7.36,16.68,90.08,292,null,null,null,null,null,620]
[null,12.975100000000001,13,18.705099999999998,18.739999999999998,"00:03:55.973","00:03:56.472",7,7.38,16.72,90.32,293,null,null,null,null,null,622]
[null,13.005100000000001,13.03,18.745099999999997,18.78,"00:03:56.477","00:03:56.976",6,7.4,16.760000000000002,90.56,294,null,null,null,null,null,623]
[null,13.0351,13.06,18.7851,18.809999999999999,"00:03:56.981","00:03:57.480",5,7.41,16.8,90.8,295,null,null,null,null,null,624]
[null,13.065100000000001,13.08,18.815099999999997,18.850000000000001,"00:03:57.485","00:03:57.984",4,7.43,16.84,91.04,296,null,null,null,null,null,625]
[null,13.085100000000001,13.11,18.8551,18.89,"00:03:57.989","00:03:58.488",3,7.44,16.88,91.28,297,null,null,null,null,null,626]
[null,13.1151,13.14,18.895099999999999,18.93,"00:03:58.493","00:03:58.992",2,7.46,16.920000000000002,91.52,298,null,null,null,null,null,628]
[null,13.145100000000001,13.17,18.935099999999998,18.96,"00:03:58.997","00:03:59.496",1,7.47,16.96,91.76,299,null,null,null,null,null,629]
[null,13.1751,13.2,18.9651,19,"00:03:59.501","00:04:00",0,7.49,17,92,300,null,null,null,null,null,630]

{"sheet":"Be","index":1,"n_rows":259,"n_cols":12,"rows_kept":259,"cut":false,"hidden":false,"merged":[[42,3,42,4],[42,5,42,6],[42,7,42,8],[41,11,42,12],[48,11,48,12],[43,11,46,12],[51,0,51,10],[51,11,52,12],[52,3,52,4],[52,5,52,6],[52,7,52,8],[63,11,66,12],[68,11,68,12],[71,0,71,10],[71,11,72,12],[72,3,72,4],[72,5,72,6],[72,7,72,8],[53,11,56,12],[58,11,58,12],[61,0,61,10],[61,11,62,12],[62,3,62,4],[62,5,62,6],[62,7,62,8],[83,11,86,12],[88,11,88,12],[91,0,91,10],[91,11,92,12],[92,3,92,4],[92,5,92,6],[92,7,92,8],[73,11,76,12],[78,11,78,12],[81,0,81,10],[81,11,82,12],[82,3,82,4],[82,5,82,6],[82,7,82,8],[103,11,106,12],[108,11,108,12],[111,0,111,10],[111,11,112,12],[112,3,112,4],[112,5,112,6],[112,7,112,8],[93,11,96,12],[98,11,98,12],[101,0,101,10],[101,11,102,12],[102,3,102,4],[102,5,102,6],[102,7,102,8],[123,11,126,12],[128,11,128,12],[131,0,131,10],[131,11,132,12],[132,3,132,4],[132,5,132,6],[132,7,132,8],[113,11,116,12],[118,11,118,12],[121,0,121,10],[121,11,122,12],[122,3,122,4],[122,5,122,6],[122,7,122,8],[143,11,146,12],[148,11,148,12],[151,0,151,10],[151,11,152,12],[152,3,152,4],[152,5,152,6],[152,7,152,8],[133,11,136,12],[138,11,138,12],[141,0,141,10],[141,11,142,12],[142,3,142,4],[142,5,142,6],[142,7,142,8],[163,11,166,12],[168,11,168,12],[171,0,171,10],[171,11,172,12],[172,3,172,4],[172,5,172,6],[172,7,172,8],[153,11,156,12],[158,11,158,12],[161,0,161,10],[161,11,162,12],[162,3,162,4],[162,5,162,6],[162,7,162,8],[191,0,191,10],[191,11,192,12],[192,3,192,4],[192,5,192,6],[192,7,192,8],[173,11,176,12],[178,11,178,12],[181,0,181,10],[181,11,182,12],[182,3,182,4],[182,5,182,6],[182,7,182,8],[211,0,211,10],[211,11,212,12],[212,3,212,4],[212,5,212,6],[212,7,212,8],[193,11,196,12],[198,11,198,12],[201,0,201,10],[201,11,202,12],[202,3,202,4],[202,5,202,6],[202,7,202,8],[231,0,231,10],[231,11,232,12],[232,3,232,4],[232,5,232,6],[232,7,232,8],[213,11,216,12],[218,11,218,12],[221,0,221,10],[221,11,222,12],[222,3,222,4],[222,5,222,6],[222,7,222,8],[0,0,0,12],[41,0,41,10],[253,11,256,12],[258,11,258,12],[243,11,246,12],[248,11,248,12],[223,11,226,12],[228,11,228,12],[203,11,206,12],[208,11,208,12],[183,11,186,12],[188,11,188,12],[251,0,251,10],[251,11,252,12],[252,3,252,4],[252,5,252,6],[252,7,252,8],[233,11,236,12],[238,11,238,12],[241,0,241,10],[241,11,242,12],[242,3,242,4],[242,5,242,6],[242,7,242,8],[2,3,2,4],[2,5,2,6],[2,7,2,8],[2,11,2,12],[3,11,3,12],[4,11,4,12],[5,11,5,12],[6,11,6,12],[7,11,7,12],[8,11,8,12],[9,11,9,12],[10,11,10,12],[11,11,11,12],[12,11,12,12],[13,11,13,12],[14,11,14,12],[15,11,15,12],[16,11,16,12],[17,11,17,12],[18,11,18,12],[19,11,19,12],[20,11,20,12],[21,11,21,12],[22,11,22,12],[23,11,23,12],[24,11,24,12],[25,11,25,12],[35,11,35,12],[36,11,36,12],[37,11,37,12],[38,11,38,12],[26,11,26,12],[27,11,27,12],[28,11,28,12],[29,11,29,12],[30,11,30,12],[31,11,31,12],[32,11,32,12],[33,11,33,12],[34,11,34,12]]}
["Kis iskolák FIÚ egyéni és csapatversenye "]
[]
["Név","Sz.év","Kcs.","R. fut",null,"Távolugrás",null,"Klabdahajítás",null,"Összpont","helyezés","Iskola"]
["Balogh Péter Botond",2015,"I-II.",10.9,{"$f":"IF(D4<6.19,0,VLOOKUP(D4,rrfut,7,TRUE))","v":82},2.4700000000000002,{"$f":"IF(F4<1.79,0,VLOOKUP(F4,távol,4,TRUE))","v":28},23.2,{"$f":"IF(H4<4,0,VLOOKUP(H4,kisl,2,TRUE))","v":52},{"$f":"SUM(E4,G4,I4)","v":162},{"$f":"RANK(J4,'E. II. kcs'!$J$3:$J$58,0)","v":23},"Mórágy"]
["Horváth Dániel",2013,"I-II.",10.199999999999999,110,3.42,71,23.8,54,{"$f":"SUM(E5,G5,I5)","v":235},{"$f":"RANK(J5,'E. II. kcs'!$J$3:$J$58,0)","v":16},"Mórágy"]
["Palkó Tamás László",2014,"I-II.",10.4,101,2.95,49,20.8,46,196,{"$f":"RANK(J6,'E. II. kcs'!$J$3:$J$58,0)","v":20},"Mórágy"]
[null,null,"I-II.",null,0,null,0,null,0,0,{"$f":"RANK(J7,'E. II. kcs'!$J$3:$J$58,0)","v":24}]
[null,null,"I-II.",null,0,null,0,null,0,0,{"$f":"RANK(J8,'E. II. kcs'!$J$3:$J$58,0)","v":24}]
[null,null,"I-II.",null,0,null,0,null,0,0,{"$f":"RANK(J9,'E. II. kcs'!$J$3:$J$58,0)","v":24}]
[null,null,"I-II.",null,0,null,0,null,0,0,{"$f":"RANK(J10,'E. II. kcs'!$J$3:$J$58,0)","v":24}]
[null,null,"I-II.",null,0,null,0,null,0,0,{"$f":"RANK(J11,'E. II. kcs'!$J$3:$J$58,0)","v":24}]
[null,null,"I-II.",null,0,null,0,null,0,0,{"$f":"RANK(J12,'E. II. kcs'!$J$3:$J$58,0)","v":24}]
[null,null,"I-II.",null,0,null,0,null,0,0,{"$f":"RANK(J13,'E. II. kcs'!$J$3:$J$58,0)","v":24}]
[null,null,"I-II.",null,0,null,0,null,0,0,{"$f":"RANK(J14,'E. II. kcs'!$J$3:$J$58,0)","v":24}]
[null,null,"I-II.",null,0,null,0,null,{"$f":"IF(H15<4,0,VLOOKUP(H15,kisl,2,TRUE))","v":0},0,{"$f":"RANK(J15,'E. II. kcs'!$J$3:$J$58,0)","v":24}]
["Bíró Sándor",2010,"III.",11.7,52,2.92,{"$f":"IF(F16<1.79,0,VLOOKUP(F16,távol,4,TRUE))","v":48},29.6,72,172,{"$f":"RANK(J16,'E. III. kcs'!$J$3:$J$58,0)","v":24},"Mórágy"]
["Franek Bene",2010,"III.",9.5,139,4.21,108,26,61,308,{"$f":"RANK(J17,'E. III. kcs'!$J$3:$J$58,0)","v":20},"Mórágy"]
["Franek Botond",2010,"III.",9.5,139,3.71,84,29.1,70,293,{"$f":"RANK(J18,'E. III. kcs'!$J$3:$J$58,0)","v":23},"Mórágy"]
["Palkó András József",2011,"III.",9,161,3.81,89,31.9,78,328,{"$f":"RANK(J19,'E. III. kcs'!$J$3:$J$58,0)","v":16},"Mórágy"]
[null,null,"III.",null,0,null,0,null,0,0,{"$f":"RANK(J20,'E. III. kcs'!$J$3:$J$58,0)","v":25}]
[null,null,"III.",null,0,null,0,null,0,0,{"$f":"RANK(J21,'E. III. kcs'!$J$3:$J$58,0)","v":25}]
[null,null,"III.",null,0,null,0,null,0,0,{"$f":"RANK(J22,'E. III. kcs'!$J$3:$J$58,0)","v":25}]
[null,null,"III.",null,0,null,0,null,0,0,{"$f":"RANK(J23,'E. III. kcs'!$J$3:$J$58,0)","v":25}]
[null,null,"III.",null,0,null,0,null,0,0,{"$f":"RANK(J24,'E. III. kcs'!$J$3:$J$58,0)","v":25}]
[null,null,"III.",null,0,null,0,null,0,0,{"$f":"RANK(J25,'E. III. kcs'!$J$3:$J$58,0)","v":25}]
[null,null,"III.",null,0,null,0,null,0,0,{"$f":"RANK(J26,'E. III. kcs'!$J$3:$J$58,0)","v":25}]
[null,null,"III.",null,0,null,0,null,0,0,{"$f":"RANK(J27,'E. III. kcs'!$J$3:$J$58,0)","v":25}]
["Palkó Nimród",2009,"IV.",14.8,{"$f":"IF(D28<6.19,0,VLOOKUP(D28,rfut,5,TRUE))","v":119},4.0999999999999996,102,39.1,100,321,{"$f":"RANK(J28,'E. IV. kcs'!$J$3:$J$58,0)","v":23},"Kakasd"]
["Pató Bálint",2008,"IV.",14.6,126,4.38,{"$f":"IF(F29<1.79,0,VLOOKUP(F29,távol,4,TRUE))","v":117},46.8,125,368,{"$f":"RANK(J29,'E. IV. kcs'!$J$3:$J$58,0)","v":14},"Kölesd"]
["Tóth József",2008,"IV.",14.8,119,4.62,129,40.6,105,353,{"$f":"RANK(J30,'E. IV. kcs'!$J$3:$J$58,0)","v":19},"Mórágy"]
["Kis Miron",2008,"IV.",14.4,132,4.24,109,36.5,92,333,{"$f":"RANK(J31,'E. IV. kcs'!$J$3:$J$58,0)","v":22},"Mórágy"]
[null,null,"IV.",null,0,null,0,null,0,0,{"$f":"RANK(J32,'E. IV. kcs'!$J$3:$J$58,0)","v":25}]
[null,null,"IV.",null,0,null,0,null,0,0,{"$f":"RANK(J33,'E. IV. kcs'!$J$3:$J$58,0)","v":25}]
[null,null,"IV.",null,0,null,0,null,0,0,{"$f":"RANK(J34,'E. IV. kcs'!$J$3:$J$58,0)","v":25}]
[null,null,"IV.",null,0,null,0,null,0,0,{"$f":"RANK(J35,'E. IV. kcs'!$J$3:$J$58,0)","v":25}]
[null,null,"IV.",null,0,null,0,null,0,0,{"$f":"RANK(J36,'E. IV. kcs'!$J$3:$J$58,0)","v":25}]
[null,null,"IV.",null,0,null,0,null,0,0,{"$f":"RANK(J37,'E. IV. kcs'!$J$3:$J$58,0)","v":25}]
[null,null,"IV.",null,0,null,0,null,0,0,{"$f":"RANK(J38,'E. IV. kcs'!$J$3:$J$58,0)","v":25}]
[null,null,"IV.",null,0,null,0,null,0,0,{"$f":"RANK(J39,'E. IV. kcs'!$J$3:$J$58,0)","v":25}]
[]
[]
["Őcsényi Perczel Mór Általános Iskola",null,null,null,null,null,null,null,null,null,null,{"$f":"RANK(L44,Csapat!$C$3:P30,0)","v":4}]
["Név","Sz.év","Kcs.","R. futás",null,"Távolugrás",null,"Klabdahajítás",null,"Összpont","Helyezés"]
["Kövecses Ádám Noel",2013,"I-II.",10.4,{"$f":"IF(D44<6.19,0,VLOOKUP(D44,rrfut,7,TRUE))","v":101},3.42,{"$f":"IF(F44<1.79,0,VLOOKUP(F44,távol,4,TRUE))","v":71},30,{"$f":"IF(H44<4,0,VLOOKUP(H44,kisl,2,TRUE))","v":73},{"$f":"SUM(E44,G44,I44)","v":245},{"$f":"RANK(J44,'E. II. kcs'!$J$3:$J$58,0)","v":13},{"$f":"SUM(J44:J49)","v":2050}]
["Lepp Balázs",2012,"I-II.",9.9,{"$f":"IF(D45<6.19,0,VLOOKUP(D45,rrfut,7,TRUE))","v":122},3.32,66,26,61,{"$f":"SUM(E45,G45,I45)","v":249},{"$f":"RANK(J45,'E. II. kcs'!$J$3:$J$58,0)","v":12}]
["Kránicz Balázs",2010,"III.",8.6,{"$f":"IF(D46<6.19,0,VLOOKUP(D46,rrfut,7,TRUE))","v":179},4.21,108,45,119,406,{"$f":"RANK(J46,'E. III. kcs'!$J$3:$J$58,0)","v":4}]
["Onoka Zsombor Patik",2011,"III.",9.1999999999999993,{"$f":"IF(D47<6.19,0,VLOOKUP(D47,rrfut,7,TRUE))","v":152},3.74,85,29.05,70,307,{"$f":"RANK(J47,'E. III. kcs'!$J$3:$J$58,0)","v":21}]
["Faragó Zoltán",2008,"IV.",12.7,{"$f":"IF(D48<6.19,0,VLOOKUP(D48,rfut,5,TRUE))","v":191},5.41,171,44.3,117,479,{"$f":"RANK(J48,'E. IV. kcs'!$J$3:$J$58,0)","v":3}]
["Nagy Áron",2008,"IV.",14.2,{"$f":"IF(D49<6.19,0,VLOOKUP(D49,rfut,5,TRUE))","v":138},4.68,132,37.1,94,364,{"$f":"RANK(J49,'E. IV. kcs'!$J$3:$J$58,0)","v":16}]
[]
[]
["Kölesdi Béri Balogh Ádám Általános Iskola",null,null,null,null,null,null,null,null,null,null,{"$f":"RANK(L54,Csapat!$C$3:P40,0)","v":6}]
["Név","Sz.év","Kcs.","R. futás",null,"Távolugrás",null,"Klabdahajítás",null,"Összpont","Helyezés"]
["Adonics Dorián Gergő",2012,"I-II.",9.9,{"$f":"IF(D54<6.19,0,VLOOKUP(D54,rrfut,7,TRUE))","v":122},3.83,{"$f":"IF(F54<1.79,0,VLOOKUP(F54,távol,4,TRUE))","v":90},33.6,{"$f":"IF(H54<4,0,VLOOKUP(H54,kisl,2,TRUE))","v":83},{"$f":"SUM(E54,G54,I54)","v":295},{"$f":"RANK(J54,'E. II. kcs'!$J$3:$J$58,0)","v":3},{"$f":"SUM(J54:J59)","v":2032}]
["Vámosi Zoltán",2012,"I-II.",9.4,{"$f":"IF(D55<6.19,0,VLOOKUP(D55,rrfut,7,TRUE))","v":143},3.9,93,29,70,{"$f":"SUM(E55,G55,I55)","v":306},{"$f":"RANK(J55,'E. II. kcs'!$J$3:$J$58,0)","v":1}]
["Barkóczi Imre Erik",2011,"III.",9.8000000000000007,{"$f":"IF(D56<6.19,0,VLOOKUP(D56,rrfut,7,TRUE))","v":126},3.81,89,37.6,95,310,{"$f":"RANK(J56,'E. III. kcs'!$J$3:$J$58,0)","v":18}]
["Egyed János",2010,"III.",9.1999999999999993,{"$f":"IF(D57<6.19,0,VLOOKUP(D57,rrfut,7,TRUE))","v":152},4.2,107,42.3,111,370,{"$f":"RANK(J57,'E. III. kcs'!$J$3:$J$58,0)","v":8}]
["Koller Dominik",2009,"IV.",13.7,{"$f":"IF(D58<6.19,0,VLOOKUP(D58,rfut,5,TRUE))","v":155},4.5999999999999996,128,38.6,98,381,{"$f":"RANK(J58,'E. IV. kcs'!$J$3:$J$58,0)","v":12}]
["Sienkiewicz Attila Róbert",2008,"IV.",13.4,166,4.55,125,32.1,79,370,{"$f":"RANK(J59,'E. IV. kcs'!$J$3:$J$58,0)","v":13}]
[]
[]
["Kaposszekcsői Általános Iskola",null,null,null,null,null,null,null,null,null,null,{"$f":"RANK(L64,Csapat!$C$3:P50,0)","v":9}]
["Név","Sz.év","Kcs.","R. futás",null,"Távolugrás",null,"Klabdahajítás",null,"Összpont","Helyezés"]
["Balogh Gergő",2013,"I-II.",9.5,{"$f":"IF(D64<6.19,0,VLOOKUP(D64,rrfut,7,TRUE))","v":139},3.64,{"$f":"IF(F64<1.79,0,VLOOKUP(F64,távol,4,TRUE))","v":81},26.9,{"$f":"IF(H64<4,0,VLOOKUP(H64,kisl,2,TRUE))","v":63},{"$f":"SUM(E64,G64,I64)","v":283},{"$f":"RANK(J64,'E. II. kcs'!$J$3:$J$58,0)","v":7},{"$f":"SUM(J64:J69)","v":1946}]
["Hideg Benett Vajk",2013,"I-II.",10.7,{"$f":"IF(D65<6.19,0,VLOOKUP(D65,rrfut,7,TRUE))","v":90},3,51,21,46,{"$f":"SUM(E65,G65,I65)","v":187},{"$f":"RANK(J65,'E. II. kcs'!$J$3:$J$58,0)","v":22}]
["Megyeri Barna",2011,"III.",9.6999999999999993,{"$f":"IF(D66<6.19,0,VLOOKUP(D66,rrfut,7,TRUE))","v":131},4.7,133,28,67,331,{"$f":"RANK(J66,'E. III. kcs'!$J$3:$J$58,0)","v":14}]
["Viszlavszki Bence",2011,"III.",9.1999999999999993,{"$f":"IF(D67<6.19,0,VLOOKUP(D67,rrfut,7,TRUE))","v":152},4.2300000000000004,109,37.700000000000003,96,357,{"$f":"RANK(J67,'E. III. kcs'!$J$3:$J$58,0)","v":9}]
["Antal Bálint",2008,"IV.",12.9,{"$f":"IF(D68<6.19,0,VLOOKUP(D68,rfut,5,TRUE))","v":184},4.97,147,38.299999999999997,98,429,{"$f":"RANK(J68,'E. IV. kcs'!$J$3:$J$58,0)","v":6}]
["Zsolnai Alex",2008,"IV.",14.3,135,4.29,112,42.7,112,359,{"$f":"RANK(J69,'E. IV. kcs'!$J$3:$J$58,0)","v":17}]
[]
[]
["Hőgyészi Hegyhát Általános Általános Iskola",null,null,null,null,null,null,null,null,null,null,{"$f":"RANK(L74,Csapat!$C$3:P60,0)","v":2}]
["Név","Sz.év","Kcs.","R. futás",null,"Távolugrás",null,"Klabdahajítás",null,"Összpont","Helyezés"]
["Kovács Lajos",2012,"I-II.",10,{"$f":"IF(D74<6.19,0,VLOOKUP(D74,rrfut,7,TRUE))","v":118},3.69,{"$f":"IF(F74<1.79,0,VLOOKUP(F74,távol,4,TRUE))","v":83},32.200000000000003,{"$f":"IF(H74<4,0,VLOOKUP(H74,kisl,2,TRUE))","v":79},{"$f":"SUM(E74,G74,I74)","v":280},{"$f":"RANK(J74,'E. II. kcs'!$J$3:$J$58,0)","v":8},{"$f":"SUM(J74:J79)","v":2160}]
["Tösmagi Tamás",2014,"I-II.",10.7,{"$f":"IF(D75<6.19,0,VLOOKUP(D75,rrfut,7,TRUE))","v":90},3.21,61,25.75,60,{"$f":"SUM(E75,G75,I75)","v":211},{"$f":"RANK(J75,'E. II. kcs'!$J$3:$J$58,0)","v":19}]
["Máté Patrik",2011,"III.",8.1,{"$f":"IF(D76<6.19,0,VLOOKUP(D76,rrfut,7,TRUE))","v":203},4.97,147,45,119,469,{"$f":"RANK(J76,'E. III. kcs'!$J$3:$J$58,0)","v":2}]
["Mohácsi Zoltán",2010,"III.",9.1999999999999993,{"$f":"IF(D77<6.19,0,VLOOKUP(D77,rrfut,7,TRUE))","v":152},4.3099999999999996,113,35.75,90,355,{"$f":"RANK(J77,'E. III. kcs'!$J$3:$J$58,0)","v":10}]
["Orsós Martin",2008,"IV.",13.2,{"$f":"IF(D78<6.19,0,VLOOKUP(D78,rfut,5,TRUE))","v":173},4.95,146,38.65,99,418,{"$f":"RANK(J78,'E. IV. kcs'!$J$3:$J$58,0)","v":9}]
["Sasi Márkus",2009,"IV.",13.1,176,4.87,142,41.85,109,427,{"$f":"RANK(J79,'E. IV. kcs'!$J$3:$J$58,0)","v":8}]
[]
[]
["Decsi Bíborvég Általános Iskola",null,null,null,null,null,null,null,null,null,null,{"$f":"RANK(L84,Csapat!$C$3:P70,0)","v":8}]
["Név","Sz.év","Kcs.","R. futás",null,"Távolugrás",null,"Klabdahajítás",null,"Összpont","Helyezés"]
["Csicsó Máté",2012,"I-II.",9.8000000000000007,{"$f":"IF(D84<6.19,0,VLOOKUP(D84,rrfut,7,TRUE))","v":126},3.86,{"$f":"IF(F84<1.79,0,VLOOKUP(F84,távol,4,TRUE))","v":91},28.6,{"$f":"IF(H84<4,0,VLOOKUP(H84,kisl,2,TRUE))","v":69},{"$f":"SUM(E84,G84,I84)","v":286},{"$f":"RANK(J84,'E. II. kcs'!$J$3:$J$58,0)","v":6},{"$f":"SUM(J84:J89)","v":1986}]
["Kalányos Dominik Dávid",2012,"I-II.",10.6,{"$f":"IF(D85<6.19,0,VLOOKUP(D85,rrfut,7,TRUE))","v":94},3.22,61,27.3,65,{"$f":"SUM(E85,G85,I85)","v":220},{"$f":"RANK(J85,'E. II. kcs'!$J$3:$J$58,0)","v":17}]
["Csicsó Milán",2011,"III.",9.6,{"$f":"IF(D86<6.19,0,VLOOKUP(D86,rrfut,7,TRUE))","v":135},4.1100000000000003,103,28.35,68,306,{"$f":"RANK(J86,'E. III. kcs'!$J$3:$J$58,0)","v":22}]
["Józsa Flórián",2011,"III.",9.5,{"$f":"IF(D87<6.19,0,VLOOKUP(D87,rrfut,7,TRUE))","v":139},4.0199999999999996,98,37.1,94,331,{"$f":"RANK(J87,'E. III. kcs'!$J$3:$J$58,0)","v":14}]
["Akay Márk",2009,"IV.",13.6,{"$f":"IF(D88<6.19,0,VLOOKUP(D88,rfut,5,TRUE))","v":159},4.24,109,36,91,359,{"$f":"RANK(J88,'E. IV. kcs'!$J$3:$J$58,0)","v":17}]
["Baráth Brendon",2008,"IV.",13.3,169,5.5,176,50.95,139,484,{"$f":"RANK(J89,'E. IV. kcs'!$J$3:$J$58,0)","v":2}]
[]
[]
["Kurdi Körzeti Általános Iskola",null,null,null,null,null,null,null,null,null,null,{"$f":"RANK(L94,Csapat!$C$3:P80,0)","v":3}]
["Név","Sz.év","Kcs.","R. futás",null,"Távolugrás",null,"Klabdahajítás",null,"Összpont","Helyezés"]
["Marczi Mario Alex",2013,"I-II.",10.9,{"$f":"IF(D94<6.19,0,VLOOKUP(D94,rrfut,7,TRUE))","v":82},3.85,{"$f":"IF(F94<1.79,0,VLOOKUP(F94,távol,4,TRUE))","v":90},29.35,{"$f":"IF(H94<4,0,VLOOKUP(H94,kisl,2,TRUE))","v":71},{"$f":"SUM(E94,G94,I94)","v":243},{"$f":"RANK(J94,'E. II. kcs'!$J$3:$J$58,0)","v":14},{"$f":"SUM(J94:J99)","v":2141}]
["Molnár Szabolcs József",2013,"I-II.",9.5,{"$f":"IF(D95<6.19,0,VLOOKUP(D95,rrfut,7,TRUE))","v":139},3.62,80,28.4,68,{"$f":"SUM(E95,G95,I95)","v":287},{"$f":"RANK(J95,'E. II. kcs'!$J$3:$J$58,0)","v":5}]
["Janzsó Viktor",2010,"III.",9.5,{"$f":"IF(D96<6.19,0,VLOOKUP(D96,rrfut,7,TRUE))","v":139},4.38,117,35.549999999999997,89,345,{"$f":"RANK(J96,'E. III. kcs'!$J$3:$J$58,0)","v":12}]
["Kocsándi Martin Máté",2010,"III.",9.5,{"$f":"IF(D97<6.19,0,VLOOKUP(D97,rrfut,7,TRUE))","v":139},3.62,80,36.049999999999997,91,310,{"$f":"RANK(J97,'E. III. kcs'!$J$3:$J$58,0)","v":18}]
["Orsós Nándor",2008,"IV.",13.2,{"$f":"IF(D98<6.19,0,VLOOKUP(D98,rfut,5,TRUE))","v":173},5.1100000000000003,154,42.95,113,440,{"$f":"RANK(J98,'E. IV. kcs'!$J$3:$J$58,0)","v":5}]
["Speigler Krisztofer János",2008,"IV.",13.3,169,5.44,173,60.9,174,516,{"$f":"RANK(J99,'E. IV. kcs'!$J$3:$J$58,0)","v":1}]
[]
[]
["Kakasd, Bonyhádi Általános Iskola",null,null,null,null,null,null,null,null,null,null,{"$f":"RANK(L104,Csapat!$C$3:P90,0)","v":1}]
["Név","Sz.év","Kcs.","R. futás",null,"Távolugrás",null,"Klabdahajítás",null,"Összpont","Helyezés"]
["Fábián Bence",2012,"I-II.",9.9,{"$f":"IF(D104<6.19,0,VLOOKUP(D104,rrfut,7,TRUE))","v":122},3.82,{"$f":"IF(F104<1.79,0,VLOOKUP(F104,távol,4,TRUE))","v":89},34.799999999999997,{"$f":"IF(H104<4,0,VLOOKUP(H104,kisl,2,TRUE))","v":87},{"$f":"SUM(E104,G104,I104)","v":298},{"$f":"RANK(J104,'E. II. kcs'!$J$3:$J$58,0)","v":2},{"$f":"SUM(J104:J109)","v":2215}]
["Horváth Benjamin",2012,"I-II.",9.3000000000000007,{"$f":"IF(D105<6.19,0,VLOOKUP(D105,rrfut,7,TRUE))","v":147},3.85,90,24.2,55,{"$f":"SUM(E105,G105,I105)","v":292},{"$f":"RANK(J105,'E. II. kcs'!$J$3:$J$58,0)","v":4}]
["Mayer Máté",2010,"III.",9,{"$f":"IF(D106<6.19,0,VLOOKUP(D106,rrfut,7,TRUE))","v":161},4.34,115,42.3,111,387,{"$f":"RANK(J106,'E. III. kcs'!$J$3:$J$58,0)","v":5}]
["Moszbauer Balázs",2010,"III.",8.9,{"$f":"IF(D107<6.19,0,VLOOKUP(D107,rrfut,7,TRUE))","v":165},4.41,118,40.15,103,386,{"$f":"RANK(J107,'E. III. kcs'!$J$3:$J$58,0)","v":6}]
["Szabó Barna",2008,"IV.",12.9,{"$f":"IF(D108<6.19,0,VLOOKUP(D108,rfut,5,TRUE))","v":184},5.01,149,41.4,108,441,{"$f":"RANK(J108,'E. IV. kcs'!$J$3:$J$58,0)","v":4}]
["Sztehló Olivér",2008,"IV.",13.2,173,4.7,133,40.700000000000003,105,411,{"$f":"RANK(J109,'E. IV. kcs'!$J$3:$J$58,0)","v":10}]
[]
[]
["Pálfa, Simontornyai Vak Bottyán Általános Iskola és Gimnázium",null,null,null,null,null,null,null,null,null,null,{"$f":"RANK(L114,Csapat!$C$3:P100,0)","v":5}]
["Név","Sz.év","Kcs.","R. futás",null,"Távolugrás",null,"Klabdahajítás",null,"Összpont","Helyezés"]
["Kaszanov Bálint",2013,"I-II.",10.5,{"$f":"IF(D114<6.19,0,VLOOKUP(D114,rrfut,7,TRUE))","v":97},3.24,{"$f":"IF(F114<1.79,0,VLOOKUP(F114,távol,4,TRUE))","v":62},25.9,{"$f":"IF(H114<4,0,VLOOKUP(H114,kisl,2,TRUE))","v":60},{"$f":"SUM(E114,G114,I114)","v":219},{"$f":"RANK(J114,'E. II. kcs'!$J$3:$J$58,0)","v":18},{"$f":"SUM(J114:J119)","v":2048}]
["Kaszanov Bence",2013,"I-II.",10.7,{"$f":"IF(D115<6.19,0,VLOOKUP(D115,rrfut,7,TRUE))","v":90},3.4,70,17.399999999999999,36,{"$f":"SUM(E115,G115,I115)","v":196},{"$f":"RANK(J115,'E. II. kcs'!$J$3:$J$58,0)","v":20}]
["Budai Norbert",2010,"III.",8.9,{"$f":"IF(D116<6.19,0,VLOOKUP(D116,rrfut,7,TRUE))","v":165},4,97,44.1,116,378,{"$f":"RANK(J116,'E. III. kcs'!$J$3:$J$58,0)","v":7}]
["Démuth Béla Kevin",2010,"III.",8.4,{"$f":"IF(D117<6.19,0,VLOOKUP(D117,rrfut,7,TRUE))","v":189},5.01,149,50.9,139,477,{"$f":"RANK(J117,'E. III. kcs'!$J$3:$J$58,0)","v":1}]
["Deres Dávid",2008,"IV.",14.4,{"$f":"IF(D118<6.19,0,VLOOKUP(D118,rfut,5,TRUE))","v":132},5.04,150,53,146,428,{"$f":"RANK(J118,'E. IV. kcs'!$J$3:$J$58,0)","v":7}]
["Kovács Péter",2008,"IV.",15.4,100,4.8099999999999996,139,42.5,111,350,{"$f":"RANK(J119,'E. IV. kcs'!$J$3:$J$58,0)","v":20}]
[]
[]
["Teveli Általános Iskola",null,null,null,null,null,null,null,null,null,null,{"$f":"RANK(L124,Csapat!$C$3:P110,0)","v":10}]
["Név","Sz.év","Kcs.","R. futás",null,"Távolugrás",null,"Klabdahajítás",null,"Összpont","Helyezés"]
["Fábián Levente",2013,"I-II.",10.3,{"$f":"IF(D124<6.19,0,VLOOKUP(D124,rrfut,7,TRUE))","v":106},3.32,{"$f":"IF(F124<1.79,0,VLOOKUP(F124,távol,4,TRUE))","v":66},34.950000000000003,{"$f":"IF(H124<4,0,VLOOKUP(H124,kisl,2,TRUE))","v":88},{"$f":"SUM(E124,G124,I124)","v":260},{"$f":"RANK(J124,'E. II. kcs'!$J$3:$J$58,0)","v":11},{"$f":"SUM(J124:J129)","v":1868}]
["Kovács Roland",2013,"I-II.",10.3,{"$f":"IF(D125<6.19,0,VLOOKUP(D125,rrfut,7,TRUE))","v":106},3.51,75,24.6,57,{"$f":"SUM(E125,G125,I125)","v":238},{"$f":"RANK(J125,'E. II. kcs'!$J$3:$J$58,0)","v":15}]
["Nagy Norbert István",2010,"III.",9.5,{"$f":"IF(D126<6.19,0,VLOOKUP(D126,rrfut,7,TRUE))","v":139},3.79,88,41.2,107,334,{"$f":"RANK(J126,'E. III. kcs'!$J$3:$J$58,0)","v":13}]
["Torma Tamás Lajos",2010,"III.",9.8000000000000007,{"$f":"IF(D127<6.19,0,VLOOKUP(D127,rrfut,7,TRUE))","v":126},4.0199999999999996,98,38.049999999999997,97,321,{"$f":"RANK(J127,'E. III. kcs'!$J$3:$J$58,0)","v":17}]
["Lakatos Rudolf Krisztofer",2009,"IV.",13.9,{"$f":"IF(D128<6.19,0,VLOOKUP(D128,rfut,5,TRUE))","v":148},4.24,109,36.9,93,350,{"$f":"RANK(J128,'E. IV. kcs'!$J$3:$J$58,0)","v":20}]
["Nagy Ármin",2008,"IV.",14.1,142,4.28,111,42.9,112,365,{"$f":"RANK(J129,'E. IV. kcs'!$J$3:$J$58,0)","v":15}]
[]
[]
["Várdomb-Alsónána Általános Iskola",null,null,null,null,null,null,null,null,null,null,{"$f":"RANK(L134,Csapat!$C$3:P120,0)","v":7}]
["Név","Sz.év","Kcs.","R. futás",null,"Távolugrás",null,"Klabdahajítás",null,"Összpont","Helyezés"]
["Héger Bálint István",2014,"I-II.",9.6999999999999993,{"$f":"IF(D134<6.19,0,VLOOKUP(D134,rrfut,7,TRUE))","v":131},3.73,{"$f":"IF(F134<1.79,0,VLOOKUP(F134,távol,4,TRUE))","v":85},24.45,{"$f":"IF(H134<4,0,VLOOKUP(H134,kisl,2,TRUE))","v":56},{"$f":"SUM(E134,G134,I134)","v":272},{"$f":"RANK(J134,'E. II. kcs'!$J$3:$J$58,0)","v":9},{"$f":"SUM(J134:J139)","v":1999}]
["Loboda Dominik",2013,"I-II.",10.3,{"$f":"IF(D135<6.19,0,VLOOKUP(D135,rrfut,7,TRUE))","v":106},4.0199999999999996,98,25,58,{"$f":"SUM(E135,G135,I135)","v":262},{"$f":"RANK(J135,'E. II. kcs'!$J$3:$J$58,0)","v":10}]
["Major Erik Krisztián",2010,"III.",8.9,{"$f":"IF(D136<6.19,0,VLOOKUP(D136,rrfut,7,TRUE))","v":165},4.0199999999999996,98,35.299999999999997,89,352,{"$f":"RANK(J136,'E. III. kcs'!$J$3:$J$58,0)","v":11}]
["Török Balázs",2010,"III.",8.6999999999999993,{"$f":"IF(D137<6.19,0,VLOOKUP(D137,rrfut,7,TRUE))","v":175},4.84,140,36.75,93,408,{"$f":"RANK(J137,'E. III. kcs'!$J$3:$J$58,0)","v":3}]
["Csitkovics Milán Gábor",2009,"IV.",14.2,{"$f":"IF(D138<6.19,0,VLOOKUP(D138,rfut,5,TRUE))","v":138},4.45,120,48.7,132,390,{"$f":"RANK(J138,'E. IV. kcs'!$J$3:$J$58,0)","v":11}]
["Nyíregyházi Csanád László",2008,"IV.",15.8,88,4.04,99,47.5,128,315,{"$f":"RANK(J139,'E. IV. kcs'!$J$3:$J$58,0)","v":24}]
[]
[]
[null,null,null,null,null,null,null,null,null,null,null,{"$f":"RANK(L144,Csapat!$C$3:P130,0)","v":11}]
["Név","Sz.év","Kcs.","R. futás",null,"Távolugrás",null,"Klabdahajítás",null,"Összpont","Helyezés"]
[null,null,"I-II.",null,{"$f":"IF(D144<6.19,0,VLOOKUP(D144,rrfut,7,TRUE))","v":0},null,{"$f":"IF(F144<1.79,0,VLOOKUP(F144,távol,4,TRUE))","v":0},null,{"$f":"IF(H144<4,0,VLOOKUP(H144,kisl,2,TRUE))","v":0},{"$f":"SUM(E144,G144,I144)","v":0},{"$f":"RANK(J144,'E. II. kcs'!$J$3:$J$58,0)","v":24},{"$f":"SUM(J144:J149)","v":0}]
[null,null,"I-II.",null,{"$f":"IF(D145<6.19,0,VLOOKUP(D145,rrfut,7,TRUE))","v":0},null,0,null,0,{"$f":"SUM(E145,G145,I145)","v":0},{"$f":"RANK(J145,'E. II. kcs'!$J$3:$J$58,0)","v":24}]
[null,null,"III.",null,{"$f":"IF(D146<6.19,0,VLOOKUP(D146,rrfut,7,TRUE))","v":0},null,0,null,0,0,{"$f":"RANK(J146,'E. III. kcs'!$J$3:$J$58,0)","v":25}]
[null,null,"III.",null,{"$f":"IF(D147<6.19,0,VLOOKUP(D147,rrfut,7,TRUE))","v":0},null,0,null,0,0,{"$f":"RANK(J147,'E. III. kcs'!$J$3:$J$58,0)","v":25}]
[null,null,"IV.",null,{"$f":"IF(D148<6.19,0,VLOOKUP(D148,rfut,5,TRUE))","v":0},null,0,null,0,0,{"$f":"RANK(J148,'E. IV. kcs'!$J$3:$J$58,0)","v":25}]
[null,null,"IV.",null,0,null,0,null,0,0,{"$f":"RANK(J149,'E. IV. kcs'!$J$3:$J$58,0)","v":25}]
[]
[]
[null,null,null,null,null,null,null,null,null,null,null,{"$f":"RANK(L154,Csapat!$C$3:P140,0)","v":11}]
["Név","Sz.év","Kcs.","R. futás",null,"Távolugrás",null,"Klabdahajítás",null,"Összpont","Helyezés"]
[null,null,"I-II.",null,{"$f":"IF(D154<6.19,0,VLOOKUP(D154,rrfut,7,TRUE))","v":0},null,{"$f":"IF(F154<1.79,0,VLOOKUP(F154,távol,4,TRUE))","v":0},null,{"$f":"IF(H154<4,0,VLOOKUP(H154,kisl,2,TRUE))","v":0},{"$f":"SUM(E154,G154,I154)","v":0},{"$f":"RANK(J154,'E. II. kcs'!$J$3:$J$58,0)","v":24},{"$f":"SUM(J154:J159)","v":0}]
[null,null,"I-II.",null,{"$f":"IF(D155<6.19,0,VLOOKUP(D155,rrfut,7,TRUE))","v":0},null,0,null,0,{"$f":"SUM(E155,G155,I155)","v":0},{"$f":"RANK(J155,'E. II. kcs'!$J$3:$J$58,0)","v":24}]
[null,null,"III.",null,{"$f":"IF(D156<6.19,0,VLOOKUP(D156,rrfut,7,TRUE))","v":0},null,0,null,0,0,{"$f":"RANK(J156,'E. III. kcs'!$J$3:$J$58,0)","v":25}]
[null,null,"III.",null,{"$f":"IF(D157<6.19,0,VLOOKUP(D157,rrfut,7,TRUE))","v":0},null,0,null,0,0,{"$f":"RANK(J157,'E. III. kcs'!$J$3:$J$58,0)","v":25}]
[null,null,"IV.",null,{"$f":"IF(D158<6.19,0,VLOOKUP(D158,rfut,5,TRUE))","v":0},null,0,null,0,0,{"$f":"RANK(J158,'E. IV. kcs'!$J$3:$J$58,0)","v":25}]
[null,null,"IV.",null,0,null,0,null,0,0,{"$f":"RANK(J159,'E. IV. kcs'!$J$3:$J$58,0)","v":25}]
[]
[]
[null,null,null,null,null,null,null,null,null,null,null,{"$f":"RANK(L164,Csapat!$C$3:P150,0)","v":11}]
["Név","Sz.év","Kcs.","R. futás",null,"Távolugrás",null,"Klabdahajítás",null,"Összpont","Helyezés"]
[null,null,"I-II.",null,{"$f":"IF(D164<6.19,0,VLOOKUP(D164,rrfut,7,TRUE))","v":0},null,{"$f":"IF(F164<1.79,0,VLOOKUP(F164,távol,4,TRUE))","v":0},null,{"$f":"IF(H164<4,0,VLOOKUP(H164,kisl,2,TRUE))","v":0},{"$f":"SUM(E164,G164,I164)","v":0},{"$f":"RANK(J164,'E. II. kcs'!$J$3:$J$58,0)","v":24},{"$f":"SUM(J164:J169)","v":0}]
[null,null,"I-II.",null,{"$f":"IF(D165<6.19,0,VLOOKUP(D165,rrfut,7,TRUE))","v":0},null,0,null,0,{"$f":"SUM(E165,G165,I165)","v":0},{"$f":"RANK(J165,'E. II. kcs'!$J$3:$J$58,0)","v":24}]
[null,null,"III.",null,{"$f":"IF(D166<6.19,0,VLOOKUP(D166,rrfut,7,TRUE))","v":0},null,0,null,0,0,{"$f":"RANK(J166,'E. III. kcs'!$J$3:$J$58,0)","v":25}]
[null,null,"III.",null,{"$f":"IF(D167<6.19,0,VLOOKUP(D167,rrfut,7,TRUE))","v":0},null,0,null,0,0,{"$f":"RANK(J167,'E. III. kcs'!$J$3:$J$58,0)","v":25}]
[null,null,"IV.",null,{"$f":"IF(D168<6.19,0,VLOOKUP(D168,rfut,5,TRUE))","v":0},null,0,null,0,0,{"$f":"RANK(J168,'E. IV. kcs'!$J$3:$J$58,0)","v":25}]
[null,null,"IV.",null,0,null,0,null,0,0,{"$f":"RANK(J169,'E. IV. kcs'!$J$3:$J$58,0)","v":25}]
[]
[]
[null,null,null,null,null,null,null,null,null,null,null,{"$f":"RANK(L174,Csapat!$C$3:P160,0)","v":11}]
["Név","Sz.év","Kcs.","R. futás",null,"Távolugrás",null,"Klabdahajítás",null,"Összpont","Helyezés"]
[null,null,"I-II.",null,{"$f":"IF(D174<6.19,0,VLOOKUP(D174,rrfut,7,TRUE))","v":0},null,{"$f":"IF(F174<1.79,0,VLOOKUP(F174,távol,4,TRUE))","v":0},null,{"$f":"IF(H174<4,0,VLOOKUP(H174,kisl,2,TRUE))","v":0},{"$f":"SUM(E174,G174,I174)","v":0},{"$f":"RANK(J174,'E. II. kcs'!$J$3:$J$58,0)","v":24},{"$f":"SUM(J174:J179)","v":0}]
[null,null,"I-II.",null,{"$f":"IF(D175<6.19,0,VLOOKUP(D175,rrfut,7,TRUE))","v":0},null,0,null,0,{"$f":"SUM(E175,G175,I175)","v":0},{"$f":"RANK(J175,'E. II. kcs'!$J$3:$J$58,0)","v":24}]
[null,null,"III.",null,{"$f":"IF(D176<6.19,0,VLOOKUP(D176,rrfut,7,TRUE))","v":0},null,0,null,0,0,{"$f":"RANK(J176,'E. III. kcs'!$J$3:$J$58,0)","v":25}]
[null,null,"III.",null,{"$f":"IF(D177<6.19,0,VLOOKUP(D177,rrfut,7,TRUE))","v":0},null,0,null,0,0,{"$f":"RANK(J177,'E. III. kcs'!$J$3:$J$58,0)","v":25}]
[null,null,"IV.",null,{"$f":"IF(D178<6.19,0,VLOOKUP(D178,rfut,5,TRUE))","v":0},null,0,null,0,0,{"$f":"RANK(J178,'E. IV. kcs'!$J$3:$J$58,0)","v":25}]
[null,null,"IV.",null,0,null,0,null,0,0,{"$f":"RANK(J179,'E. IV. kcs'!$J$3:$J$58,0)","v":25}]
[]
[]
[null,null,null,null,null,null,null,null,null,null,null,{"$f":"RANK(L184,Csapat!$C$3:P170,0)","v":11}]
["Név","Sz.év","Kcs.","R. futás",null,"Távolugrás",null,"Klabdahajítás",null,"Összpont","Helyezés"]
[null,null,"I-II.",null,{"$f":"IF(D184<6.19,0,VLOOKUP(D184,rrfut,7,TRUE))","v":0},null,{"$f":"IF(F184<1.79,0,VLOOKUP(F184,távol,4,TRUE))","v":0},null,{"$f":"IF(H184<4,0,VLOOKUP(H184,kisl,2,TRUE))","v":0},{"$f":"SUM(E184,G184,I184)","v":0},{"$f":"RANK(J184,'E. II. kcs'!$J$3:$J$58,0)","v":24},{"$f":"SUM(J184:J189)","v":0}]
[null,null,"I-II.",null,{"$f":"IF(D185<6.19,0,VLOOKUP(D185,rrfut,7,TRUE))","v":0},null,0,null,0,{"$f":"SUM(E185,G185,I185)","v":0},{"$f":"RANK(J185,'E. II. kcs'!$J$3:$J$58,0)","v":24}]
[null,null,"III.",null,{"$f":"IF(D186<6.19,0,VLOOKUP(D186,rrfut,7,TRUE))","v":0},null,0,null,0,0,{"$f":"RANK(J186,'E. III. kcs'!$J$3:$J$58,0)","v":25}]
[null,null,"III.",null,{"$f":"IF(D187<6.19,0,VLOOKUP(D187,rrfut,7,TRUE))","v":0},null,0,null,0,0,{"$f":"RANK(J187,'E. III. kcs'!$J$3:$J$58,0)","v":25}]
[null,null,"IV.",null,{"$f":"IF(D188<6.19,0,VLOOKUP(D188,rfut,5,TRUE))","v":0},null,0,null,0,0,{"$f":"RANK(J188,'E. IV. kcs'!$J$3:$J$58,0)","v":25}]
[null,null,"IV.",null,0,null,0,null,0,0,{"$f":"RANK(J189,'E. IV. kcs'!$J$3:$J$58,0)","v":25}]
[]
[]
[null,null,null,null,null,null,null,null,null,null,null,{"$f":"RANK(L194,Csapat!$C$3:P180,0)","v":11}]
["Név","Sz.év","Kcs.","R. futás",null,"Távolugrás",null,"Klabdahajítás",null,"Összpont","Helyezés"]
[null,null,"I-II.",null,{"$f":"IF(D194<6.19,0,VLOOKUP(D194,rrfut,7,TRUE))","v":0},null,{"$f":"IF(F194<1.79,0,VLOOKUP(F194,távol,4,TRUE))","v":0},null,{"$f":"IF(H194<4,0,VLOOKUP(H194,kisl,2,TRUE))","v":0},{"$f":"SUM(E194,G194,I194)","v":0},{"$f":"RANK(J194,'E. II. kcs'!$J$3:$J$58,0)","v":24},{"$f":"SUM(J194:J199)","v":0}]
[null,null,"I-II.",null,{"$f":"IF(D195<6.19,0,VLOOKUP(D195,rrfut,7,TRUE))","v":0},null,0,null,0,{"$f":"SUM(E195,G195,I195)","v":0},{"$f":"RANK(J195,'E. II. kcs'!$J$3:$J$58,0)","v":24}]
[null,null,"III.",null,{"$f":"IF(D196<6.19,0,VLOOKUP(D196,rrfut,7,TRUE))","v":0},null,0,null,0,0,{"$f":"RANK(J196,'E. III. kcs'!$J$3:$J$58,0)","v":25}]
[null,null,"III.",null,{"$f":"IF(D197<6.19,0,VLOOKUP(D197,rrfut,7,TRUE))","v":0},null,0,null,0,0,{"$f":"RANK(J197,'E. III. kcs'!$J$3:$J$58,0)","v":25}]
[null,null,"IV.",null,{"$f":"IF(D198<6.19,0,VLOOKUP(D198,rfut,5,TRUE))","v":0},null,0,null,0,0,{"$f":"RANK(J198,'E. IV. kcs'!$J$3:$J$58,0)","v":25}]
[null,null,"IV.",null,0,null,0,null,0,0,{"$f":"RANK(J199,'E. IV. kcs'!$J$3:$J$58,0)","v":25}]
[]
[]
[null,null,null,null,null,null,null,null,null,null,null,{"$f":"RANK(L204,Csapat!$C$3:P190,0)","v":11}]
["Név","Sz.év","Kcs.","R. futás",null,"Távolugrás",null,"Klabdahajítás",null,"Összpont","Helyezés"]
[null,null,"I-II.",null,{"$f":"IF(D204<6.19,0,VLOOKUP(D204,rrfut,7,TRUE))","v":0},null,{"$f":"IF(F204<1.79,0,VLOOKUP(F204,távol,4,TRUE))","v":0},null,{"$f":"IF(H204<4,0,VLOOKUP(H204,kisl,2,TRUE))","v":0},{"$f":"SUM(E204,G204,I204)","v":0},{"$f":"RANK(J204,'E. II. kcs'!$J$3:$J$58,0)","v":24},{"$f":"SUM(J204:J209)","v":0}]
[null,null,"I-II.",null,{"$f":"IF(D205<6.19,0,VLOOKUP(D205,rrfut,7,TRUE))","v":0},null,0,null,0,{"$f":"SUM(E205,G205,I205)","v":0},{"$f":"RANK(J205,'E. II. kcs'!$J$3:$J$58,0)","v":24}]
[null,null,"III.",null,{"$f":"IF(D206<6.19,0,VLOOKUP(D206,rrfut,7,TRUE))","v":0},null,0,null,0,0,{"$f":"RANK(J206,'E. III. kcs'!$J$3:$J$58,0)","v":25}]
[null,null,"III.",null,{"$f":"IF(D207<6.19,0,VLOOKUP(D207,rrfut,7,TRUE))","v":0},null,0,null,0,0,{"$f":"RANK(J207,'E. III. kcs'!$J$3:$J$58,0)","v":25}]
[null,null,"IV.",null,{"$f":"IF(D208<6.19,0,VLOOKUP(D208,rfut,5,TRUE))","v":0},null,0,null,0,0,{"$f":"RANK(J208,'E. IV. kcs'!$J$3:$J$58,0)","v":25}]
[null,null,"IV.",null,0,null,0,null,0,0,{"$f":"RANK(J209,'E. IV. kcs'!$J$3:$J$58,0)","v":25}]
[]
[]
[null,null,null,null,null,null,null,null,null,null,null,{"$f":"RANK(L214,Csapat!$C$3:P200,0)","v":11}]
["Név","Sz.év","Kcs.","R. futás",null,"Távolugrás",null,"Klabdahajítás",null,"Összpont","Helyezés"]
[null,null,"I-II.",null,{"$f":"IF(D214<6.19,0,VLOOKUP(D214,rrfut,7,TRUE))","v":0},null,{"$f":"IF(F214<1.79,0,VLOOKUP(F214,távol,4,TRUE))","v":0},null,{"$f":"IF(H214<4,0,VLOOKUP(H214,kisl,2,TRUE))","v":0},{"$f":"SUM(E214,G214,I214)","v":0},{"$f":"RANK(J214,'E. II. kcs'!$J$3:$J$58,0)","v":24},{"$f":"SUM(J214:J219)","v":0}]
[null,null,"I-II.",null,{"$f":"IF(D215<6.19,0,VLOOKUP(D215,rrfut,7,TRUE))","v":0},null,0,null,0,{"$f":"SUM(E215,G215,I215)","v":0},{"$f":"RANK(J215,'E. II. kcs'!$J$3:$J$58,0)","v":24}]
[null,null,"III.",null,{"$f":"IF(D216<6.19,0,VLOOKUP(D216,rrfut,7,TRUE))","v":0},null,0,null,0,0,{"$f":"RANK(J216,'E. III. kcs'!$J$3:$J$58,0)","v":25}]
[null,null,"III.",null,{"$f":"IF(D217<6.19,0,VLOOKUP(D217,rrfut,7,TRUE))","v":0},null,0,null,0,0,{"$f":"RANK(J217,'E. III. kcs'!$J$3:$J$58,0)","v":25}]
[null,null,"IV.",null,{"$f":"IF(D218<6.19,0,VLOOKUP(D218,rfut,5,TRUE))","v":0},null,0,null,0,0,{"$f":"RANK(J218,'E. IV. kcs'!$J$3:$J$58,0)","v":25}]
[null,null,"IV.",null,0,null,0,null,0,0,{"$f":"RANK(J219,'E. IV. kcs'!$J$3:$J$58,0)","v":25}]
[]
[]
[null,null,null,null,null,null,null,null,null,null,null,{"$f":"RANK(L224,Csapat!$C$3:P210,0)","v":11}]
["Név","Sz.év","Kcs.","R. futás",null,"Távolugrás",null,"Klabdahajítás",null,"Összpont","Helyezés"]
[null,null,"I-II.",null,{"$f":"IF(D224<6.19,0,VLOOKUP(D224,rrfut,7,TRUE))","v":0},null,{"$f":"IF(F224<1.79,0,VLOOKUP(F224,távol,4,TRUE))","v":0},null,{"$f":"IF(H224<4,0,VLOOKUP(H224,kisl,2,TRUE))","v":0},{"$f":"SUM(E224,G224,I224)","v":0},{"$f":"RANK(J224,'E. II. kcs'!$J$3:$J$58,0)","v":24},{"$f":"SUM(J224:J229)","v":0}]
[null,null,"I-II.",null,{"$f":"IF(D225<6.19,0,VLOOKUP(D225,rrfut,7,TRUE))","v":0},null,0,null,0,{"$f":"SUM(E225,G225,I225)","v":0},{"$f":"RANK(J225,'E. II. kcs'!$J$3:$J$58,0)","v":24}]
[null,null,"III.",null,{"$f":"IF(D226<6.19,0,VLOOKUP(D226,rrfut,7,TRUE))","v":0},null,0,null,0,0,{"$f":"RANK(J226,'E. III. kcs'!$J$3:$J$58,0)","v":25}]
[null,null,"III.",null,{"$f":"IF(D227<6.19,0,VLOOKUP(D227,rrfut,7,TRUE))","v":0},null,0,null,0,0,{"$f":"RANK(J227,'E. III. kcs'!$J$3:$J$58,0)","v":25}]
[null,null,"IV.",null,{"$f":"IF(D228<6.19,0,VLOOKUP(D228,rfut,5,TRUE))","v":0},null,0,null,0,0,{"$f":"RANK(J228,'E. IV. kcs'!$J$3:$J$58,0)","v":25}]
[null,null,"IV.",null,0,null,0,null,0,0,{"$f":"RANK(J229,'E. IV. kcs'!$J$3:$J$58,0)","v":25}]
[]
[]
[null,null,null,null,null,null,null,null,null,null,null,{"$f":"RANK(L234,Csapat!$C$3:P220,0)","v":11}]
["Név","Sz.év","Kcs.","R. futás",null,"Távolugrás",null,"Klabdahajítás",null,"Összpont","Helyezés"]
[null,null,"I-II.",null,{"$f":"IF(D234<6.19,0,VLOOKUP(D234,rrfut,7,TRUE))","v":0},null,{"$f":"IF(F234<1.79,0,VLOOKUP(F234,távol,4,TRUE))","v":0},null,{"$f":"IF(H234<4,0,VLOOKUP(H234,kisl,2,TRUE))","v":0},{"$f":"SUM(E234,G234,I234)","v":0},{"$f":"RANK(J234,'E. II. kcs'!$J$3:$J$58,0)","v":24},{"$f":"SUM(J234:J239)","v":0}]
[null,null,"I-II.",null,{"$f":"IF(D235<6.19,0,VLOOKUP(D235,rrfut,7,TRUE))","v":0},null,0,null,0,{"$f":"SUM(E235,G235,I235)","v":0},{"$f":"RANK(J235,'E. II. kcs'!$J$3:$J$58,0)","v":24}]
[null,null,"III.",null,{"$f":"IF(D236<6.19,0,VLOOKUP(D236,rrfut,7,TRUE))","v":0},null,0,null,0,0,{"$f":"RANK(J236,'E. III. kcs'!$J$3:$J$58,0)","v":25}]
[null,null,"III.",null,{"$f":"IF(D237<6.19,0,VLOOKUP(D237,rrfut,7,TRUE))","v":0},null,0,null,0,0,{"$f":"RANK(J237,'E. III. kcs'!$J$3:$J$58,0)","v":25}]
[null,null,"IV.",null,{"$f":"IF(D238<6.19,0,VLOOKUP(D238,rfut,5,TRUE))","v":0},null,0,null,0,0,{"$f":"RANK(J238,'E. IV. kcs'!$J$3:$J$58,0)","v":25}]
[null,null,"IV.",null,0,null,0,null,0,0,{"$f":"RANK(J239,'E. IV. kcs'!$J$3:$J$58,0)","v":25}]
[]
[]
[null,null,null,null,null,null,null,null,null,null,null,{"$f":"RANK(L244,Csapat!$C$3:P230,0)","v":11}]
["Név","Sz.év","Kcs.","R. futás",null,"Távolugrás",null,"Klabdahajítás",null,"Összpont","Helyezés"]
[null,null,"I-II.",null,{"$f":"IF(D244<6.19,0,VLOOKUP(D244,rrfut,7,TRUE))","v":0},null,{"$f":"IF(F244<1.79,0,VLOOKUP(F244,távol,4,TRUE))","v":0},null,{"$f":"IF(H244<4,0,VLOOKUP(H244,kisl,2,TRUE))","v":0},{"$f":"SUM(E244,G244,I244)","v":0},{"$f":"RANK(J244,'E. II. kcs'!$J$3:$J$58,0)","v":24},{"$f":"SUM(J244:J249)","v":0}]
[null,null,"I-II.",null,{"$f":"IF(D245<6.19,0,VLOOKUP(D245,rrfut,7,TRUE))","v":0},null,0,null,0,{"$f":"SUM(E245,G245,I245)","v":0},{"$f":"RANK(J245,'E. II. kcs'!$J$3:$J$58,0)","v":24}]
[null,null,"III.",null,{"$f":"IF(D246<6.19,0,VLOOKUP(D246,rrfut,7,TRUE))","v":0},null,0,null,0,0,{"$f":"RANK(J246,'E. III. kcs'!$J$3:$J$58,0)","v":25}]
[null,null,"III.",null,{"$f":"IF(D247<6.19,0,VLOOKUP(D247,rrfut,7,TRUE))","v":0},null,0,null,0,0,{"$f":"RANK(J247,'E. III. kcs'!$J$3:$J$58,0)","v":25}]
[null,null,"IV.",null,{"$f":"IF(D248<6.19,0,VLOOKUP(D248,rfut,5,TRUE))","v":0},null,0,null,0,0,{"$f":"RANK(J248,'E. IV. kcs'!$J$3:$J$58,0)","v":25}]
[null,null,"IV.",null,0,null,0,null,0,0,{"$f":"RANK(J249,'E. IV. kcs'!$J$3:$J$58,0)","v":25}]
[]
[]
[null,null,null,null,null,null,null,null,null,null,null,{"$f":"RANK(L254,Csapat!$C$3:P240,0)","v":11}]
["Név","Sz.év","Kcs.","R. futás",null,"Távolugrás",null,"Klabdahajítás",null,"Összpont","Helyezés"]
[null,null,"I-II.",null,{"$f":"IF(D254<6.19,0,VLOOKUP(D254,rrfut,7,TRUE))","v":0},null,{"$f":"IF(F254<1.79,0,VLOOKUP(F254,távol,4,TRUE))","v":0},null,{"$f":"IF(H254<4,0,VLOOKUP(H254,kisl,2,TRUE))","v":0},{"$f":"SUM(E254,G254,I254)","v":0},{"$f":"RANK(J254,'E. II. kcs'!$J$3:$J$58,0)","v":24},{"$f":"SUM(J254:J259)","v":0}]
[null,null,"I-II.",null,{"$f":"IF(D255<6.19,0,VLOOKUP(D255,rrfut,7,TRUE))","v":0},null,0,null,0,{"$f":"SUM(E255,G255,I255)","v":0},{"$f":"RANK(J255,'E. II. kcs'!$J$3:$J$58,0)","v":24}]
[null,null,"III.",null,{"$f":"IF(D256<6.19,0,VLOOKUP(D256,rrfut,7,TRUE))","v":0},null,0,null,0,0,{"$f":"RANK(J256,'E. III. kcs'!$J$3:$J$58,0)","v":25}]
[null,null,"III.",null,{"$f":"IF(D257<6.19,0,VLOOKUP(D257,rrfut,7,TRUE))","v":0},null,0,null,0,0,{"$f":"RANK(J257,'E. III. kcs'!$J$3:$J$58,0)","v":25}]
[null,null,"IV.",null,{"$f":"IF(D258<6.19,0,VLOOKUP(D258,rfut,5,TRUE))","v":0},null,0,null,0,0,{"$f":"RANK(J258,'E. IV. kcs'!$J$3:$J$58,0)","v":25}]
[null,null,"IV.",null,0,null,0,null,0,0,{"$f":"RANK(J259,'E. IV. kcs'!$J$3:$J$58,0)","v":25}]

{"sheet":"Csapat","index":2,"n_rows":24,"n_cols":3,"rows_kept":24,"cut":false,"hidden":false,"merged":[[0,0,0,2]]}
["Kis iskolák FIÚ csapatverseny (Sorrendezés Ctrl + z )"]
["Ssz","Iskola","Pont"]
["1.",{"$f":"Be!$A$102&CHAR(10)&Be!$A$104&\"   \"&Be!$J$104&\"      \"&Be!$A$105&\"   \"&Be!$J$105&CHAR(10)&Be!$A$106&\"   \"&Be!$J$106&\"      \"&Be!$A$107&\"   \"&Be!$J$107&CHAR(10)&Be!$A$108&\"   \"&Be!$J$108&\"      \"&Be!$A$109&\"   \"&Be!$J$109","v":"Kakasd, Bonyhádi Általános Iskola\nFábián Bence   298      Horváth Benjamin   292\nMayer Máté   387      Moszbauer Balázs   386\nSzabó Barna   441      Sztehló Olivér   411"},{"$f":"Be!$L$104","v":2215}]
["2.",{"$f":"Be!$A$72&CHAR(10)&Be!$A$74&\"   \"&Be!$J$74&\"      \"&Be!$A$75&\"   \"&Be!$J$75&CHAR(10)&Be!$A$76&\"   \"&Be!$J$76&\"      \"&Be!$A$77&\"   \"&Be!$J$77&CHAR(10)&Be!$A$78&\"   \"&Be!$J$78&\"      \"&Be!$A$79&\"   \"&Be!$J$79","v":"Hőgyészi Hegyhát Általános Általános Iskola\nKovács Lajos   280      Tösmagi Tamás   211\nMáté Patrik   469      Mohácsi Zoltán   355\nOrsós Martin   418      Sasi Márkus   427"},{"$f":"Be!$L$74","v":2160}]
["3.",{"$f":"Be!$A$92&CHAR(10)&Be!$A$94&\"   \"&Be!$J$94&\"      \"&Be!$A$95&\"   \"&Be!$J$95&CHAR(10)&Be!$A$96&\"   \"&Be!$J$96&\"      \"&Be!$A$97&\"   \"&Be!$J$97&CHAR(10)&Be!$A$98&\"   \"&Be!$J$98&\"      \"&Be!$A$99&\"   \"&Be!$J$99","v":"Kurdi Körzeti Általános Iskola\nMarczi Mario Alex   243      Molnár Szabolcs József   287\nJanzsó Viktor   345      Kocsándi Martin Máté   310\nOrsós Nándor   440      Speigler Krisztofer János   516"},{"$f":"Be!$L$94","v":2141}]
["4.",{"$f":"Be!$A$42&CHAR(10)&Be!$A$44&\"   \"&Be!$J$44&\"      \"&Be!$A$45&\"   \"&Be!$J$45&CHAR(10)&Be!$A$46&\"   \"&Be!$J$46&\"      \"&Be!$A$47&\"   \"&Be!$J$47&CHAR(10)&Be!$A$48&\"   \"&Be!$J$48&\"      \"&Be!$A$49&\"   \"&Be!$J$49","v":"Őcsényi Perczel Mór Általános Iskola\nKövecses Ádám Noel   245      Lepp Balázs   249\nKránicz Balázs   406      Onoka Zsombor Patik   307\nFaragó Zoltán   479      Nagy Áron   364"},{"$f":"Be!$L$44","v":2050}]
["5.",{"$f":"Be!$A$112&CHAR(10)&Be!$A$114&\"   \"&Be!$J$114&\"      \"&Be!$A$115&\"   \"&Be!$J$115&CHAR(10)&Be!$A$116&\"   \"&Be!$J$116&\"      \"&Be!$A$117&\"   \"&Be!$J$117&CHAR(10)&Be!$A$118&\"   \"&Be!$J$118&\"      \"&Be!$A$119&\"   \"&Be!$J$119","v":"Pálfa, Simontornyai Vak Bottyán Általános Iskola és Gimnázium\nKaszanov Bálint   219      Kaszanov Bence   196\nBudai Norbert   378      Démuth Béla Kevin   477\nDeres Dávid   428      Kovács Péter   350"},{"$f":"Be!$L$114","v":2048}]
["6.",{"$f":"Be!$A$52&CHAR(10)&Be!$A$54&\"   \"&Be!$J$54&\"      \"&Be!$A$55&\"   \"&Be!$J$55&CHAR(10)&Be!$A$56&\"   \"&Be!$J$56&\"      \"&Be!$A$57&\"   \"&Be!$J$57&CHAR(10)&Be!$A$58&\"   \"&Be!$J$58&\"      \"&Be!$A$59&\"   \"&Be!$J$59","v":"Kölesdi Béri Balogh Ádám Általános Iskola\nAdonics Dorián Gergő   295      Vámosi Zoltán   306\nBarkóczi Imre Erik   310      Egyed János   370\nKoller Dominik   381      Sienkiewicz Attila Róbert   370"},{"$f":"Be!$L$54","v":2032}]
["7.",{"$f":"Be!$A$132&CHAR(10)&Be!$A$134&\"   \"&Be!$J$134&\"      \"&Be!$A$135&\"   \"&Be!$J$135&CHAR(10)&Be!$A$136&\"   \"&Be!$J$136&\"      \"&Be!$A$137&\"   \"&Be!$J$137&CHAR(10)&Be!$A$138&\"   \"&Be!$J$138&\"      \"&Be!$A$139&\"   \"&Be!$J$139","v":"Várdomb-Alsónána Általános Iskola\nHéger Bálint István   272      Loboda Dominik   262\nMajor Erik Krisztián   352      Török Balázs   408\nCsitkovics Milán Gábor   390      Nyíregyházi Csanád László   315"},{"$f":"Be!$L$134","v":1999}]
["8.",{"$f":"Be!$A$82&CHAR(10)&Be!$A$84&\"   \"&Be!$J$84&\"      \"&Be!$A$85&\"   \"&Be!$J$85&CHAR(10)&Be!$A$86&\"   \"&Be!$J$86&\"      \"&Be!$A$87&\"   \"&Be!$J$87&CHAR(10)&Be!$A$88&\"   \"&Be!$J$88&\"      \"&Be!$A$89&\"   \"&Be!$J$89","v":"Decsi Bíborvég Általános Iskola\nCsicsó Máté   286      Kalányos Dominik Dávid   220\nCsicsó Milán   306      Józsa Flórián   331\nAkay Márk   359      Baráth Brendon   484"},{"$f":"Be!$L$84","v":1986}]
["9.",{"$f":"Be!$A$62&CHAR(10)&Be!$A$64&\"   \"&Be!$J$64&\"      \"&Be!$A$65&\"   \"&Be!$J$65&CHAR(10)&Be!$A$66&\"   \"&Be!$J$66&\"      \"&Be!$A$67&\"   \"&Be!$J$67&CHAR(10)&Be!$A$68&\"   \"&Be!$J$68&\"      \"&Be!$A$69&\"   \"&Be!$J$69","v":"Kaposszekcsői Általános Iskola\nBalogh Gergő   283      Hideg Benett Vajk   187\nMegyeri Barna   331      Viszlavszki Bence   357\nAntal Bálint   429      Zsolnai Alex   359"},{"$f":"Be!$L$64","v":1946}]
["10.",{"$f":"Be!$A$122&CHAR(10)&Be!$A$124&\"   \"&Be!$J$124&\"      \"&Be!$A$125&\"   \"&Be!$J$125&CHAR(10)&Be!$A$126&\"   \"&Be!$J$126&\"      \"&Be!$A$127&\"   \"&Be!$J$127&CHAR(10)&Be!$A$128&\"   \"&Be!$J$128&\"      \"&Be!$A$129&\"   \"&Be!$J$129","v":"Teveli Általános Iskola\nFábián Levente   260      Kovács Roland   238\nNagy Norbert István   334      Torma Tamás Lajos   321\nLakatos Rudolf Krisztofer   350      Nagy Ármin   365"},{"$f":"Be!$L$124","v":1868}]
["11.",{"$f":"Be!$A$142&CHAR(10)&Be!$A$144&\"   \"&Be!$J$144&\"      \"&Be!$A$145&\"   \"&Be!$J$145&CHAR(10)&Be!$A$146&\"   \"&Be!$J$146&\"      \"&Be!$A$147&\"   \"&Be!$J$147&CHAR(10)&Be!$A$148&\"   \"&Be!$J$148&\"      \"&Be!$A$149&\"   \"&Be!$J$149","v":"\n   0         0\n   0         0\n   0         0"},{"$f":"Be!$L$144","v":0}]
["12.",{"$f":"Be!$A$152&CHAR(10)&Be!$A$154&\"   \"&Be!$J$154&\"      \"&Be!$A$155&\"   \"&Be!$J$155&CHAR(10)&Be!$A$156&\"   \"&Be!$J$156&\"      \"&Be!$A$157&\"   \"&Be!$J$157&CHAR(10)&Be!$A$158&\"   \"&Be!$J$158&\"      \"&Be!$A$159&\"   \"&Be!$J$159","v":"\n   0         0\n   0         0\n   0         0"},{"$f":"Be!$L$154","v":0}]
["13.",{"$f":"Be!$A$162&CHAR(10)&Be!$A$164&\"   \"&Be!$J$164&\"      \"&Be!$A$165&\"   \"&Be!$J$165&CHAR(10)&Be!$A$166&\"   \"&Be!$J$166&\"      \"&Be!$A$167&\"   \"&Be!$J$167&CHAR(10)&Be!$A$168&\"   \"&Be!$J$168&\"      \"&Be!$A$169&\"   \"&Be!$J$169","v":"\n   0         0\n   0         0\n   0         0"},{"$f":"Be!$L$164","v":0}]
["14.",{"$f":"Be!$A$172&CHAR(10)&Be!$A$174&\"   \"&Be!$J$174&\"      \"&Be!$A$175&\"   \"&Be!$J$175&CHAR(10)&Be!$A$176&\"   \"&Be!$J$176&\"      \"&Be!$A$177&\"   \"&Be!$J$177&CHAR(10)&Be!$A$178&\"   \"&Be!$J$178&\"      \"&Be!$A$179&\"   \"&Be!$J$179","v":"\n   0         0\n   0         0\n   0         0"},{"$f":"Be!$L$174","v":0}]
["15.",{"$f":"Be!$A$182&CHAR(10)&Be!$A$184&\"   \"&Be!$J$184&\"      \"&Be!$A$185&\"   \"&Be!$J$185&CHAR(10)&Be!$A$186&\"   \"&Be!$J$186&\"      \"&Be!$A$187&\"   \"&Be!$J$187&CHAR(10)&Be!$A$188&\"   \"&Be!$J$188&\"      \"&Be!$A$189&\"   \"&Be!$J$189","v":"\n   0         0\n   0         0\n   0         0"},{"$f":"Be!$L$184","v":0}]
["16.",{"$f":"Be!$A$192&CHAR(10)&Be!$A$194&\"   \"&Be!$J$194&\"      \"&Be!$A$195&\"   \"&Be!$J$195&CHAR(10)&Be!$A$196&\"   \"&Be!$J$196&\"      \"&Be!$A$197&\"   \"&Be!$J$197&CHAR(10)&Be!$A$198&\"   \"&Be!$J$198&\"      \"&Be!$A$199&\"   \"&Be!$J$199","v":"\n   0         0\n   0         0\n   0         0"},{"$f":"Be!$L$194","v":0}]
["17.",{"$f":"Be!$A$202&CHAR(10)&Be!$A$204&\"   \"&Be!$J$204&\"      \"&Be!$A$205&\"   \"&Be!$J$205&CHAR(10)&Be!$A$206&\"   \"&Be!$J$206&\"      \"&Be!$A$207&\"   \"&Be!$J$207&CHAR(10)&Be!$A$208&\"   \"&Be!$J$208&\"      \"&Be!$A$209&\"   \"&Be!$J$209","v":"\n   0         0\n   0         0\n   0         0"},{"$f":"Be!$L$204","v":0}]
["18.",{"$f":"Be!$A$212&CHAR(10)&Be!$A$214&\"   \"&Be!$J$214&\"      \"&Be!$A$215&\"   \"&Be!$J$215&CHAR(10)&Be!$A$216&\"   \"&Be!$J$216&\"      \"&Be!$A$217&\"   \"&Be!$J$217&CHAR(10)&Be!$A$218&\"   \"&Be!$J$218&\"      \"&Be!$A$219&\"   \"&Be!$J$219","v":"\n   0         0\n   0         0\n   0         0"},{"$f":"Be!$L$214","v":0}]
["19.",{"$f":"Be!$A$222&CHAR(10)&Be!$A$224&\"   \"&Be!$J$224&\"      \"&Be!$A$225&\"   \"&Be!$J$225&CHAR(10)&Be!$A$226&\"   \"&Be!$J$226&\"      \"&Be!$A$227&\"   \"&Be!$J$227&CHAR(10)&Be!$A$228&\"   \"&Be!$J$228&\"      \"&Be!$A$229&\"   \"&Be!$J$229","v":"\n   0         0\n   0         0\n   0         0"},{"$f":"Be!$L$224","v":0}]
["20.",{"$f":"Be!$A$232&CHAR(10)&Be!$A$234&\"   \"&Be!$J$234&\"      \"&Be!$A$235&\"   \"&Be!$J$235&CHAR(10)&Be!$A$236&\"   \"&Be!$J$236&\"      \"&Be!$A$237&\"   \"&Be!$J$237&CHAR(10)&Be!$A$238&\"   \"&Be!$J$238&\"      \"&Be!$A$239&\"   \"&Be!$J$239","v":"\n   0         0\n   0         0\n   0         0"},{"$f":"Be!$L$234","v":0}]
["21.",{"$f":"Be!$A$242&CHAR(10)&Be!$A$244&\"   \"&Be!$J$244&\"      \"&Be!$A$245&\"   \"&Be!$J$245&CHAR(10)&Be!$A$246&\"   \"&Be!$J$246&\"      \"&Be!$A$247&\"   \"&Be!$J$247&CHAR(10)&Be!$A$248&\"   \"&Be!$J$248&\"      \"&Be!$A$249&\"   \"&Be!$J$249","v":"\n   0         0\n   0         0\n   0         0"},{"$f":"Be!$L$244","v":0}]
["22.",{"$f":"Be!$A$252&CHAR(10)&Be!$A$254&\"   \"&Be!$J$254&\"      \"&Be!$A$255&\"   \"&Be!$J$255&CHAR(10)&Be!$A$256&\"   \"&Be!$J$256&\"      \"&Be!$A$257&\"   \"&Be!$J$257&CHAR(10)&Be!$A$258&\"   \"&Be!$J$258&\"      \"&Be!$A$259&\"   \"&Be!$J$259","v":"\n   0         0\n   0         0\n   0         0"},{"$f":"Be!$L$254","v":0}]

{"sheet":"E. II. kcs","index":3,"n_rows":156,"n_cols":12,"rows_kept":156,"cut":false,"hidden":false,"merged":[[0,0,0,11]]}
["Kis iskolák II. korcsoport FIÚ EGYÉNI végeredmény (Sorbarendezés Ctrl + t )"]
["Ssz","Név","Szév","100 m","p","Távol","p","Kisl","p","Összp",null,"Iskola"]
["1.",{"$f":"Be!A55","v":"Vámosi Zoltán"},{"$f":"Be!B55","v":2012},{"$f":"Be!D55","v":9.4},{"$f":"Be!E55","v":143},{"$f":"Be!F55","v":3.9},{"$f":"Be!G55","v":93},{"$f":"Be!H55","v":29},{"$f":"Be!I55","v":70},{"$f":"Be!J55","v":306},null,{"$f":"Be!A52","v":"Kölesdi Béri Balogh Ádám Általános Iskola"}]
["2.",{"$f":"Be!A104","v":"Fábián Bence"},{"$f":"Be!B104","v":2012},{"$f":"Be!D104","v":9.9},{"$f":"Be!E104","v":122},{"$f":"Be!F104","v":3.82},{"$f":"Be!G104","v":89},{"$f":"Be!H104","v":34.799999999999997},{"$f":"Be!I104","v":87},{"$f":"Be!J104","v":298},null,{"$f":"Be!A102","v":"Kakasd, Bonyhádi Általános Iskola"}]
["3.",{"$f":"Be!A54","v":"Adonics Dorián Gergő"},{"$f":"Be!B54","v":2012},{"$f":"Be!D54","v":9.9},{"$f":"Be!E54","v":122},{"$f":"Be!F54","v":3.83},{"$f":"Be!G54","v":90},{"$f":"Be!H54","v":33.6},{"$f":"Be!I54","v":83},{"$f":"Be!J54","v":295},null,{"$f":"Be!A52","v":"Kölesdi Béri Balogh Ádám Általános Iskola"}]
["4.",{"$f":"Be!A105","v":"Horváth Benjamin"},{"$f":"Be!B105","v":2012},{"$f":"Be!D105","v":9.3000000000000007},{"$f":"Be!E105","v":147},{"$f":"Be!F105","v":3.85},{"$f":"Be!G105","v":90},{"$f":"Be!H105","v":24.2},{"$f":"Be!I105","v":55},{"$f":"Be!J105","v":292},null,{"$f":"Be!A102","v":"Kakasd, Bonyhádi Általános Iskola"}]
["5.",{"$f":"Be!A95","v":"Molnár Szabolcs József"},{"$f":"Be!B95","v":2013},{"$f":"Be!D95","v":9.5},{"$f":"Be!E95","v":139},{"$f":"Be!F95","v":3.62},{"$f":"Be!G95","v":80},{"$f":"Be!H95","v":28.4},{"$f":"Be!I95","v":68},{"$f":"Be!J95","v":287},null,{"$f":"Be!A92","v":"Kurdi Körzeti Általános Iskola"}]
["6.",{"$f":"Be!A84","v":"Csicsó Máté"},{"$f":"Be!B84","v":2012},{"$f":"Be!D84","v":9.8000000000000007},{"$f":"Be!E84","v":126},{"$f":"Be!F84","v":3.86},{"$f":"Be!G84","v":91},{"$f":"Be!H84","v":28.6},{"$f":"Be!I84","v":69},{"$f":"Be!J84","v":286},null,{"$f":"Be!A82","v":"Decsi Bíborvég Általános Iskola"}]
["7.",{"$f":"Be!A64","v":"Balogh Gergő"},{"$f":"Be!B64","v":2013},{"$f":"Be!D64","v":9.5},{"$f":"Be!E64","v":139},{"$f":"Be!F64","v":3.64},{"$f":"Be!G64","v":81},{"$f":"Be!H64","v":26.9},{"$f":"Be!I64","v":63},{"$f":"Be!J64","v":283},null,{"$f":"Be!A62","v":"Kaposszekcsői Általános Iskola"}]
["8.",{"$f":"Be!A74","v":"Kovács Lajos"},{"$f":"Be!B74","v":2012},{"$f":"Be!D74","v":10},{"$f":"Be!E74","v":118},{"$f":"Be!F74","v":3.69},{"$f":"Be!G74","v":83},{"$f":"Be!H74","v":32.200000000000003},{"$f":"Be!I74","v":79},{"$f":"Be!J74","v":280},null,{"$f":"Be!A72","v":"Hőgyészi Hegyhát Általános Általános Iskola"}]
["9.",{"$f":"Be!A134","v":"Héger Bálint István"},{"$f":"Be!B134","v":2014},{"$f":"Be!D134","v":9.6999999999999993},{"$f":"Be!E134","v":131},{"$f":"Be!F134","v":3.73},{"$f":"Be!G134","v":85},{"$f":"Be!H134","v":24.45},{"$f":"Be!I134","v":56},{"$f":"Be!J134","v":272},null,{"$f":"Be!A132","v":"Várdomb-Alsónána Általános Iskola"}]
["10.",{"$f":"Be!A135","v":"Loboda Dominik"},{"$f":"Be!B135","v":2013},{"$f":"Be!D135","v":10.3},{"$f":"Be!E135","v":106},{"$f":"Be!F135","v":4.0199999999999996},{"$f":"Be!G135","v":98},{"$f":"Be!H135","v":25},{"$f":"Be!I135","v":58},{"$f":"Be!J135","v":262},null,{"$f":"Be!A132","v":"Várdomb-Alsónána Általános Iskola"}]
["11.",{"$f":"Be!A124","v":"Fábián Levente"},{"$f":"Be!B124","v":2013},{"$f":"Be!D124","v":10.3},{"$f":"Be!E124","v":106},{"$f":"Be!F124","v":3.32},{"$f":"Be!G124","v":66},{"$f":"Be!H124","v":34.950000000000003},{"$f":"Be!I124","v":88},{"$f":"Be!J124","v":260},null,{"$f":"Be!A122","v":"Teveli Általános Iskola"}]
["12.",{"$f":"Be!A45","v":"Lepp Balázs"},{"$f":"Be!B45","v":2012},{"$f":"Be!D45","v":9.9},{"$f":"Be!E45","v":122},{"$f":"Be!F45","v":3.32},{"$f":"Be!G45","v":66},{"$f":"Be!H45","v":26},{"$f":"Be!I45","v":61},{"$f":"Be!J45","v":249},null,{"$f":"Be!A42","v":"Őcsényi Perczel Mór Általános Iskola"}]
["13.",{"$f":"Be!A44","v":"Kövecses Ádám Noel"},{"$f":"Be!B44","v":2013},{"$f":"Be!D44","v":10.4},{"$f":"Be!E44","v":101},{"$f":"Be!F44","v":3.42},{"$f":"Be!G44","v":71},{"$f":"Be!H44","v":30},{"$f":"Be!I44","v":73},{"$f":"Be!J44","v":245},null,{"$f":"Be!A42","v":"Őcsényi Perczel Mór Általános Iskola"}]
["14.",{"$f":"Be!A94","v":"Marczi Mario Alex"},{"$f":"Be!B94","v":2013},{"$f":"Be!D94","v":10.9},{"$f":"Be!E94","v":82},{"$f":"Be!F94","v":3.85},{"$f":"Be!G94","v":90},{"$f":"Be!H94","v":29.35},{"$f":"Be!I94","v":71},{"$f":"Be!J94","v":243},null,{"$f":"Be!A92","v":"Kurdi Körzeti Általános Iskola"}]
["15.",{"$f":"Be!A125","v":"Kovács Roland"},{"$f":"Be!B125","v":2013},{"$f":"Be!D125","v":10.3},{"$f":"Be!E125","v":106},{"$f":"Be!F125","v":3.51},{"$f":"Be!G125","v":75},{"$f":"Be!H125","v":24.6},{"$f":"Be!I125","v":57},{"$f":"Be!J125","v":238},null,{"$f":"Be!A122","v":"Teveli Általános Iskola"}]
["16.",{"$f":"Be!A5","v":"Horváth Dániel"},{"$f":"Be!B5","v":2013},{"$f":"Be!D5","v":10.199999999999999},{"$f":"Be!E5","v":110},{"$f":"Be!F5","v":3.42},{"$f":"Be!G5","v":71},{"$f":"Be!H5","v":23.8},{"$f":"Be!I5","v":54},{"$f":"Be!J5","v":235},null,{"$f":"Be!L5","v":"Mórágy"}]
["17.",{"$f":"Be!A85","v":"Kalányos Dominik Dávid"},{"$f":"Be!B85","v":2012},{"$f":"Be!D85","v":10.6},{"$f":"Be!E85","v":94},{"$f":"Be!F85","v":3.22},{"$f":"Be!G85","v":61},{"$f":"Be!H85","v":27.3},{"$f":"Be!I85","v":65},{"$f":"Be!J85","v":220},null,{"$f":"Be!A82","v":"Decsi Bíborvég Általános Iskola"}]
["18.",{"$f":"Be!A114","v":"Kaszanov Bálint"},{"$f":"Be!B114","v":2013},{"$f":"Be!D114","v":10.5},{"$f":"Be!E114","v":97},{"$f":"Be!F114","v":3.24},{"$f":"Be!G114","v":62},{"$f":"Be!H114","v":25.9},{"$f":"Be!I114","v":60},{"$f":"Be!J114","v":219},null,{"$f":"Be!A112","v":"Pálfa, Simontornyai Vak Bottyán Általános Iskola és Gimnázium"}]
["19.",{"$f":"Be!A75","v":"Tösmagi Tamás"},{"$f":"Be!B75","v":2014},{"$f":"Be!D75","v":10.7},{"$f":"Be!E75","v":90},{"$f":"Be!F75","v":3.21},{"$f":"Be!G75","v":61},{"$f":"Be!H75","v":25.75},{"$f":"Be!I75","v":60},{"$f":"Be!J75","v":211},null,{"$f":"Be!A72","v":"Hőgyészi Hegyhát Általános Általános Iskola"}]
["20.",{"$f":"Be!A115","v":"Kaszanov Bence"},{"$f":"Be!B115","v":2013},{"$f":"Be!D115","v":10.7},{"$f":"Be!E115","v":90},{"$f":"Be!F115","v":3.4},{"$f":"Be!G115","v":70},{"$f":"Be!H115","v":17.399999999999999},{"$f":"Be!I115","v":36},{"$f":"Be!J115","v":196},null,{"$f":"Be!A112","v":"Pálfa, Simontornyai Vak Bottyán Általános Iskola és Gimnázium"}]
["21.",{"$f":"Be!A6","v":"Palkó Tamás László"},{"$f":"Be!B6","v":2014},{"$f":"Be!D6","v":10.4},{"$f":"Be!E6","v":101},{"$f":"Be!F6","v":2.95},{"$f":"Be!G6","v":49},{"$f":"Be!H6","v":20.8},{"$f":"Be!I6","v":46},{"$f":"Be!J6","v":196},null,{"$f":"Be!L6","v":"Mórágy"}]
["22.",{"$f":"Be!A65","v":"Hideg Benett Vajk"},{"$f":"Be!B65","v":2013},{"$f":"Be!D65","v":10.7},{"$f":"Be!E65","v":90},{"$f":"Be!F65","v":3},{"$f":"Be!G65","v":51},{"$f":"Be!H65","v":21},{"$f":"Be!I65","v":46},{"$f":"Be!J65","v":187},null,{"$f":"Be!A62","v":"Kaposszekcsői Általános Iskola"}]
["23.",{"$f":"Be!A4","v":"Balogh Péter Botond"},{"$f":"Be!B4","v":2015},{"$f":"Be!D4","v":10.9},{"$f":"Be!E4","v":82},{"$f":"Be!F4","v":2.4700000000000002},{"$f":"Be!G4","v":28},{"$f":"Be!H4","v":23.2},{"$f":"Be!I4","v":52},{"$f":"Be!J4","v":162},null,{"$f":"Be!L4","v":"Mórágy"}]
["24.",{"$f":"Be!A144","v":0},{"$f":"Be!B144","v":0},{"$f":"Be!D144","v":0},{"$f":"Be!E144","v":0},{"$f":"Be!F144","v":0},{"$f":"Be!G144","v":0},{"$f":"Be!H144","v":0},{"$f":"Be!I144","v":0},{"$f":"Be!J144","v":0},null,{"$f":"Be!A142","v":0}]
["25.",{"$f":"Be!A145","v":0},{"$f":"Be!B145","v":0},{"$f":"Be!D145","v":0},{"$f":"Be!E145","v":0},{"$f":"Be!F145","v":0},{"$f":"Be!G145","v":0},{"$f":"Be!H145","v":0},{"$f":"Be!I145","v":0},{"$f":"Be!J145","v":0},null,{"$f":"Be!A142","v":0}]
["26.",{"$f":"Be!A154","v":0},{"$f":"Be!B154","v":0},{"$f":"Be!D154","v":0},{"$f":"Be!E154","v":0},{"$f":"Be!F154","v":0},{"$f":"Be!G154","v":0},{"$f":"Be!H154","v":0},{"$f":"Be!I154","v":0},{"$f":"Be!J154","v":0},null,{"$f":"Be!A152","v":0}]
["27.",{"$f":"Be!A155","v":0},{"$f":"Be!B155","v":0},{"$f":"Be!D155","v":0},{"$f":"Be!E155","v":0},{"$f":"Be!F155","v":0},{"$f":"Be!G155","v":0},{"$f":"Be!H155","v":0},{"$f":"Be!I155","v":0},{"$f":"Be!J155","v":0},null,{"$f":"Be!A152","v":0}]
["28.",{"$f":"Be!A164","v":0},{"$f":"Be!B164","v":0},{"$f":"Be!D164","v":0},{"$f":"Be!E164","v":0},{"$f":"Be!F164","v":0},{"$f":"Be!G164","v":0},{"$f":"Be!H164","v":0},{"$f":"Be!I164","v":0},{"$f":"Be!J164","v":0},null,{"$f":"Be!A162","v":0}]
["29.",{"$f":"Be!A165","v":0},{"$f":"Be!B165","v":0},{"$f":"Be!D165","v":0},{"$f":"Be!E165","v":0},{"$f":"Be!F165","v":0},{"$f":"Be!G165","v":0},{"$f":"Be!H165","v":0},{"$f":"Be!I165","v":0},{"$f":"Be!J165","v":0},null,{"$f":"Be!A162","v":0}]
["30.",{"$f":"Be!A174","v":0},{"$f":"Be!B174","v":0},{"$f":"Be!D174","v":0},{"$f":"Be!E174","v":0},{"$f":"Be!F174","v":0},{"$f":"Be!G174","v":0},{"$f":"Be!H174","v":0},{"$f":"Be!I174","v":0},{"$f":"Be!J174","v":0},null,{"$f":"Be!A172","v":0}]
["31.",{"$f":"Be!A175","v":0},{"$f":"Be!B175","v":0},{"$f":"Be!D175","v":0},{"$f":"Be!E175","v":0},{"$f":"Be!F175","v":0},{"$f":"Be!G175","v":0},{"$f":"Be!H175","v":0},{"$f":"Be!I175","v":0},{"$f":"Be!J175","v":0},null,{"$f":"Be!A172","v":0}]
["32.",{"$f":"Be!A184","v":0},{"$f":"Be!B184","v":0},{"$f":"Be!D184","v":0},{"$f":"Be!E184","v":0},{"$f":"Be!F184","v":0},{"$f":"Be!G184","v":0},{"$f":"Be!H184","v":0},{"$f":"Be!I184","v":0},{"$f":"Be!J184","v":0},null,{"$f":"Be!A182","v":0}]
["33.",{"$f":"Be!A185","v":0},{"$f":"Be!B185","v":0},{"$f":"Be!D185","v":0},{"$f":"Be!E185","v":0},{"$f":"Be!F185","v":0},{"$f":"Be!G185","v":0},{"$f":"Be!H185","v":0},{"$f":"Be!I185","v":0},{"$f":"Be!J185","v":0},null,{"$f":"Be!A182","v":0}]
["34.",{"$f":"Be!A194","v":0},{"$f":"Be!B194","v":0},{"$f":"Be!D194","v":0},{"$f":"Be!E194","v":0},{"$f":"Be!F194","v":0},{"$f":"Be!G194","v":0},{"$f":"Be!H194","v":0},{"$f":"Be!I194","v":0},{"$f":"Be!J194","v":0},null,{"$f":"Be!A192","v":0}]
["35.",{"$f":"Be!A195","v":0},{"$f":"Be!B195","v":0},{"$f":"Be!D195","v":0},{"$f":"Be!E195","v":0},{"$f":"Be!F195","v":0},{"$f":"Be!G195","v":0},{"$f":"Be!H195","v":0},{"$f":"Be!I195","v":0},{"$f":"Be!J195","v":0},null,{"$f":"Be!A192","v":0}]
["36.",{"$f":"Be!A204","v":0},{"$f":"Be!B204","v":0},{"$f":"Be!D204","v":0},{"$f":"Be!E204","v":0},{"$f":"Be!F204","v":0},{"$f":"Be!G204","v":0},{"$f":"Be!H204","v":0},{"$f":"Be!I204","v":0},{"$f":"Be!J204","v":0},null,{"$f":"Be!A202","v":0}]
["37.",{"$f":"Be!A205","v":0},{"$f":"Be!B205","v":0},{"$f":"Be!D205","v":0},{"$f":"Be!E205","v":0},{"$f":"Be!F205","v":0},{"$f":"Be!G205","v":0},{"$f":"Be!H205","v":0},{"$f":"Be!I205","v":0},{"$f":"Be!J205","v":0},null,{"$f":"Be!A202","v":0}]
["38.",{"$f":"Be!A214","v":0},{"$f":"Be!B214","v":0},{"$f":"Be!D214","v":0},{"$f":"Be!E214","v":0},{"$f":"Be!F214","v":0},{"$f":"Be!G214","v":0},{"$f":"Be!H214","v":0},{"$f":"Be!I214","v":0},{"$f":"Be!J214","v":0},null,{"$f":"Be!A212","v":0}]
["39.",{"$f":"Be!A215","v":0},{"$f":"Be!B215","v":0},{"$f":"Be!D215","v":0},{"$f":"Be!E215","v":0},{"$f":"Be!F215","v":0},{"$f":"Be!G215","v":0},{"$f":"Be!H215","v":0},{"$f":"Be!I215","v":0},{"$f":"Be!J215","v":0},null,{"$f":"Be!A212","v":0}]
["40.",{"$f":"Be!A224","v":0},{"$f":"Be!B224","v":0},{"$f":"Be!D224","v":0},{"$f":"Be!E224","v":0},{"$f":"Be!F224","v":0},{"$f":"Be!G224","v":0},{"$f":"Be!H224","v":0},{"$f":"Be!I224","v":0},{"$f":"Be!J224","v":0},null,{"$f":"Be!A222","v":0}]
["41.",{"$f":"Be!A225","v":0},{"$f":"Be!B225","v":0},{"$f":"Be!D225","v":0},{"$f":"Be!E225","v":0},{"$f":"Be!F225","v":0},{"$f":"Be!G225","v":0},{"$f":"Be!H225","v":0},{"$f":"Be!I225","v":0},{"$f":"Be!J225","v":0},null,{"$f":"Be!A222","v":0}]
["42.",{"$f":"Be!A234","v":0},{"$f":"Be!B234","v":0},{"$f":"Be!D234","v":0},{"$f":"Be!E234","v":0},{"$f":"Be!F234","v":0},{"$f":"Be!G234","v":0},{"$f":"Be!H234","v":0},{"$f":"Be!I234","v":0},{"$f":"Be!J234","v":0},null,{"$f":"Be!A232","v":0}]
["43.",{"$f":"Be!A235","v":0},{"$f":"Be!B235","v":0},{"$f":"Be!D235","v":0},{"$f":"Be!E235","v":0},{"$f":"Be!F235","v":0},{"$f":"Be!G235","v":0},{"$f":"Be!H235","v":0},{"$f":"Be!I235","v":0},{"$f":"Be!J235","v":0},null,{"$f":"Be!A232","v":0}]
["44.",{"$f":"Be!A244","v":0},{"$f":"Be!B244","v":0},{"$f":"Be!D244","v":0},{"$f":"Be!E244","v":0},{"$f":"Be!F244","v":0},{"$f":"Be!G244","v":0},{"$f":"Be!H244","v":0},{"$f":"Be!I244","v":0},{"$f":"Be!J244","v":0},null,{"$f":"Be!A242","v":0}]
["45.",{"$f":"Be!A245","v":0},{"$f":"Be!B245","v":0},{"$f":"Be!D245","v":0},{"$f":"Be!E245","v":0},{"$f":"Be!F245","v":0},{"$f":"Be!G245","v":0},{"$f":"Be!H245","v":0},{"$f":"Be!I245","v":0},{"$f":"Be!J245","v":0},null,{"$f":"Be!A242","v":0}]
["46.",{"$f":"Be!A254","v":0},{"$f":"Be!B254","v":0},{"$f":"Be!D254","v":0},{"$f":"Be!E254","v":0},{"$f":"Be!F254","v":0},{"$f":"Be!G254","v":0},{"$f":"Be!H254","v":0},{"$f":"Be!I254","v":0},{"$f":"Be!J254","v":0},null,{"$f":"Be!A252","v":0}]
["47.",{"$f":"Be!A255","v":0},{"$f":"Be!B255","v":0},{"$f":"Be!D255","v":0},{"$f":"Be!E255","v":0},{"$f":"Be!F255","v":0},{"$f":"Be!G255","v":0},{"$f":"Be!H255","v":0},{"$f":"Be!I255","v":0},{"$f":"Be!J255","v":0},null,{"$f":"Be!A252","v":0}]
["48.",{"$f":"Be!A7","v":0},{"$f":"Be!B7","v":0},{"$f":"Be!D7","v":0},{"$f":"Be!E7","v":0},{"$f":"Be!F7","v":0},{"$f":"Be!G7","v":0},{"$f":"Be!H7","v":0},{"$f":"Be!I7","v":0},{"$f":"Be!J7","v":0},null,{"$f":"Be!L7","v":0}]
["49.",{"$f":"Be!A8","v":0},{"$f":"Be!B8","v":0},{"$f":"Be!D8","v":0},{"$f":"Be!E8","v":0},{"$f":"Be!F8","v":0},{"$f":"Be!G8","v":0},{"$f":"Be!H8","v":0},{"$f":"Be!I8","v":0},{"$f":"Be!J8","v":0},null,{"$f":"Be!L8","v":0}]
["50.",{"$f":"Be!A9","v":0},{"$f":"Be!B9","v":0},{"$f":"Be!D9","v":0},{"$f":"Be!E9","v":0},{"$f":"Be!F9","v":0},{"$f":"Be!G9","v":0},{"$f":"Be!H9","v":0},{"$f":"Be!I9","v":0},{"$f":"Be!J9","v":0},null,{"$f":"Be!L9","v":0}]
["51.",{"$f":"Be!A10","v":0},{"$f":"Be!B10","v":0},{"$f":"Be!D10","v":0},{"$f":"Be!E10","v":0},{"$f":"Be!F10","v":0},{"$f":"Be!G10","v":0},{"$f":"Be!H10","v":0},{"$f":"Be!I10","v":0},{"$f":"Be!J10","v":0},null,{"$f":"Be!L10","v":0}]
["52.",{"$f":"Be!A11","v":0},{"$f":"Be!B11","v":0},{"$f":"Be!D11","v":0},{"$f":"Be!E11","v":0},{"$f":"Be!F11","v":0},{"$f":"Be!G11","v":0},{"$f":"Be!H11","v":0},{"$f":"Be!I11","v":0},{"$f":"Be!J11","v":0},null,{"$f":"Be!L11","v":0}]
["53.",{"$f":"Be!A12","v":0},{"$f":"Be!B12","v":0},{"$f":"Be!D12","v":0},{"$f":"Be!E12","v":0},{"$f":"Be!F12","v":0},{"$f":"Be!G12","v":0},{"$f":"Be!H12","v":0},{"$f":"Be!I12","v":0},{"$f":"Be!J12","v":0},null,{"$f":"Be!L12","v":0}]
["54.",{"$f":"Be!A13","v":0},{"$f":"Be!B13","v":0},{"$f":"Be!D13","v":0},{"$f":"Be!E13","v":0},{"$f":"Be!F13","v":0},{"$f":"Be!G13","v":0},{"$f":"Be!H13","v":0},{"$f":"Be!I13","v":0},{"$f":"Be!J13","v":0},null,{"$f":"Be!L13","v":0}]
["55.",{"$f":"Be!A14","v":0},{"$f":"Be!B14","v":0},{"$f":"Be!D14","v":0},{"$f":"Be!E14","v":0},{"$f":"Be!F14","v":0},{"$f":"Be!G14","v":0},{"$f":"Be!H14","v":0},{"$f":"Be!I14","v":0},{"$f":"Be!J14","v":0},null,{"$f":"Be!L14","v":0}]
["56.",{"$f":"Be!A15","v":0},{"$f":"Be!B15","v":0},{"$f":"Be!D15","v":0},{"$f":"Be!E15","v":0},{"$f":"Be!F15","v":0},{"$f":"Be!G15","v":0},{"$f":"Be!H15","v":0},{"$f":"Be!I15","v":0},{"$f":"Be!J15","v":0},null,{"$f":"Be!L15","v":0}]
[]
[]
[]
[]
[]
[]
[]
[]
[]
[]
[]
[]
[]
[]
[]
[]
[]
[]
[]
[]
[]
[]
[]
[]
[]
[]
[]
[]
[]
[]
[]
[]
[]
[]
[]
[]
[]
[]
[]
[]
[]
[]
[]
[]
[]
[]
[]
[]
[]
[]
[]
[]
[]
[]
[]
[]
[]
[]
[]
[]
[]
[]
[]
[]
[]
[]
[]
[]
[]
[]
[]
[]
[]
[]
[]
[]
["133."]
["134."]
["135."]
["136."]
["137."]
["138."]
["139."]
["140."]
["141."]
["142."]
["143."]
["144."]
["145."]
["146."]
["147."]
["148."]
["149."]
["150."]
["151."]
["152."]
["153."]
["154."]

{"sheet":"E. III. kcs","index":4,"n_rows":58,"n_cols":12,"rows_kept":58,"cut":false,"hidden":false,"merged":[[0,0,0,11]]}
["Kis iskolák III. korcsoport FIÚ EGYÉNI végeredmény (Sorbarendezés Ctrl + f )"]
["Ssz","Név","Szév","100 m","p","Távol","p","Kisl","p","Összp",null,"Iskola"]
["1.",{"$f":"Be!A117","v":"Démuth Béla Kevin"},{"$f":"Be!B117","v":2010},{"$f":"Be!D117","v":8.4},{"$f":"Be!E117","v":189},{"$f":"Be!F117","v":5.01},{"$f":"Be!G117","v":149},{"$f":"Be!H117","v":50.9},{"$f":"Be!I117","v":139},{"$f":"Be!J117","v":477},null,{"$f":"Be!A112","v":"Pálfa, Simontornyai Vak Bottyán Általános Iskola és Gimnázium"}]
["2.",{"$f":"Be!A76","v":"Máté Patrik"},{"$f":"Be!B76","v":2011},{"$f":"Be!D76","v":8.1},{"$f":"Be!E76","v":203},{"$f":"Be!F76","v":4.97},{"$f":"Be!G76","v":147},{"$f":"Be!H76","v":45},{"$f":"Be!I76","v":119},{"$f":"Be!J76","v":469},null,{"$f":"Be!A72","v":"Hőgyészi Hegyhát Általános Általános Iskola"}]
["3.",{"$f":"Be!A137","v":"Török Balázs"},{"$f":"Be!B137","v":2010},{"$f":"Be!D137","v":8.6999999999999993},{"$f":"Be!E137","v":175},{"$f":"Be!F137","v":4.84},{"$f":"Be!G137","v":140},{"$f":"Be!H137","v":36.75},{"$f":"Be!I137","v":93},{"$f":"Be!J137","v":408},null,{"$f":"Be!A132","v":"Várdomb-Alsónána Általános Iskola"}]
["4.",{"$f":"Be!A46","v":"Kránicz Balázs"},{"$f":"Be!B46","v":2010},{"$f":"Be!D46","v":8.6},{"$f":"Be!E46","v":179},{"$f":"Be!F46","v":4.21},{"$f":"Be!G46","v":108},{"$f":"Be!H46","v":45},{"$f":"Be!I46","v":119},{"$f":"Be!J46","v":406},null,{"$f":"Be!A42","v":"Őcsényi Perczel Mór Általános Iskola"}]
["5.",{"$f":"Be!A106","v":"Mayer Máté"},{"$f":"Be!B106","v":2010},{"$f":"Be!D106","v":9},{"$f":"Be!E106","v":161},{"$f":"Be!F106","v":4.34},{"$f":"Be!G106","v":115},{"$f":"Be!H106","v":42.3},{"$f":"Be!I106","v":111},{"$f":"Be!J106","v":387},null,{"$f":"Be!A102","v":"Kakasd, Bonyhádi Általános Iskola"}]
["6.",{"$f":"Be!A107","v":"Moszbauer Balázs"},{"$f":"Be!B107","v":2010},{"$f":"Be!D107","v":8.9},{"$f":"Be!E107","v":165},{"$f":"Be!F107","v":4.41},{"$f":"Be!G107","v":118},{"$f":"Be!H107","v":40.15},{"$f":"Be!I107","v":103},{"$f":"Be!J107","v":386},null,{"$f":"Be!A102","v":"Kakasd, Bonyhádi Általános Iskola"}]
["7.",{"$f":"Be!A116","v":"Budai Norbert"},{"$f":"Be!B116","v":2010},{"$f":"Be!D116","v":8.9},{"$f":"Be!E116","v":165},{"$f":"Be!F116","v":4},{"$f":"Be!G116","v":97},{"$f":"Be!H116","v":44.1},{"$f":"Be!I116","v":116},{"$f":"Be!J116","v":378},null,{"$f":"Be!A112","v":"Pálfa, Simontornyai Vak Bottyán Általános Iskola és Gimnázium"}]
["8.",{"$f":"Be!A57","v":"Egyed János"},{"$f":"Be!B57","v":2010},{"$f":"Be!D57","v":9.1999999999999993},{"$f":"Be!E57","v":152},{"$f":"Be!F57","v":4.2},{"$f":"Be!G57","v":107},{"$f":"Be!H57","v":42.3},{"$f":"Be!I57","v":111},{"$f":"Be!J57","v":370},null,{"$f":"Be!A52","v":"Kölesdi Béri Balogh Ádám Általános Iskola"}]
["9.",{"$f":"Be!A67","v":"Viszlavszki Bence"},{"$f":"Be!B67","v":2011},{"$f":"Be!D67","v":9.1999999999999993},{"$f":"Be!E67","v":152},{"$f":"Be!F67","v":4.2300000000000004},{"$f":"Be!G67","v":109},{"$f":"Be!H67","v":37.700000000000003},{"$f":"Be!I67","v":96},{"$f":"Be!J67","v":357},null,{"$f":"Be!A62","v":"Kaposszekcsői Általános Iskola"}]
["10.",{"$f":"Be!A77","v":"Mohácsi Zoltán"},{"$f":"Be!B77","v":2010},{"$f":"Be!D77","v":9.1999999999999993},{"$f":"Be!E77","v":152},{"$f":"Be!F77","v":4.3099999999999996},{"$f":"Be!G77","v":113},{"$f":"Be!H77","v":35.75},{"$f":"Be!I77","v":90},{"$f":"Be!J77","v":355},null,{"$f":"Be!A72","v":"Hőgyészi Hegyhát Általános Általános Iskola"}]
["11.",{"$f":"Be!A136","v":"Major Erik Krisztián"},{"$f":"Be!B136","v":2010},{"$f":"Be!D136","v":8.9},{"$f":"Be!E136","v":165},{"$f":"Be!F136","v":4.0199999999999996},{"$f":"Be!G136","v":98},{"$f":"Be!H136","v":35.299999999999997},{"$f":"Be!I136","v":89},{"$f":"Be!J136","v":352},null,{"$f":"Be!A132","v":"Várdomb-Alsónána Általános Iskola"}]
["12.",{"$f":"Be!A96","v":"Janzsó Viktor"},{"$f":"Be!B96","v":2010},{"$f":"Be!D96","v":9.5},{"$f":"Be!E96","v":139},{"$f":"Be!F96","v":4.38},{"$f":"Be!G96","v":117},{"$f":"Be!H96","v":35.549999999999997},{"$f":"Be!I96","v":89},{"$f":"Be!J96","v":345},null,{"$f":"Be!A92","v":"Kurdi Körzeti Általános Iskola"}]
["13.",{"$f":"Be!A126","v":"Nagy Norbert István"},{"$f":"Be!B126","v":2010},{"$f":"Be!D126","v":9.5},{"$f":"Be!E126","v":139},{"$f":"Be!F126","v":3.79},{"$f":"Be!G126","v":88},{"$f":"Be!H126","v":41.2},{"$f":"Be!I126","v":107},{"$f":"Be!J126","v":334},null,{"$f":"Be!A122","v":"Teveli Általános Iskola"}]
["14.",{"$f":"Be!A66","v":"Megyeri Barna"},{"$f":"Be!B66","v":2011},{"$f":"Be!D66","v":9.6999999999999993},{"$f":"Be!E66","v":131},{"$f":"Be!F66","v":4.7},{"$f":"Be!G66","v":133},{"$f":"Be!H66","v":28},{"$f":"Be!I66","v":67},{"$f":"Be!J66","v":331},null,{"$f":"Be!A62","v":"Kaposszekcsői Általános Iskola"}]
["15.",{"$f":"Be!A87","v":"Józsa Flórián"},{"$f":"Be!B87","v":2011},{"$f":"Be!D87","v":9.5},{"$f":"Be!E87","v":139},{"$f":"Be!F87","v":4.0199999999999996},{"$f":"Be!G87","v":98},{"$f":"Be!H87","v":37.1},{"$f":"Be!I87","v":94},{"$f":"Be!J87","v":331},null,{"$f":"Be!A82","v":"Decsi Bíborvég Általános Iskola"}]
["16.",{"$f":"Be!A19","v":"Palkó András József"},{"$f":"Be!B19","v":2011},{"$f":"Be!D19","v":9},{"$f":"Be!E19","v":161},{"$f":"Be!F19","v":3.81},{"$f":"Be!G19","v":89},{"$f":"Be!H19","v":31.9},{"$f":"Be!I19","v":78},{"$f":"Be!J19","v":328},null,{"$f":"Be!L19","v":"Mórágy"}]
["17.",{"$f":"Be!A127","v":"Torma Tamás Lajos"},{"$f":"Be!B127","v":2010},{"$f":"Be!D127","v":9.8000000000000007},{"$f":"Be!E127","v":126},{"$f":"Be!F127","v":4.0199999999999996},{"$f":"Be!G127","v":98},{"$f":"Be!H127","v":38.049999999999997},{"$f":"Be!I127","v":97},{"$f":"Be!J127","v":321},null,{"$f":"Be!A122","v":"Teveli Általános Iskola"}]
["18.",{"$f":"Be!A56","v":"Barkóczi Imre Erik"},{"$f":"Be!B56","v":2011},{"$f":"Be!D56","v":9.8000000000000007},{"$f":"Be!E56","v":126},{"$f":"Be!F56","v":3.81},{"$f":"Be!G56","v":89},{"$f":"Be!H56","v":37.6},{"$f":"Be!I56","v":95},{"$f":"Be!J56","v":310},null,{"$f":"Be!A52","v":"Kölesdi Béri Balogh Ádám Általános Iskola"}]
["19.",{"$f":"Be!A97","v":"Kocsándi Martin Máté"},{"$f":"Be!B97","v":2010},{"$f":"Be!D97","v":9.5},{"$f":"Be!E97","v":139},{"$f":"Be!F97","v":3.62},{"$f":"Be!G97","v":80},{"$f":"Be!H97","v":36.049999999999997},{"$f":"Be!I97","v":91},{"$f":"Be!J97","v":310},null,{"$f":"Be!A92","v":"Kurdi Körzeti Általános Iskola"}]
["20.",{"$f":"Be!A17","v":"Franek Bene"},{"$f":"Be!B17","v":2010},{"$f":"Be!D17","v":9.5},{"$f":"Be!E17","v":139},{"$f":"Be!F17","v":4.21},{"$f":"Be!G17","v":108},{"$f":"Be!H17","v":26},{"$f":"Be!I17","v":61},{"$f":"Be!J17","v":308},null,{"$f":"Be!L17","v":"Mórágy"}]
["21.",{"$f":"Be!A47","v":"Onoka Zsombor Patik"},{"$f":"Be!B47","v":2011},{"$f":"Be!D47","v":9.1999999999999993},{"$f":"Be!E47","v":152},{"$f":"Be!F47","v":3.74},{"$f":"Be!G47","v":85},{"$f":"Be!H47","v":29.05},{"$f":"Be!I47","v":70},{"$f":"Be!J47","v":307},null,{"$f":"Be!A42","v":"Őcsényi Perczel Mór Általános Iskola"}]
["22.",{"$f":"Be!A86","v":"Csicsó Milán"},{"$f":"Be!B86","v":2011},{"$f":"Be!D86","v":9.6},{"$f":"Be!E86","v":135},{"$f":"Be!F86","v":4.1100000000000003},{"$f":"Be!G86","v":103},{"$f":"Be!H86","v":28.35},{"$f":"Be!I86","v":68},{"$f":"Be!J86","v":306},null,{"$f":"Be!A82","v":"Decsi Bíborvég Általános Iskola"}]
["23.",{"$f":"Be!A18","v":"Franek Botond"},{"$f":"Be!B18","v":2010},{"$f":"Be!D18","v":9.5},{"$f":"Be!E18","v":139},{"$f":"Be!F18","v":3.71},{"$f":"Be!G18","v":84},{"$f":"Be!H18","v":29.1},{"$f":"Be!I18","v":70},{"$f":"Be!J18","v":293},null,{"$f":"Be!L18","v":"Mórágy"}]
["24.",{"$f":"Be!A16","v":"Bíró Sándor"},{"$f":"Be!B16","v":2010},{"$f":"Be!D16","v":11.7},{"$f":"Be!E16","v":52},{"$f":"Be!F16","v":2.92},{"$f":"Be!G16","v":48},{"$f":"Be!H16","v":29.6},{"$f":"Be!I16","v":72},{"$f":"Be!J16","v":172},null,{"$f":"Be!L16","v":"Mórágy"}]
["25.",{"$f":"Be!A256","v":0},{"$f":"Be!B256","v":0},{"$f":"Be!D256","v":0},{"$f":"Be!E256","v":0},{"$f":"Be!F256","v":0},{"$f":"Be!G256","v":0},{"$f":"Be!H256","v":0},{"$f":"Be!I256","v":0},{"$f":"Be!J256","v":0},null,{"$f":"Be!A252","v":0}]
["26.",{"$f":"Be!A257","v":0},{"$f":"Be!B257","v":0},{"$f":"Be!D257","v":0},{"$f":"Be!E257","v":0},{"$f":"Be!F257","v":0},{"$f":"Be!G257","v":0},{"$f":"Be!H257","v":0},{"$f":"Be!I257","v":0},{"$f":"Be!J257","v":0},null,{"$f":"Be!A252","v":0}]
["27.",{"$f":"Be!A146","v":0},{"$f":"Be!B146","v":0},{"$f":"Be!D146","v":0},{"$f":"Be!E146","v":0},{"$f":"Be!F146","v":0},{"$f":"Be!G146","v":0},{"$f":"Be!H146","v":0},{"$f":"Be!I146","v":0},{"$f":"Be!J146","v":0},null,{"$f":"Be!A142","v":0}]
["28.",{"$f":"Be!A147","v":0},{"$f":"Be!B147","v":0},{"$f":"Be!D147","v":0},{"$f":"Be!E147","v":0},{"$f":"Be!F147","v":0},{"$f":"Be!G147","v":0},{"$f":"Be!H147","v":0},{"$f":"Be!I147","v":0},{"$f":"Be!J147","v":0},null,{"$f":"Be!A142","v":0}]
["29.",{"$f":"Be!A156","v":0},{"$f":"Be!B156","v":0},{"$f":"Be!D156","v":0},{"$f":"Be!E156","v":0},{"$f":"Be!F156","v":0},{"$f":"Be!G156","v":0},{"$f":"Be!H156","v":0},{"$f":"Be!I156","v":0},{"$f":"Be!J156","v":0},null,{"$f":"Be!A152","v":0}]
["30.",{"$f":"Be!A157","v":0},{"$f":"Be!B157","v":0},{"$f":"Be!D157","v":0},{"$f":"Be!E157","v":0},{"$f":"Be!F157","v":0},{"$f":"Be!G157","v":0},{"$f":"Be!H157","v":0},{"$f":"Be!I157","v":0},{"$f":"Be!J157","v":0},null,{"$f":"Be!A152","v":0}]
["31.",{"$f":"Be!A166","v":0},{"$f":"Be!B166","v":0},{"$f":"Be!D166","v":0},{"$f":"Be!E166","v":0},{"$f":"Be!F166","v":0},{"$f":"Be!G166","v":0},{"$f":"Be!H166","v":0},{"$f":"Be!I166","v":0},{"$f":"Be!J166","v":0},null,{"$f":"Be!A162","v":0}]
["32.",{"$f":"Be!A167","v":0},{"$f":"Be!B167","v":0},{"$f":"Be!D167","v":0},{"$f":"Be!E167","v":0},{"$f":"Be!F167","v":0},{"$f":"Be!G167","v":0},{"$f":"Be!H167","v":0},{"$f":"Be!I167","v":0},{"$f":"Be!J167","v":0},null,{"$f":"Be!A162","v":0}]
["33.",{"$f":"Be!A176","v":0},{"$f":"Be!B176","v":0},{"$f":"Be!D176","v":0},{"$f":"Be!E176","v":0},{"$f":"Be!F176","v":0},{"$f":"Be!G176","v":0},{"$f":"Be!H176","v":0},{"$f":"Be!I176","v":0},{"$f":"Be!J176","v":0},null,{"$f":"Be!A172","v":0}]
["34.",{"$f":"Be!A177","v":0},{"$f":"Be!B177","v":0},{"$f":"Be!D177","v":0},{"$f":"Be!E177","v":0},{"$f":"Be!F177","v":0},{"$f":"Be!G177","v":0},{"$f":"Be!H177","v":0},{"$f":"Be!I177","v":0},{"$f":"Be!J177","v":0},null,{"$f":"Be!A172","v":0}]
["35.",{"$f":"Be!A186","v":0},{"$f":"Be!B186","v":0},{"$f":"Be!D186","v":0},{"$f":"Be!E186","v":0},{"$f":"Be!F186","v":0},{"$f":"Be!G186","v":0},{"$f":"Be!H186","v":0},{"$f":"Be!I186","v":0},{"$f":"Be!J186","v":0},null,{"$f":"Be!A182","v":0}]
["36.",{"$f":"Be!A187","v":0},{"$f":"Be!B187","v":0},{"$f":"Be!D187","v":0},{"$f":"Be!E187","v":0},{"$f":"Be!F187","v":0},{"$f":"Be!G187","v":0},{"$f":"Be!H187","v":0},{"$f":"Be!I187","v":0},{"$f":"Be!J187","v":0},null,{"$f":"Be!A182","v":0}]
["37.",{"$f":"Be!A196","v":0},{"$f":"Be!B196","v":0},{"$f":"Be!D196","v":0},{"$f":"Be!E196","v":0},{"$f":"Be!F196","v":0},{"$f":"Be!G196","v":0},{"$f":"Be!H196","v":0},{"$f":"Be!I196","v":0},{"$f":"Be!J196","v":0},null,{"$f":"Be!A192","v":0}]
["38.",{"$f":"Be!A197","v":0},{"$f":"Be!B197","v":0},{"$f":"Be!D197","v":0},{"$f":"Be!E197","v":0},{"$f":"Be!F197","v":0},{"$f":"Be!G197","v":0},{"$f":"Be!H197","v":0},{"$f":"Be!I197","v":0},{"$f":"Be!J197","v":0},null,{"$f":"Be!A192","v":0}]
["39.",{"$f":"Be!A206","v":0},{"$f":"Be!B206","v":0},{"$f":"Be!D206","v":0},{"$f":"Be!E206","v":0},{"$f":"Be!F206","v":0},{"$f":"Be!G206","v":0},{"$f":"Be!H206","v":0},{"$f":"Be!I206","v":0},{"$f":"Be!J206","v":0},null,{"$f":"Be!A202","v":0}]
["40.",{"$f":"Be!A207","v":0},{"$f":"Be!B207","v":0},{"$f":"Be!D207","v":0},{"$f":"Be!E207","v":0},{"$f":"Be!F207","v":0},{"$f":"Be!G207","v":0},{"$f":"Be!H207","v":0},{"$f":"Be!I207","v":0},{"$f":"Be!J207","v":0},null,{"$f":"Be!A202","v":0}]
["41.",{"$f":"Be!A216","v":0},{"$f":"Be!B216","v":0},{"$f":"Be!D216","v":0},{"$f":"Be!E216","v":0},{"$f":"Be!F216","v":0},{"$f":"Be!G216","v":0},{"$f":"Be!H216","v":0},{"$f":"Be!I216","v":0},{"$f":"Be!J216","v":0},null,{"$f":"Be!A212","v":0}]
["42.",{"$f":"Be!A217","v":0},{"$f":"Be!B217","v":0},{"$f":"Be!D217","v":0},{"$f":"Be!E217","v":0},{"$f":"Be!F217","v":0},{"$f":"Be!G217","v":0},{"$f":"Be!H217","v":0},{"$f":"Be!I217","v":0},{"$f":"Be!J217","v":0},null,{"$f":"Be!A212","v":0}]
["43.",{"$f":"Be!A226","v":0},{"$f":"Be!B226","v":0},{"$f":"Be!D226","v":0},{"$f":"Be!E226","v":0},{"$f":"Be!F226","v":0},{"$f":"Be!G226","v":0},{"$f":"Be!H226","v":0},{"$f":"Be!I226","v":0},{"$f":"Be!J226","v":0},null,{"$f":"Be!A222","v":0}]
["44.",{"$f":"Be!A227","v":0},{"$f":"Be!B227","v":0},{"$f":"Be!D227","v":0},{"$f":"Be!E227","v":0},{"$f":"Be!F227","v":0},{"$f":"Be!G227","v":0},{"$f":"Be!H227","v":0},{"$f":"Be!I227","v":0},{"$f":"Be!J227","v":0},null,{"$f":"Be!A222","v":0}]
["45.",{"$f":"Be!A236","v":0},{"$f":"Be!B236","v":0},{"$f":"Be!D236","v":0},{"$f":"Be!E236","v":0},{"$f":"Be!F236","v":0},{"$f":"Be!G236","v":0},{"$f":"Be!H236","v":0},{"$f":"Be!I236","v":0},{"$f":"Be!J236","v":0},null,{"$f":"Be!A232","v":0}]
["46.",{"$f":"Be!A237","v":0},{"$f":"Be!B237","v":0},{"$f":"Be!D237","v":0},{"$f":"Be!E237","v":0},{"$f":"Be!F237","v":0},{"$f":"Be!G237","v":0},{"$f":"Be!H237","v":0},{"$f":"Be!I237","v":0},{"$f":"Be!J237","v":0},null,{"$f":"Be!A232","v":0}]
["47.",{"$f":"Be!A246","v":0},{"$f":"Be!B246","v":0},{"$f":"Be!D246","v":0},{"$f":"Be!E246","v":0},{"$f":"Be!F246","v":0},{"$f":"Be!G246","v":0},{"$f":"Be!H246","v":0},{"$f":"Be!I246","v":0},{"$f":"Be!J246","v":0},null,{"$f":"Be!A242","v":0}]
["48.",{"$f":"Be!A247","v":0},{"$f":"Be!B247","v":0},{"$f":"Be!D247","v":0},{"$f":"Be!E247","v":0},{"$f":"Be!F247","v":0},{"$f":"Be!G247","v":0},{"$f":"Be!H247","v":0},{"$f":"Be!I247","v":0},{"$f":"Be!J247","v":0},null,{"$f":"Be!A242","v":0}]
["49.",{"$f":"Be!A20","v":0},{"$f":"Be!B20","v":0},{"$f":"Be!D20","v":0},{"$f":"Be!E20","v":0},{"$f":"Be!F20","v":0},{"$f":"Be!G20","v":0},{"$f":"Be!H20","v":0},{"$f":"Be!I20","v":0},{"$f":"Be!J20","v":0},null,{"$f":"Be!L20","v":0}]
["50.",{"$f":"Be!A21","v":0},{"$f":"Be!B21","v":0},{"$f":"Be!D21","v":0},{"$f":"Be!E21","v":0},{"$f":"Be!F21","v":0},{"$f":"Be!G21","v":0},{"$f":"Be!H21","v":0},{"$f":"Be!I21","v":0},{"$f":"Be!J21","v":0},null,{"$f":"Be!L21","v":0}]
["51.",{"$f":"Be!A22","v":0},{"$f":"Be!B22","v":0},{"$f":"Be!D22","v":0},{"$f":"Be!E22","v":0},{"$f":"Be!F22","v":0},{"$f":"Be!G22","v":0},{"$f":"Be!H22","v":0},{"$f":"Be!I22","v":0},{"$f":"Be!J22","v":0},null,{"$f":"Be!L22","v":0}]
["52.",{"$f":"Be!A23","v":0},{"$f":"Be!B23","v":0},{"$f":"Be!D23","v":0},{"$f":"Be!E23","v":0},{"$f":"Be!F23","v":0},{"$f":"Be!G23","v":0},{"$f":"Be!H23","v":0},{"$f":"Be!I23","v":0},{"$f":"Be!J23","v":0},null,{"$f":"Be!L23","v":0}]
["53.",{"$f":"Be!A24","v":0},{"$f":"Be!B24","v":0},{"$f":"Be!D24","v":0},{"$f":"Be!E24","v":0},{"$f":"Be!F24","v":0},{"$f":"Be!G24","v":0},{"$f":"Be!H24","v":0},{"$f":"Be!I24","v":0},{"$f":"Be!J24","v":0},null,{"$f":"Be!L24","v":0}]
["54.",{"$f":"Be!A25","v":0},{"$f":"Be!B25","v":0},{"$f":"Be!D25","v":0},{"$f":"Be!E25","v":0},{"$f":"Be!F25","v":0},{"$f":"Be!G25","v":0},{"$f":"Be!H25","v":0},{"$f":"Be!I25","v":0},{"$f":"Be!J25","v":0},null,{"$f":"Be!L25","v":0}]
["55.",{"$f":"Be!A26","v":0},{"$f":"Be!B26","v":0},{"$f":"Be!D26","v":0},{"$f":"Be!E26","v":0},{"$f":"Be!F26","v":0},{"$f":"Be!G26","v":0},{"$f":"Be!H26","v":0},{"$f":"Be!I26","v":0},{"$f":"Be!J26","v":0},null,{"$f":"Be!L26","v":0}]
["56.",{"$f":"Be!A27","v":0},{"$f":"Be!B27","v":0},{"$f":"Be!D27","v":0},{"$f":"Be!E27","v":0},{"$f":"Be!F27","v":0},{"$f":"Be!G27","v":0},{"$f":"Be!H27","v":0},{"$f":"Be!I27","v":0},{"$f":"Be!J27","v":0},null,{"$f":"Be!L27","v":0}]

{"sheet":"E. IV. kcs","index":5,"n_rows":58,"n_cols":12,"rows_kept":58,"cut":false,"hidden":false,"merged":[[0,0,0,11]]}
["Kis iskolák IV. korcsoport Fiú EGYÉNI végeredmény (Sorbarendezés Ctrl + g )"]
["Ssz","Név","Szév","100 m","p","Távol","p","Kisl","p","Összp",null,"Iskola"]
["1.",{"$f":"Be!A99","v":"Speigler Krisztofer János"},{"$f":"Be!B99","v":2008},{"$f":"Be!D99","v":13.3},{"$f":"Be!E99","v":169},{"$f":"Be!F99","v":5.44},{"$f":"Be!G99","v":173},{"$f":"Be!H99","v":60.9},{"$f":"Be!I99","v":174},{"$f":"Be!J99","v":516},null,{"$f":"Be!A92","v":"Kurdi Körzeti Általános Iskola"}]
["2.",{"$f":"Be!A89","v":"Baráth Brendon"},{"$f":"Be!B89","v":2008},{"$f":"Be!D89","v":13.3},{"$f":"Be!E89","v":169},{"$f":"Be!F89","v":5.5},{"$f":"Be!G89","v":176},{"$f":"Be!H89","v":50.95},{"$f":"Be!I89","v":139},{"$f":"Be!J89","v":484},null,{"$f":"Be!A82","v":"Decsi Bíborvég Általános Iskola"}]
["3.",{"$f":"Be!A48","v":"Faragó Zoltán"},{"$f":"Be!B48","v":2008},{"$f":"Be!D48","v":12.7},{"$f":"Be!E48","v":191},{"$f":"Be!F48","v":5.41},{"$f":"Be!G48","v":171},{"$f":"Be!H48","v":44.3},{"$f":"Be!I48","v":117},{"$f":"Be!J48","v":479},null,{"$f":"Be!A42","v":"Őcsényi Perczel Mór Általános Iskola"}]
["4.",{"$f":"Be!A108","v":"Szabó Barna"},{"$f":"Be!B108","v":2008},{"$f":"Be!D108","v":12.9},{"$f":"Be!E108","v":184},{"$f":"Be!F108","v":5.01},{"$f":"Be!G108","v":149},{"$f":"Be!H108","v":41.4},{"$f":"Be!I108","v":108},{"$f":"Be!J108","v":441},null,{"$f":"Be!A102","v":"Kakasd, Bonyhádi Általános Iskola"}]
["5.",{"$f":"Be!A98","v":"Orsós Nándor"},{"$f":"Be!B98","v":2008},{"$f":"Be!D98","v":13.2},{"$f":"Be!E98","v":173},{"$f":"Be!F98","v":5.1100000000000003},{"$f":"Be!G98","v":154},{"$f":"Be!H98","v":42.95},{"$f":"Be!I98","v":113},{"$f":"Be!J98","v":440},null,{"$f":"Be!A92","v":"Kurdi Körzeti Általános Iskola"}]
["6.",{"$f":"Be!A68","v":"Antal Bálint"},{"$f":"Be!B68","v":2008},{"$f":"Be!D68","v":12.9},{"$f":"Be!E68","v":184},{"$f":"Be!F68","v":4.97},{"$f":"Be!G68","v":147},{"$f":"Be!H68","v":38.299999999999997},{"$f":"Be!I68","v":98},{"$f":"Be!J68","v":429},null,{"$f":"Be!A62","v":"Kaposszekcsői Általános Iskola"}]
["7.",{"$f":"Be!A118","v":"Deres Dávid"},{"$f":"Be!B118","v":2008},{"$f":"Be!D118","v":14.4},{"$f":"Be!E118","v":132},{"$f":"Be!F118","v":5.04},{"$f":"Be!G118","v":150},{"$f":"Be!H118","v":53},{"$f":"Be!I118","v":146},{"$f":"Be!J118","v":428},null,{"$f":"Be!A112","v":"Pálfa, Simontornyai Vak Bottyán Általános Iskola és Gimnázium"}]
["8.",{"$f":"Be!A79","v":"Sasi Márkus"},{"$f":"Be!B79","v":2009},{"$f":"Be!D79","v":13.1},{"$f":"Be!E79","v":176},{"$f":"Be!F79","v":4.87},{"$f":"Be!G79","v":142},{"$f":"Be!H79","v":41.85},{"$f":"Be!I79","v":109},{"$f":"Be!J79","v":427},null,{"$f":"Be!A72","v":"Hőgyészi Hegyhát Általános Általános Iskola"}]
["9.",{"$f":"Be!A78","v":"Orsós Martin"},{"$f":"Be!B78","v":2008},{"$f":"Be!D78","v":13.2},{"$f":"Be!E78","v":173},{"$f":"Be!F78","v":4.95},{"$f":"Be!G78","v":146},{"$f":"Be!H78","v":38.65},{"$f":"Be!I78","v":99},{"$f":"Be!J78","v":418},null,{"$f":"Be!A72","v":"Hőgyészi Hegyhát Általános Általános Iskola"}]
["10.",{"$f":"Be!A109","v":"Sztehló Olivér"},{"$f":"Be!B109","v":2008},{"$f":"Be!D109","v":13.2},{"$f":"Be!E109","v":173},{"$f":"Be!F109","v":4.7},{"$f":"Be!G109","v":133},{"$f":"Be!H109","v":40.700000000000003},{"$f":"Be!I109","v":105},{"$f":"Be!J109","v":411},null,{"$f":"Be!A102","v":"Kakasd, Bonyhádi Általános Iskola"}]
["11.",{"$f":"Be!A138","v":"Csitkovics Milán Gábor"},{"$f":"Be!B138","v":2009},{"$f":"Be!D138","v":14.2},{"$f":"Be!E138","v":138},{"$f":"Be!F138","v":4.45},{"$f":"Be!G138","v":120},{"$f":"Be!H138","v":48.7},{"$f":"Be!I138","v":132},{"$f":"Be!J138","v":390},null,{"$f":"Be!A132","v":"Várdomb-Alsónána Általános Iskola"}]
["12.",{"$f":"Be!A58","v":"Koller Dominik"},{"$f":"Be!B58","v":2009},{"$f":"Be!D58","v":13.7},{"$f":"Be!E58","v":155},{"$f":"Be!F58","v":4.5999999999999996},{"$f":"Be!G58","v":128},{"$f":"Be!H58","v":38.6},{"$f":"Be!I58","v":98},{"$f":"Be!J58","v":381},null,{"$f":"Be!A52","v":"Kölesdi Béri Balogh Ádám Általános Iskola"}]
["13.",{"$f":"Be!A59","v":"Sienkiewicz Attila Róbert"},{"$f":"Be!B59","v":2008},{"$f":"Be!D59","v":13.4},{"$f":"Be!E59","v":166},{"$f":"Be!F59","v":4.55},{"$f":"Be!G59","v":125},{"$f":"Be!H59","v":32.1},{"$f":"Be!I59","v":79},{"$f":"Be!J59","v":370},null,{"$f":"Be!A52","v":"Kölesdi Béri Balogh Ádám Általános Iskola"}]
["14.",{"$f":"Be!A29","v":"Pató Bálint"},{"$f":"Be!B29","v":2008},{"$f":"Be!D29","v":14.6},{"$f":"Be!E29","v":126},{"$f":"Be!F29","v":4.38},{"$f":"Be!G29","v":117},{"$f":"Be!H29","v":46.8},{"$f":"Be!I29","v":125},{"$f":"Be!J29","v":368},null,{"$f":"Be!L29","v":"Kölesd"}]
["15.",{"$f":"Be!A129","v":"Nagy Ármin"},{"$f":"Be!B129","v":2008},{"$f":"Be!D129","v":14.1},{"$f":"Be!E129","v":142},{"$f":"Be!F129","v":4.28},{"$f":"Be!G129","v":111},{"$f":"Be!H129","v":42.9},{"$f":"Be!I129","v":112},{"$f":"Be!J129","v":365},null,{"$f":"Be!A122","v":"Teveli Általános Iskola"}]
["16.",{"$f":"Be!A49","v":"Nagy Áron"},{"$f":"Be!B49","v":2008},{"$f":"Be!D49","v":14.2},{"$f":"Be!E49","v":138},{"$f":"Be!F49","v":4.68},{"$f":"Be!G49","v":132},{"$f":"Be!H49","v":37.1},{"$f":"Be!I49","v":94},{"$f":"Be!J49","v":364},null,{"$f":"Be!A42","v":"Őcsényi Perczel Mór Általános Iskola"}]
["17.",{"$f":"Be!A69","v":"Zsolnai Alex"},{"$f":"Be!B69","v":2008},{"$f":"Be!D69","v":14.3},{"$f":"Be!E69","v":135},{"$f":"Be!F69","v":4.29},{"$f":"Be!G69","v":112},{"$f":"Be!H69","v":42.7},{"$f":"Be!I69","v":112},{"$f":"Be!J69","v":359},null,{"$f":"Be!A62","v":"Kaposszekcsői Általános Iskola"}]
["18.",{"$f":"Be!A88","v":"Akay Márk"},{"$f":"Be!B88","v":2009},{"$f":"Be!D88","v":13.6},{"$f":"Be!E88","v":159},{"$f":"Be!F88","v":4.24},{"$f":"Be!G88","v":109},{"$f":"Be!H88","v":36},{"$f":"Be!I88","v":91},{"$f":"Be!J88","v":359},null,{"$f":"Be!A82","v":"Decsi Bíborvég Általános Iskola"}]
["19.",{"$f":"Be!A30","v":"Tóth József"},{"$f":"Be!B30","v":2008},{"$f":"Be!D30","v":14.8},{"$f":"Be!E30","v":119},{"$f":"Be!F30","v":4.62},{"$f":"Be!G30","v":129},{"$f":"Be!H30","v":40.6},{"$f":"Be!I30","v":105},{"$f":"Be!J30","v":353},null,{"$f":"Be!L30","v":"Mórágy"}]
["20.",{"$f":"Be!A119","v":"Kovács Péter"},{"$f":"Be!B119","v":2008},{"$f":"Be!D119","v":15.4},{"$f":"Be!E119","v":100},{"$f":"Be!F119","v":4.8099999999999996},{"$f":"Be!G119","v":139},{"$f":"Be!H119","v":42.5},{"$f":"Be!I119","v":111},{"$f":"Be!J119","v":350},null,{"$f":"Be!A112","v":"Pálfa, Simontornyai Vak Bottyán Általános Iskola és Gimnázium"}]
["21.",{"$f":"Be!A128","v":"Lakatos Rudolf Krisztofer"},{"$f":"Be!B128","v":2009},{"$f":"Be!D128","v":13.9},{"$f":"Be!E128","v":148},{"$f":"Be!F128","v":4.24},{"$f":"Be!G128","v":109},{"$f":"Be!H128","v":36.9},{"$f":"Be!I128","v":93},{"$f":"Be!J128","v":350},null,{"$f":"Be!A122","v":"Teveli Általános Iskola"}]
["22.",{"$f":"Be!A31","v":"Kis Miron"},{"$f":"Be!B31","v":2008},{"$f":"Be!D31","v":14.4},{"$f":"Be!E31","v":132},{"$f":"Be!F31","v":4.24},{"$f":"Be!G31","v":109},{"$f":"Be!H31","v":36.5},{"$f":"Be!I31","v":92},{"$f":"Be!J31","v":333},null,{"$f":"Be!L31","v":"Mórágy"}]
["23.",{"$f":"Be!A28","v":"Palkó Nimród"},{"$f":"Be!B28","v":2009},{"$f":"Be!D28","v":14.8},{"$f":"Be!E28","v":119},{"$f":"Be!F28","v":4.0999999999999996},{"$f":"Be!G28","v":102},{"$f":"Be!H28","v":39.1},{"$f":"Be!I28","v":100},{"$f":"Be!J28","v":321},null,{"$f":"Be!L28","v":"Kakasd"}]
["24.",{"$f":"Be!A139","v":"Nyíregyházi Csanád László"},{"$f":"Be!B139","v":2008},{"$f":"Be!D139","v":15.8},{"$f":"Be!E139","v":88},{"$f":"Be!F139","v":4.04},{"$f":"Be!G139","v":99},{"$f":"Be!H139","v":47.5},{"$f":"Be!I139","v":128},{"$f":"Be!J139","v":315},null,{"$f":"Be!A132","v":"Várdomb-Alsónána Általános Iskola"}]
["25.",{"$f":"Be!A258","v":0},{"$f":"Be!B258","v":0},{"$f":"Be!D258","v":0},{"$f":"Be!E258","v":0},{"$f":"Be!F258","v":0},{"$f":"Be!G258","v":0},{"$f":"Be!H258","v":0},{"$f":"Be!I258","v":0},{"$f":"Be!J258","v":0},null,{"$f":"Be!A252","v":0}]
["26.",{"$f":"Be!A259","v":0},{"$f":"Be!B259","v":0},{"$f":"Be!D259","v":0},{"$f":"Be!E259","v":0},{"$f":"Be!F259","v":0},{"$f":"Be!G259","v":0},{"$f":"Be!H259","v":0},{"$f":"Be!I259","v":0},{"$f":"Be!J259","v":0},null,{"$f":"Be!A252","v":0}]
["27.",{"$f":"Be!A148","v":0},{"$f":"Be!B148","v":0},{"$f":"Be!D148","v":0},{"$f":"Be!E148","v":0},{"$f":"Be!F148","v":0},{"$f":"Be!G148","v":0},{"$f":"Be!H148","v":0},{"$f":"Be!I148","v":0},{"$f":"Be!J148","v":0},null,{"$f":"Be!A142","v":0}]
["28.",{"$f":"Be!A149","v":0},{"$f":"Be!B149","v":0},{"$f":"Be!D149","v":0},{"$f":"Be!E149","v":0},{"$f":"Be!F149","v":0},{"$f":"Be!G149","v":0},{"$f":"Be!H149","v":0},{"$f":"Be!I149","v":0},{"$f":"Be!J149","v":0},null,{"$f":"Be!A142","v":0}]
["29.",{"$f":"Be!A158","v":0},{"$f":"Be!B158","v":0},{"$f":"Be!D158","v":0},{"$f":"Be!E158","v":0},{"$f":"Be!F158","v":0},{"$f":"Be!G158","v":0},{"$f":"Be!H158","v":0},{"$f":"Be!I158","v":0},{"$f":"Be!J158","v":0},null,{"$f":"Be!A152","v":0}]
["30.",{"$f":"Be!A159","v":0},{"$f":"Be!B159","v":0},{"$f":"Be!D159","v":0},{"$f":"Be!E159","v":0},{"$f":"Be!F159","v":0},{"$f":"Be!G159","v":0},{"$f":"Be!H159","v":0},{"$f":"Be!I159","v":0},{"$f":"Be!J159","v":0},null,{"$f":"Be!A152","v":0}]
["31.",{"$f":"Be!A168","v":0},{"$f":"Be!B168","v":0},{"$f":"Be!D168","v":0},{"$f":"Be!E168","v":0},{"$f":"Be!F168","v":0},{"$f":"Be!G168","v":0},{"$f":"Be!H168","v":0},{"$f":"Be!I168","v":0},{"$f":"Be!J168","v":0},null,{"$f":"Be!A162","v":0}]
["32.",{"$f":"Be!A169","v":0},{"$f":"Be!B169","v":0},{"$f":"Be!D169","v":0},{"$f":"Be!E169","v":0},{"$f":"Be!F169","v":0},{"$f":"Be!G169","v":0},{"$f":"Be!H169","v":0},{"$f":"Be!I169","v":0},{"$f":"Be!J169","v":0},null,{"$f":"Be!A162","v":0}]
["33.",{"$f":"Be!A178","v":0},{"$f":"Be!B178","v":0},{"$f":"Be!D178","v":0},{"$f":"Be!E178","v":0},{"$f":"Be!F178","v":0},{"$f":"Be!G178","v":0},{"$f":"Be!H178","v":0},{"$f":"Be!I178","v":0},{"$f":"Be!J178","v":0},null,{"$f":"Be!A172","v":0}]
["34.",{"$f":"Be!A179","v":0},{"$f":"Be!B179","v":0},{"$f":"Be!D179","v":0},{"$f":"Be!E179","v":0},{"$f":"Be!F179","v":0},{"$f":"Be!G179","v":0},{"$f":"Be!H179","v":0},{"$f":"Be!I179","v":0},{"$f":"Be!J179","v":0},null,{"$f":"Be!A172","v":0}]
["35.",{"$f":"Be!A188","v":0},{"$f":"Be!B188","v":0},{"$f":"Be!D188","v":0},{"$f":"Be!E188","v":0},{"$f":"Be!F188","v":0},{"$f":"Be!G188","v":0},{"$f":"Be!H188","v":0},{"$f":"Be!I188","v":0},{"$f":"Be!J188","v":0},null,{"$f":"Be!A182","v":0}]
["36.",{"$f":"Be!A189","v":0},{"$f":"Be!B189","v":0},{"$f":"Be!D189","v":0},{"$f":"Be!E189","v":0},{"$f":"Be!F189","v":0},{"$f":"Be!G189","v":0},{"$f":"Be!H189","v":0},{"$f":"Be!I189","v":0},{"$f":"Be!J189","v":0},null,{"$f":"Be!A182","v":0}]
["37.",{"$f":"Be!A198","v":0},{"$f":"Be!B198","v":0},{"$f":"Be!D198","v":0},{"$f":"Be!E198","v":0},{"$f":"Be!F198","v":0},{"$f":"Be!G198","v":0},{"$f":"Be!H198","v":0},{"$f":"Be!I198","v":0},{"$f":"Be!J198","v":0},null,{"$f":"Be!A192","v":0}]
["38.",{"$f":"Be!A199","v":0},{"$f":"Be!B199","v":0},{"$f":"Be!D199","v":0},{"$f":"Be!E199","v":0},{"$f":"Be!F199","v":0},{"$f":"Be!G199","v":0},{"$f":"Be!H199","v":0},{"$f":"Be!I199","v":0},{"$f":"Be!J199","v":0},null,{"$f":"Be!A192","v":0}]
["39.",{"$f":"Be!A208","v":0},{"$f":"Be!B208","v":0},{"$f":"Be!D208","v":0},{"$f":"Be!E208","v":0},{"$f":"Be!F208","v":0},{"$f":"Be!G208","v":0},{"$f":"Be!H208","v":0},{"$f":"Be!I208","v":0},{"$f":"Be!J208","v":0},null,{"$f":"Be!A202","v":0}]
["40.",{"$f":"Be!A209","v":0},{"$f":"Be!B209","v":0},{"$f":"Be!D209","v":0},{"$f":"Be!E209","v":0},{"$f":"Be!F209","v":0},{"$f":"Be!G209","v":0},{"$f":"Be!H209","v":0},{"$f":"Be!I209","v":0},{"$f":"Be!J209","v":0},null,{"$f":"Be!A202","v":0}]
["41.",{"$f":"Be!A218","v":0},{"$f":"Be!B218","v":0},{"$f":"Be!D218","v":0},{"$f":"Be!E218","v":0},{"$f":"Be!F218","v":0},{"$f":"Be!G218","v":0},{"$f":"Be!H218","v":0},{"$f":"Be!I218","v":0},{"$f":"Be!J218","v":0},null,{"$f":"Be!A212","v":0}]
["42.",{"$f":"Be!A219","v":0},{"$f":"Be!B219","v":0},{"$f":"Be!D219","v":0},{"$f":"Be!E219","v":0},{"$f":"Be!F219","v":0},{"$f":"Be!G219","v":0},{"$f":"Be!H219","v":0},{"$f":"Be!I219","v":0},{"$f":"Be!J219","v":0},null,{"$f":"Be!A212","v":0}]
["43.",{"$f":"Be!A228","v":0},{"$f":"Be!B228","v":0},{"$f":"Be!D228","v":0},{"$f":"Be!E228","v":0},{"$f":"Be!F228","v":0},{"$f":"Be!G228","v":0},{"$f":"Be!H228","v":0},{"$f":"Be!I228","v":0},{"$f":"Be!J228","v":0},null,{"$f":"Be!A222","v":0}]
["44.",{"$f":"Be!A229","v":0},{"$f":"Be!B229","v":0},{"$f":"Be!D229","v":0},{"$f":"Be!E229","v":0},{"$f":"Be!F229","v":0},{"$f":"Be!G229","v":0},{"$f":"Be!H229","v":0},{"$f":"Be!I229","v":0},{"$f":"Be!J229","v":0},null,{"$f":"Be!A222","v":0}]
["45.",{"$f":"Be!A238","v":0},{"$f":"Be!B238","v":0},{"$f":"Be!D238","v":0},{"$f":"Be!E238","v":0},{"$f":"Be!F238","v":0},{"$f":"Be!G238","v":0},{"$f":"Be!H238","v":0},{"$f":"Be!I238","v":0},{"$f":"Be!J238","v":0},null,{"$f":"Be!A232","v":0}]
["46.",{"$f":"Be!A239","v":0},{"$f":"Be!B239","v":0},{"$f":"Be!D239","v":0},{"$f":"Be!E239","v":0},{"$f":"Be!F239","v":0},{"$f":"Be!G239","v":0},{"$f":"Be!H239","v":0},{"$f":"Be!I239","v":0},{"$f":"Be!J239","v":0},null,{"$f":"Be!A232","v":0}]
["47.",{"$f":"Be!A248","v":0},{"$f":"Be!B248","v":0},{"$f":"Be!D248","v":0},{"$f":"Be!E248","v":0},{"$f":"Be!F248","v":0},{"$f":"Be!G248","v":0},{"$f":"Be!H248","v":0},{"$f":"Be!I248","v":0},{"$f":"Be!J248","v":0},null,{"$f":"Be!A242","v":0}]
["48.",{"$f":"Be!A249","v":0},{"$f":"Be!B249","v":0},{"$f":"Be!D249","v":0},{"$f":"Be!E249","v":0},{"$f":"Be!F249","v":0},{"$f":"Be!G249","v":0},{"$f":"Be!H249","v":0},{"$f":"Be!I249","v":0},{"$f":"Be!J249","v":0},null,{"$f":"Be!A242","v":0}]
["49.",{"$f":"Be!A32","v":0},{"$f":"Be!B32","v":0},{"$f":"Be!D32","v":0},{"$f":"Be!E32","v":0},{"$f":"Be!F32","v":0},{"$f":"Be!G32","v":0},{"$f":"Be!H32","v":0},{"$f":"Be!I32","v":0},{"$f":"Be!J32","v":0},null,{"$f":"Be!L32","v":0}]
["50.",{"$f":"Be!A33","v":0},{"$f":"Be!B33","v":0},{"$f":"Be!D33","v":0},{"$f":"Be!E33","v":0},{"$f":"Be!F33","v":0},{"$f":"Be!G33","v":0},{"$f":"Be!H33","v":0},{"$f":"Be!I33","v":0},{"$f":"Be!J33","v":0},null,{"$f":"Be!L33","v":0}]
["51.",{"$f":"Be!A34","v":0},{"$f":"Be!B34","v":0},{"$f":"Be!D34","v":0},{"$f":"Be!E34","v":0},{"$f":"Be!F34","v":0},{"$f":"Be!G34","v":0},{"$f":"Be!H34","v":0},{"$f":"Be!I34","v":0},{"$f":"Be!J34","v":0},null,{"$f":"Be!L34","v":0}]
["52.",{"$f":"Be!A35","v":0},{"$f":"Be!B35","v":0},{"$f":"Be!D35","v":0},{"$f":"Be!E35","v":0},{"$f":"Be!F35","v":0},{"$f":"Be!G35","v":0},{"$f":"Be!H35","v":0},{"$f":"Be!I35","v":0},{"$f":"Be!J35","v":0},null,{"$f":"Be!L35","v":0}]
["53.",{"$f":"Be!A36","v":0},{"$f":"Be!B36","v":0},{"$f":"Be!D36","v":0},{"$f":"Be!E36","v":0},{"$f":"Be!F36","v":0},{"$f":"Be!G36","v":0},{"$f":"Be!H36","v":0},{"$f":"Be!I36","v":0},{"$f":"Be!J36","v":0},null,{"$f":"Be!L36","v":0}]
["54.",{"$f":"Be!A37","v":0},{"$f":"Be!B37","v":0},{"$f":"Be!D37","v":0},{"$f":"Be!E37","v":0},{"$f":"Be!F37","v":0},{"$f":"Be!G37","v":0},{"$f":"Be!H37","v":0},{"$f":"Be!I37","v":0},{"$f":"Be!J37","v":0},null,{"$f":"Be!L37","v":0}]
["55.",{"$f":"Be!A38","v":0},{"$f":"Be!B38","v":0},{"$f":"Be!D38","v":0},{"$f":"Be!E38","v":0},{"$f":"Be!F38","v":0},{"$f":"Be!G38","v":0},{"$f":"Be!H38","v":0},{"$f":"Be!I38","v":0},{"$f":"Be!J38","v":0},null,{"$f":"Be!L38","v":0}]
["56.",{"$f":"Be!A39","v":0},{"$f":"Be!B39","v":0},{"$f":"Be!D39","v":0},{"$f":"Be!E39","v":0},{"$f":"Be!F39","v":0},{"$f":"Be!G39","v":0},{"$f":"Be!H39","v":0},{"$f":"Be!I39","v":0},{"$f":"Be!J39","v":0},null,{"$f":"Be!L39","v":0}]