{"text_format":"1","workbook":"xlsx","n_sheets":4,"sheets":["fiú","Be","Egyéni","Csapat"],"not_rendered":{"charts":0,"images":0,"macros":1,"external_links":1,"defined_names":9,"comments":0,"pivot_tables":0},"unopened":[],"bounds":{"document_bytes":16777216,"sheet_cells":100000,"rows_first":2000,"rows_last":500,"rows_between":2000,"halvings":0,"cell_chars":16384,"cell_head_chars":4096},"cells_cut":0,"cells_raw":0,"read":"whole","date_system":"1900"}

{"sheet":"fiú","index":0,"n_rows":302,"n_cols":14,"rows_kept":302,"cut":false,"hidden":true,"merged":[]}
[null,"101 m","100m","801 m","800 m","Pont","Távol","Súlyl.","Kisl.","Pont"]
[null,6.21,6.22,"00:01:14.700","00:01:14.880",300,{"$f":"N2/100","v":1.8},3,4,0,null,null,null,180]
[null,6.2250999999999994,6.2396000000000189,"00:01:14.885","00:01:15.142",299,1.82,3.06,4.3600000000000003,1,null,null,null,182]
[null,6.2447000000000186,6.2592000000000185,"00:01:15.147","00:01:15.405",298,1.85,3.12,4.7300000000000004,2,null,null,null,185]
[null,6.2643000000000182,6.2788000000000181,"00:01:15.409","00:01:15.667",297,1.87,3.17,5.09,3,null,null,null,187]
[null,6.2839000000000178,6.2984000000000178,"00:01:15.672","00:01:15.930",296,1.89,3.23,5.46,4,null,null,null,189]
[null,6.3035000000000174,6.3180000000000174,"00:01:15.934","00:01:16.192",295,1.92,3.29,5.82,5,null,null,null,192]
[null,6.323100000000017,6.337600000000017,"00:01:16.197","00:01:16.454",294,1.94,3.35,6.19,6,null,null,null,194]
[null,6.3427000000000167,6.3572000000000166,"00:01:16.459","00:01:16.717",293,1.96,3.4,6.55,7,null,null,null,196]
[null,6.3623000000000163,6.3768000000000162,"00:01:16.721","00:01:16.979",292,1.99,3.46,6.92,8,null,null,null,199]
[null,6.3819000000000159,6.3964000000000159,"00:01:16.984","00:01:17.242",291,2.0099999999999998,3.52,7.28,9,null,null,null,201]
[null,6.4015000000000155,6.4160000000000155,"00:01:17.246","00:01:17.504",290,2.0299999999999998,3.58,7.65,10,null,null,null,203]
[null,6.4211000000000151,6.4356000000000151,"00:01:17.509","00:01:17.766",289,2.06,3.63,8.01,11,null,null,null,206]
[null,6.4407000000000147,6.4552000000000147,"00:01:17.771","00:01:18.029",288,2.08,3.69,8.3800000000000008,12,null,null,null,208]
[null,6.4603000000000144,6.4748000000000143,"00:01:18.033","00:01:18.291",287,2.1,3.75,8.74,13,null,null,null,210]
[null,6.479900000000014,6.4944000000000139,"00:01:18.296","00:01:18.554",286,2.13,3.81,9.11,14,null,null,null,213]
[null,6.4995000000000136,6.5140000000000136,"00:01:18.558","00:01:18.816",285,2.15,3.86,9.4700000000000006,15,null,null,null,215]
[null,6.5191000000000132,6.5336000000000132,"00:01:18.821","00:01:19.078",284,2.17,3.92,9.84,16,null,null,null,217]
[null,6.5387000000000128,6.5532000000000128,"00:01:19.083","00:01:19.341",283,2.2000000000000002,3.98,10.199999999999999,17,null,null,null,220]
[null,6.5583000000000125,6.5728000000000124,"00:01:19.345","00:01:19.603",282,2.2200000000000002,4.04,10.57,18,null,null,null,222]
[null,6.5779000000000121,6.592400000000012,"00:01:19.608","00:01:19.866",281,2.2400000000000002,4.09,10.93,19,null,null,null,224]
[null,6.5975000000000117,6.6120000000000116,"00:01:19.872","00:01:20.128",280,2.27,4.1500000000000004,11.3,20,null,null,null,227]
[null,6.6171000000000113,6.6316000000000113,"00:01:20.133","00:01:20.390",279,2.29,4.21,11.66,21,null,null,null,229]
[null,6.6367000000000109,6.6512000000000109,"00:01:20.395","00:01:20.653",278,2.31,4.2699999999999996,12.03,22,null,null,null,231]
[null,6.6563000000000105,6.6708000000000105,"00:01:20.657","00:01:20.915",277,2.34,4.32,12.39,23,null,null,null,234]
[null,6.6759000000000102,6.6904000000000101,"00:01:20.921","00:01:21.178",276,2.36,4.38,12.76,24,null,null,null,236]
[null,6.6955000000000098,6.7100000000000097,"00:01:21.182","00:01:21.440",275,2.39,4.4400000000000004,13.12,25,null,null,null,239]
[null,6.7151000000000094,6.7296000000000094,"00:01:21.444","00:01:21.702",274,2.41,4.5,13.48,26,null,null,null,241]
[null,6.734700000000009,6.749200000000009,"00:01:21.707","00:01:21.965",273,2.4300000000000002,4.5599999999999996,13.85,27,null,null,null,243]
[null,6.7543000000000086,6.7688000000000086,"00:01:21.969","00:01:22.227",272,2.46,4.6100000000000003,14.21,28,null,null,null,246]
[null,6.7739000000000082,6.7884000000000082,"00:01:22.232","00:01:22.490",271,2.48,4.67,14.58,29,null,null,null,248]
[null,6.7935000000000079,6.8080000000000078,"00:01:22.494","00:01:22.752",270,2.5,4.7300000000000004,14.94,30,null,null,null,250]
[null,6.8131000000000075,6.8276000000000074,"00:01:22.756","00:01:23.014",269,2.5299999999999998,4.79,15.31,31,null,null,null,253]
[null,6.8327000000000071,6.8472000000000071,"00:01:23.019","00:01:23.277",268,2.5499999999999998,4.84,15.67,32,null,null,null,255]
[null,6.8523000000000067,6.8668000000000067,"00:01:23.281","00:01:23.539",267,2.57,4.9000000000000004,16.04,33,null,null,null,257]
[null,6.8719000000000063,6.8864000000000063,"00:01:23.544","00:01:23.802",266,2.6,4.96,16.399999999999999,34,null,null,null,260]
[null,6.891500000000006,6.9060000000000059,"00:01:23.806","00:01:24.064",265,2.62,5.0199999999999996,16.77,35,null,null,null,262]
[null,6.9111000000000056,6.9256000000000055,"00:01:24.069","00:01:24.326",264,2.64,5.07,17.13,36,null,null,null,264]
[null,6.9307000000000052,6.9452000000000051,"00:01:24.331","00:01:24.589",263,2.67,5.13,17.5,37,null,null,null,267]
[null,6.9503000000000048,6.9648000000000048,"00:01:24.593","00:01:24.851",262,2.69,5.19,17.86,38,null,null,null,269]
[null,6.9699000000000044,6.9844000000000044,"00:01:24.856","00:01:25.114",261,2.71,5.25,18.23,39,null,null,null,271]
[null,6.989500000000004,7.004000000000004,"00:01:25.118","00:01:25.376",260,2.74,5.3,18.59,40,null,null,null,274]
[null,7.0091000000000037,7.0236000000000036,"00:01:25.381","00:01:25.638",259,2.76,5.36,18.96,41,null,null,null,276]
[null,7.0287000000000033,7.0432000000000032,"00:01:25.643","00:01:25.901",258,2.78,5.42,19.32,42,null,null,null,278]
[null,7.0483000000000029,7.0628000000000029,"00:01:25.905","00:01:26.163",257,2.81,5.48,19.690000000000001,43,null,null,null,281]
[null,7.0679000000000025,7.0824000000000025,"00:01:26.168","00:01:26.426",256,2.83,5.53,20.05,44,null,null,null,283]
[null,7.0875000000000021,7.1020000000000021,"00:01:26.432","00:01:26.688",255,2.85,5.59,20.420000000000002,45,null,null,null,285]
[null,7.1071000000000017,7.1216000000000017,"00:01:26.693","00:01:26.950",254,2.88,5.65,20.78,46,null,null,null,288]
[null,7.1267000000000014,7.1412000000000013,"00:01:26.955","00:01:27.213",253,2.9,5.71,21.15,47,null,null,null,290]
[null,7.146300000000001,7.1608000000000009,"00:01:27.217","00:01:27.475",252,2.92,5.76,21.51,48,null,null,null,292]
[null,7.1659000000000006,7.1804000000000006,"00:01:27.481","00:01:27.738",251,2.95,5.82,21.88,49,null,null,null,295]
[null,7.1855000000000002,7.2,"00:01:27.742","00:01:28",250,2.97,5.88,22.24,50,null,null,null,297]
[null,7.2050999999999998,7.22,"00:01:28.005","00:01:28.262",249,2.99,5.93,22.57,51,null,null,null,299]
[null,7.2250999999999994,7.24,"00:01:28.267","00:01:28.525",248,3.01,5.99,22.91,52,null,null,null,301]
[null,7.2450999999999999,7.26,"00:01:28.529","00:01:28.787",247,3.03,6.04,23.24,53,null,null,null,303]
[null,7.2650999999999994,7.28,"00:01:28.792","00:01:29.050",246,3.06,6.09,23.58,54,null,null,null,306]
[null,7.2850999999999999,7.3,"00:01:29.054","00:01:29.312",245,3.08,6.14,23.91,55,null,null,null,308]
[null,7.3050999999999995,7.32,"00:01:29.316","00:01:29.574",244,3.1,6.2,24.25,56,null,null,null,310]
[null,7.3250999999999999,7.33,"00:01:29.579","00:01:29.837",243,3.12,6.25,24.58,57,null,null,null,312]
[null,7.3350999999999997,7.35,"00:01:29.841","00:01:30.099",242,3.14,6.3,24.92,58,null,null,null,314]
[null,7.3550999999999993,7.37,"00:01:30.104","00:01:30.362",241,3.16,6.36,25.25,59,null,null,null,316]
[null,7.3750999999999998,7.39,"00:01:30.366","00:01:30.624",240,3.19,6.41,25.58,60,null,null,null,319]
[null,7.3950999999999993,7.41,"00:01:30.628","00:01:30.886",239,3.21,6.46,25.92,61,null,null,null,321]
[null,7.4150999999999998,7.43,"00:01:30.891","00:01:31.149",238,3.23,6.51,26.25,62,null,null,null,323]
[null,7.4350999999999994,7.45,"00:01:31.153","00:01:31.411",237,3.25,6.57,26.59,63,null,null,null,325]
[null,7.4550999999999998,7.47,"00:01:31.416","00:01:31.674",236,{"$f":"N66/100","v":3.27},6.62,26.92,64,null,null,null,327]
[null,7.4750999999999994,7.49,"00:01:31.678","00:01:31.936",235,3.29,6.67,27.26,65,null,null,null,329]
[null,7.4950999999999999,7.51,"00:01:31.941","00:01:32.198",234,3.32,6.72,27.59,66,null,null,null,332]
[null,7.5150999999999994,7.53,"00:01:32.203","00:01:32.461",233,3.34,6.78,27.92,67,null,null,null,334]
[null,7.5350999999999999,7.55,"00:01:32.465","00:01:32.723",232,3.36,6.83,28.26,68,null,null,null,336]
[null,7.5550999999999995,7.56,"00:01:32.728","00:01:32.986",231,3.38,6.88,28.59,69,null,null,null,338]
[null,7.5650999999999993,7.58,"00:01:32.992","00:01:33.248",230,3.4,6.94,28.93,70,null,null,null,340]
[null,7.5850999999999997,7.6,"00:01:33.253","00:01:33.510",229,3.42,6.99,29.26,71,null,null,null,342]
[null,7.6050999999999993,7.62,"00:01:33.515","00:01:33.773",228,3.45,7.04,29.6,72,null,null,null,345]
[null,7.6250999999999998,7.64,"00:01:33.777","00:01:34.035",227,3.47,7.09,29.93,73,null,null,null,347]
[null,7.6450999999999993,7.66,"00:01:34.041","00:01:34.298",226,3.49,7.15,30.27,74,null,null,null,349]
[null,7.6650999999999998,7.68,"00:01:34.302","00:01:34.560",225,3.51,7.2,30.6,75,null,null,null,351]
[null,7.6850999999999994,7.7,"00:01:34.565","00:01:34.822",224,3.53,7.25,30.93,76,null,null,null,353]
[null,7.7050999999999998,7.72,"00:01:34.827","00:01:35.085",223,3.55,7.31,31.27,77,null,null,null,355]
[null,7.7250999999999994,7.74,"00:01:35.089","00:01:35.347",222,3.57,7.36,31.6,78,null,null,null,357]
[null,7.7450999999999999,7.76,"00:01:35.352","00:01:35.610",221,3.6,7.41,31.94,79,null,null,null,360]
[null,7.7650999999999994,7.78,"00:01:35.614","00:01:35.872",220,3.62,7.46,32.270000000000003,80,null,null,null,362]
[null,7.7850999999999999,7.8,"00:01:35.877","00:01:36.134",219,3.64,7.52,32.61,81,null,null,null,364]
[null,7.8050999999999995,7.81,"00:01:36.139","00:01:36.397",218,3.66,7.57,32.94,82,null,null,null,366]
[null,7.8150999999999993,7.83,"00:01:36.401","00:01:36.659",217,3.68,7.62,33.28,83,null,null,null,368]
[null,7.8350999999999997,7.85,"00:01:36.664","00:01:36.922",216,3.7,7.68,33.61,84,null,null,null,370]
[null,7.8550999999999993,7.87,"00:01:36.926","00:01:37.184",215,3.73,7.73,33.94,85,null,null,null,373]
[null,7.8750999999999998,7.89,"00:01:37.188","00:01:37.446",214,3.75,7.78,34.28,86,null,null,null,375]
[null,7.8950999999999993,7.91,"00:01:37.451","00:01:37.709",213,3.77,7.83,34.61,87,null,null,null,377]
[null,7.9150999999999998,7.93,"00:01:37.713","00:01:37.971",212,3.79,7.89,34.950000000000003,88,null,null,null,379]
[null,7.9350999999999994,7.95,"00:01:37.976","00:01:38.234",211,3.81,7.94,35.28,89,null,null,null,381]
[null,7.9550999999999998,7.97,"00:01:38.238","00:01:38.496",210,3.83,7.99,35.619999999999997,90,null,null,null,383]
[null,7.9750999999999994,7.99,"00:01:38.502","00:01:38.758",209,3.86,8.0399999999999991,35.950000000000003,91,null,null,null,386]
[null,7.9950999999999999,8.01,"00:01:38.763","00:01:39.021",208,3.88,8.1,36.28,92,null,null,null,388]
[null,8.0151000000000003,8.0299999999999994,"00:01:39.025","00:01:39.283",207,3.9,8.15,36.619999999999997,93,null,null,null,390]
[null,8.0350999999999999,8.0399999999999991,"00:01:39.288","00:01:39.546",206,3.92,8.1999999999999993,36.950000000000003,94,null,null,null,392]
[null,8.0450999999999997,8.06,"00:01:39.552","00:01:39.808",205,3.94,8.26,37.29,95,null,null,null,394]
[null,8.065100000000001,8.08,"00:01:39.813","00:01:40.070",204,3.96,8.31,37.619999999999997,96,null,null,null,396]
[null,8.0851000000000006,8.1,"00:01:40.075","00:01:40.333",203,3.99,8.36,37.96,97,null,null,null,399]
[null,8.1051000000000002,8.1199999999999992,"00:01:40.337","00:01:40.595",202,4.01,8.41,38.29,98,null,null,null,401]
[null,8.1250999999999998,8.14,"00:01:40.601","00:01:40.858",201,4.03,8.4700000000000006,38.630000000000003,99,null,null,null,403]
[null,8.1451000000000011,8.16,"00:01:40.862","00:01:41.120",200,4.05,8.52,38.96,100,null,null,null,405]
[null,8.1651000000000007,8.18,"00:01:41.125","00:01:41.415",199,4.07,8.57,39.26,101,null,null,null,407]
[null,8.1851000000000003,8.1999999999999993,"00:01:41.420","00:01:41.710",198,4.09,8.6199999999999992,39.57,102,null,null,null,409]
[null,8.2050999999999998,8.2200000000000006,"00:01:41.715","00:01:42.006",197,4.1100000000000003,8.66,39.869999999999997,103,null,null,null,411]
[null,8.2251000000000012,8.25,"00:01:42.012","00:01:42.301",196,4.13,8.7100000000000009,40.18,104,null,null,null,413]
[null,8.2551000000000005,8.27,"00:01:42.305","00:01:42.596",195,4.1500000000000004,8.76,40.479999999999997,105,null,null,null,415]
[null,8.2751000000000001,8.2899999999999991,"00:01:42.601","00:01:42.891",194,4.17,8.81,40.78,106,null,null,null,417]
[null,8.2950999999999997,8.31,"00:01:42.896","00:01:43.186",193,4.1900000000000004,8.86,41.09,107,null,null,null,419]
[null,8.315100000000001,8.33,"00:01:43.191","00:01:43.482",192,4.21,8.9,41.39,108,null,null,null,421]
[null,8.3351000000000006,8.35,"00:01:43.486","00:01:43.777",191,4.2300000000000004,8.9499999999999993,41.7,109,null,null,null,423]
[null,8.3551000000000002,8.3800000000000008,"00:01:43.781","00:01:44.072",190,4.25,9,42,110,null,null,null,425]
[null,8.3851000000000013,8.4,"00:01:44.077","00:01:44.367",189,4.2699999999999996,9.0500000000000007,42.3,111,null,null,null,427]
[null,8.4051000000000009,8.42,"00:01:44.372","00:01:44.662",188,4.29,9.1,42.61,112,null,null,null,429]
[null,8.4251000000000005,8.44,"00:01:44.667","00:01:44.958",187,4.3,9.14,42.91,113,null,null,null,430]
[null,8.4451000000000001,8.4600000000000009,"00:01:44.962","00:01:45.253",186,4.32,9.19,43.22,114,null,null,null,432]
[null,8.4651000000000014,8.48,"00:01:45.257","00:01:45.548",185,4.34,9.24,43.52,115,null,null,null,434]
[null,8.485100000000001,8.51,"00:01:45.552","00:01:45.843",184,4.3600000000000003,9.2899999999999991,43.82,116,null,null,null,436]
[null,8.5151000000000003,8.5299999999999994,"00:01:45.848","00:01:46.138",183,4.38,9.34,44.13,117,null,null,null,438]
[null,8.5350999999999999,8.5500000000000007,"00:01:46.143","00:01:46.434",182,4.4000000000000004,9.3800000000000008,44.43,118,null,null,null,440]
[null,8.5551000000000013,8.57,"00:01:46.438","00:01:46.729",181,4.42,9.43,44.74,119,null,null,null,442]
[null,8.5751000000000008,8.59,"00:01:46.733","00:01:47.024",180,4.4400000000000004,9.48,45.04,120,null,null,null,444]
[null,8.5951000000000004,8.61,"00:01:47.028","00:01:47.319",179,4.46,9.5299999999999994,45.34,121,null,null,null,446]
[null,8.6151,8.64,"00:01:47.324","00:01:47.614",178,4.4800000000000004,9.58,45.65,122,null,null,null,448]
[null,8.6451000000000011,8.66,"00:01:47.619","00:01:47.910",177,4.5,9.6199999999999992,45.95,123,null,null,null,450]
[null,8.6651000000000007,8.68,"00:01:47.914","00:01:48.205",176,4.5199999999999996,9.67,46.26,124,null,null,null,452]
[null,8.6851000000000003,8.6999999999999993,"00:01:48.209","00:01:48.500",175,4.54,9.7200000000000006,46.56,125,null,null,null,454]
[null,8.7050999999999998,8.7200000000000006,"00:01:48.505","00:01:48.795",174,4.5599999999999996,9.77,46.86,126,null,null,null,456]
[null,8.7251000000000012,8.74,"00:01:48.801","00:01:49.090",173,4.58,9.82,47.17,127,null,null,null,458]
[null,8.7451000000000008,8.76,"00:01:49.095","00:01:49.386",172,{"$f":"N130/100","v":4.5999999999999996},9.86,47.47,128,null,null,null,460]
[null,8.7651000000000003,8.7899999999999991,"00:01:49.390","00:01:49.681",171,4.62,9.91,47.78,129,null,null,null,462]
[null,8.7950999999999997,8.81,"00:01:49.685","00:01:49.976",170,4.6399999999999997,9.9600000000000009,48.08,130,null,null,null,464]
[null,8.815100000000001,8.83,"00:01:49.981","00:01:50.271",169,4.66,10.01,48.38,131,null,null,null,466]
[null,8.8351000000000006,8.85,"00:01:50.276","00:01:50.566",168,4.68,10.06,48.69,132,null,null,null,468]
[null,8.8551000000000002,8.8699999999999992,"00:01:50.571","00:01:50.862",167,4.7,10.1,48.99,133,null,null,null,470]
[null,8.8750999999999998,8.89,"00:01:50.866","00:01:51.157",166,4.72,10.15,49.3,134,null,null,null,472]
[null,8.8951000000000011,8.92,"00:01:51.161","00:01:51.452",165,4.74,10.199999999999999,49.6,135,null,null,null,474]
[null,8.9251000000000005,8.94,"00:01:51.457","00:01:51.747",164,4.76,10.25,49.9,136,null,null,null,476]
[null,8.9451000000000001,8.9600000000000009,"00:01:51.752","00:01:52.042",163,4.78,10.3,50.21,137,null,null,null,478]
[null,8.9651000000000014,8.98,"00:01:52.047","00:01:52.338",162,4.79,10.34,50.51,138,null,null,null,479]
[null,8.985100000000001,9,"00:01:52.342","00:01:52.633",161,4.8099999999999996,10.39,50.82,139,null,null,null,481]
[null,9.0051000000000005,9.02,"00:01:52.637","00:01:52.928",160,4.83,10.44,51.12,140,null,null,null,483]
[null,9.0251000000000001,9.0500000000000007,"00:01:52.933","00:01:53.223",159,4.8499999999999996,10.49,51.42,141,null,null,null,485]
[null,9.0551000000000013,9.07,"00:01:53.228","00:01:53.518",158,4.87,10.54,51.73,142,null,null,null,487]
[null,9.0751000000000008,9.09,"00:01:53.523","00:01:53.814",157,4.8899999999999997,10.58,52.03,143,null,null,null,489]
[null,9.0951000000000004,9.11,"00:01:53.818","00:01:54.109",156,4.91,10.63,52.34,144,null,null,null,491]
[null,9.1151,9.1300000000000008,"00:01:54.113","00:01:54.404",155,4.93,10.68,52.64,145,null,null,null,493]
[null,9.1351000000000013,9.15,"00:01:54.408","00:01:54.699",154,4.95,10.73,52.94,146,null,null,null,495]
[null,9.1551000000000009,9.18,"00:01:54.704","00:01:54.994",153,4.97,10.78,53.25,147,null,null,null,497]
[null,9.1851000000000003,9.1999999999999993,"00:01:54.999","00:01:55.290",152,4.99,10.82,53.55,148,null,null,null,499]
[null,9.2050999999999998,9.2200000000000006,"00:01:55.294","00:01:55.585",151,5.01,10.87,53.86,149,null,null,null,501]
[null,9.2251000000000012,9.24,"00:01:55.589","00:01:55.880",150,5.03,10.92,54.16,150,null,null,null,503]
[null,9.2451000000000008,9.26,"00:01:55.884","00:01:56.208",149,5.05,10.96,54.43,151,null,null,null,505]
[null,9.2651000000000003,9.2899999999999991,"00:01:56.212","00:01:56.536",148,5.07,11.01,54.71,152,null,null,null,507]
[null,9.2950999999999997,9.31,"00:01:56.541","00:01:56.864",147,5.08,11.05,54.98,153,null,null,null,508]
[null,9.315100000000001,9.34,"00:01:56.869","00:01:57.192",146,5.0999999999999996,11.09,55.25,154,null,null,null,510]
[null,9.3451000000000004,9.36,"00:01:57.197","00:01:57.520",145,5.12,11.14,55.53,155,null,null,null,512]
[null,9.3651,9.3800000000000008,"00:01:57.525","00:01:57.848",144,5.14,11.18,55.8,156,null,null,null,514]
[null,9.3851000000000013,9.41,"00:01:57.852","00:01:58.176",143,5.15,11.22,56.08,157,null,null,null,515]
[null,9.4151000000000007,9.43,"00:01:58.182","00:01:58.504",142,5.17,11.27,56.35,158,null,null,null,517]
[null,9.4351000000000003,9.4600000000000009,"00:01:58.509","00:01:58.832",141,5.19,11.31,56.62,159,null,null,null,519]
[null,9.4651000000000014,9.48,"00:01:58.837","00:01:59.160",140,5.21,11.35,56.9,160,null,null,null,521]
[null,9.485100000000001,9.5,"00:01:59.165","00:01:59.488",139,5.22,11.4,57.17,161,null,null,null,522]
[null,9.5051000000000005,9.5299999999999994,"00:01:59.493","00:01:59.816",138,5.24,11.44,57.44,162,null,null,null,524]
[null,9.5350999999999999,9.5500000000000007,"00:01:59.822","00:02:00.144",137,5.26,11.48,57.72,163,null,null,null,526]
[null,9.5551000000000013,9.58,"00:02:00.148","00:02:00.472",136,5.28,11.52,57.99,164,null,null,null,528]
[null,9.5851000000000006,9.6,"00:02:00.477","00:02:00.800",135,5.29,11.57,58.26,165,null,null,null,529]
[null,9.6051000000000002,9.6199999999999992,"00:02:00.805","00:02:01.128",134,5.31,11.61,58.54,166,null,null,null,531]
[null,9.6250999999999998,9.65,"00:02:01.133","00:02:01.456",133,5.33,11.65,58.81,167,null,null,null,533]
[null,9.6551000000000009,9.67,"00:02:01.461","00:02:01.784",132,5.35,11.7,59.08,168,null,null,null,535]
[null,9.6751000000000005,9.6999999999999993,"00:02:01.788","00:02:02.112",131,5.36,11.74,59.36,169,null,null,null,536]
[null,9.7050999999999998,9.7200000000000006,"00:02:02.116","00:02:02.440",130,5.38,11.78,59.63,170,null,null,null,538]
[null,9.7251000000000012,9.74,"00:02:02.445","00:02:02.768",129,5.4,11.83,59.91,171,null,null,null,540]
[null,9.7451000000000008,9.77,"00:02:02.773","00:02:03.096",128,5.42,11.87,60.18,172,null,null,null,542]
[null,9.7751000000000001,9.7899999999999991,"00:02:03.101","00:02:03.424",127,5.43,11.91,60.45,173,null,null,null,543]
[null,9.7950999999999997,9.82,"00:02:03.429","00:02:03.752",126,5.45,11.96,60.73,174,null,null,null,545]
[null,9.8251000000000008,9.84,"00:02:03.756","00:02:04.080",125,5.47,12,61,175,null,null,null,547]
[null,9.8451000000000004,9.86,"00:02:04.084","00:02:04.408",124,5.49,12.04,61.27,176,null,null,null,549]
[null,9.8651,9.89,"00:02:04.413","00:02:04.736",123,5.51,12.09,61.55,177,null,null,null,551]
[null,9.8951000000000011,9.91,"00:02:04.741","00:02:05.064",122,5.52,12.13,61.82,178,null,null,null,552]
[null,9.9151000000000007,9.94,"00:02:05.069","00:02:05.392",121,5.54,12.17,62.09,179,null,null,null,554]
[null,9.9451000000000001,9.9600000000000009,"00:02:05.397","00:02:05.720",120,5.56,12.22,62.37,180,null,null,null,556]
[null,9.9651000000000014,9.98,"00:02:05.724","00:02:06.048",119,5.58,12.26,62.64,181,null,null,null,558]
[null,9.985100000000001,10.01,"00:02:06.052","00:02:06.376",118,5.59,12.3,62.92,182,null,null,null,559]
[null,10.0151,10.029999999999999,"00:02:06.381","00:02:06.704",117,5.61,12.35,63.19,183,null,null,null,561]
[null,10.0351,10.06,"00:02:06.709","00:02:07.032",116,5.63,12.39,63.46,184,null,null,null,563]
[null,10.065100000000001,10.08,"00:02:07.037","00:02:07.360",115,5.65,12.43,63.74,185,null,null,null,565]
[null,10.085100000000001,10.1,"00:02:07.365","00:02:07.688",114,5.66,12.48,64.010000000000005,186,null,null,null,566]
[null,10.1051,10.130000000000001,"00:02:07.692","00:02:08.016",113,5.68,12.52,64.28,187,null,null,null,568]
[null,10.135100000000001,10.15,"00:02:08.020","00:02:08.344",112,5.7,12.56,64.56,188,null,null,null,570]
[null,10.155100000000001,10.18,"00:02:08.349","00:02:08.672",111,5.72,12.6,64.83,189,null,null,null,572]
[null,10.1851,10.199999999999999,"00:02:08.677","00:02:09",110,5.73,12.65,65.099999999999994,190,null,null,null,573]
[null,10.2051,10.220000000000001,"00:02:09.005","00:02:09.328",109,5.75,12.69,65.38,191,null,null,null,575]
[null,10.225100000000001,10.25,"00:02:09.333","00:02:09.656",108,{"$f":"N194/100","v":5.77},12.73,65.650000000000006,192,null,null,null,577]
[null,10.255100000000001,10.27,"00:02:09.662","00:02:09.984",107,5.79,12.78,65.92,193,null,null,null,579]
[null,10.2751,10.3,"00:02:09.988","00:02:10.312",106,5.8,12.82,66.2,194,null,null,null,580]
[null,10.305100000000001,10.32,"00:02:10.317","00:02:10.640",105,5.82,12.86,66.47,195,null,null,null,582]
[null,10.325100000000001,10.34,"00:02:10.645","00:02:10.968",104,5.84,12.91,66.75,196,null,null,null,584]
[null,10.3451,10.37,"00:02:10.973","00:02:11.296",103,5.86,12.95,67.02,197,null,null,null,586]
[null,10.3751,10.39,"00:02:11.301","00:02:11.624",102,5.87,12.99,67.290000000000006,198,null,null,null,587]
[null,10.395100000000001,10.42,"00:02:11.628","00:02:11.952",101,5.89,13.04,67.569999999999993,199,null,null,null,589]
[null,10.4251,10.44,"00:02:11.956","00:02:12.280",100,5.91,13.08,67.84,200,null,null,null,591]
[null,10.4451,10.47,"00:02:12.285","00:02:12.681",99,5.93,13.12,68.08,201,null,null,null,593]
[null,10.475100000000001,10.49,"00:02:12.685","00:02:13.082",98,5.94,13.16,68.33,202,null,null,null,594]
[null,10.495100000000001,10.52,"00:02:13.086","00:02:13.482",97,5.96,13.2,68.569999999999993,203,null,null,null,596]
[null,10.5251,10.55,"00:02:13.487","00:02:13.883",96,5.97,13.23,68.81,204,null,null,null,597]
[null,10.555100000000001,10.57,"00:02:13.888","00:02:14.284",95,5.99,13.27,69.06,205,null,null,null,599]
[null,10.575100000000001,10.6,"00:02:14.288","00:02:14.685",94,6,13.31,69.3,206,null,null,null,600]
[null,10.6051,10.62,"00:02:14.689","00:02:15.086",93,6.02,13.35,69.540000000000006,207,null,null,null,602]
[null,10.6251,10.65,"00:02:15.092","00:02:15.486",92,6.04,13.39,69.790000000000006,208,null,null,null,604]
[null,10.655100000000001,10.68,"00:02:15.491","00:02:15.887",91,6.05,13.43,70.03,209,null,null,null,605]
[null,10.6851,10.7,"00:02:15.892","00:02:16.288",90,6.07,13.46,70.27,210,null,null,null,607]
[null,10.7051,10.73,"00:02:16.292","00:02:16.689",89,6.08,13.5,70.52,211,null,null,null,608]
[null,10.735100000000001,10.76,"00:02:16.693","00:02:17.090",88,6.1,13.54,70.760000000000005,212,null,null,null,610]
[null,10.7651,10.78,"00:02:17.094","00:02:17.490",87,6.12,13.58,71,213,null,null,null,612]
[null,10.7851,10.81,"00:02:17.495","00:02:17.891",86,6.13,13.62,71.239999999999995,214,null,null,null,613]
[null,10.815100000000001,10.84,"00:02:17.896","00:02:18.292",85,6.15,13.66,71.489999999999995,215,null,null,null,615]
[null,10.8451,10.86,"00:02:18.297","00:02:18.693",84,6.16,13.69,71.73,216,null,null,null,616]
[null,10.8651,10.89,"00:02:18.697","00:02:19.094",83,6.18,13.73,71.97,217,null,null,null,618]
[null,10.895100000000001,10.92,"00:02:19.098","00:02:19.494",82,6.19,13.77,72.22,218,null,null,null,619]
[null,10.9251,10.94,"00:02:19.499","00:02:19.895",81,6.21,13.81,72.459999999999994,219,null,null,null,621]
[null,10.9451,10.97,"00:02:19.901","00:02:20.296",80,6.23,13.85,72.7,220,null,null,null,623]
[null,10.975100000000001,10.99,"00:02:20.301","00:02:20.697",79,6.24,13.89,72.95,221,null,null,null,624]
[null,10.995100000000001,11.02,"00:02:20.701","00:02:21.098",78,6.26,13.92,73.19,222,null,null,null,626]
[null,11.0251,11.05,"00:02:21.102","00:02:21.498",77,6.27,13.96,73.430000000000007,223,null,null,null,627]
[null,11.055100000000001,11.07,"00:02:21.503","00:02:21.899",76,6.29,14,73.680000000000007,224,null,null,null,629]
[null,11.075100000000001,11.1,"00:02:21.904","00:02:22.300",75,6.31,14.04,73.92,225,null,null,null,631]
[null,11.1051,11.13,"00:02:22.305","00:02:22.701",74,6.32,14.08,74.16,226,null,null,null,632]
[null,11.135100000000001,11.15,"00:02:22.705","00:02:23.102",73,6.34,14.12,74.41,227,null,null,null,634]
[null,11.155100000000001,11.18,"00:02:23.106","00:02:23.502",72,6.35,14.16,74.650000000000006,228,null,null,null,635]
[null,11.1851,11.21,"00:02:23.507","00:02:23.903",71,6.37,14.19,74.89,229,null,null,null,637]
[null,11.215100000000001,11.23,"00:02:23.908","00:02:24.304",70,6.38,14.23,75.14,230,null,null,null,638]
[null,11.235100000000001,11.26,"00:02:24.309","00:02:24.705",69,6.4,14.27,75.38,231,null,null,null,640]
[null,11.2651,11.28,"00:02:24.709","00:02:25.106",68,6.42,14.31,75.62,232,null,null,null,642]
[null,11.2851,11.31,"00:02:25.112","00:02:25.506",67,6.43,14.35,75.87,233,null,null,null,643]
[null,11.315100000000001,11.34,"00:02:25.511","00:02:25.907",66,6.45,14.39,76.11,234,null,null,null,645]
[null,11.3451,11.36,"00:02:25.912","00:02:26.308",65,6.46,14.42,76.349999999999994,235,null,null,null,646]
[null,11.3651,11.39,"00:02:26.312","00:02:26.709",64,6.48,14.46,76.599999999999994,236,null,null,null,648]
[null,11.395100000000001,11.42,"00:02:26.713","00:02:27.110",63,6.49,14.5,76.84,237,null,null,null,649]
[null,11.4251,11.44,"00:02:27.114","00:02:27.510",62,6.51,14.54,77.08,238,null,null,null,651]
[null,11.4451,11.47,"00:02:27.515","00:02:27.911",61,6.53,14.58,77.319999999999993,239,null,null,null,653]
[null,11.475100000000001,11.5,"00:02:27.916","00:02:28.312",60,6.54,14.62,77.569999999999993,240,null,null,null,654]
[null,11.505100000000001,11.52,"00:02:28.316","00:02:28.713",59,6.56,14.65,77.81,241,null,null,null,656]
[null,11.5251,11.55,"00:02:28.717","00:02:29.114",58,6.57,14.69,78.05,242,null,null,null,657]
[null,11.555100000000001,11.58,"00:02:29.118","00:02:29.514",57,6.59,14.73,78.3,243,null,null,null,659]
[null,11.585100000000001,11.6,"00:02:29.519","00:02:29.915",56,6.61,14.77,78.540000000000006,244,null,null,null,661]
[null,11.6051,11.63,"00:02:29.921","00:02:30.316",55,6.62,14.81,78.78,245,null,null,null,662]
[null,11.635100000000001,11.65,"00:02:30.321","00:02:30.717",54,6.64,14.85,79.03,246,null,null,null,664]
[null,11.655100000000001,11.68,"00:02:30.721","00:02:31.118",53,6.65,14.88,79.27,247,null,null,null,665]
[null,11.6851,11.71,"00:02:31.122","00:02:31.518",52,6.67,14.92,79.510000000000005,248,null,null,null,667]
[null,11.715100000000001,11.73,"00:02:31.523","00:02:31.919",51,6.68,14.96,79.760000000000005,249,null,null,null,668]
[null,11.735100000000001,11.76,"00:02:31.924","00:02:32.320",50,6.7,15,80,250,null,null,null,670]
[null,11.7651,11.79,"00:02:32.325","00:02:32.674",49,6.72,14.177599999999963,80.239999999999995,251,null,null,null,672]
[null,11.7951,11.82,"00:02:32.678","00:02:33.027",48,6.73,14.235199999999963,80.48,252,null,null,null,673]
[null,11.825100000000001,11.85,"00:02:33.032","00:02:33.381",47,6.75,14.292799999999964,80.72,253,null,null,null,675]
[null,11.8551,11.88,"00:02:33.385","00:02:33.734",46,6.76,14.350399999999965,80.959999999999994,254,null,null,null,676]
[null,11.885100000000001,11.9,"00:02:33.739","00:02:34.088",45,6.78,14.407999999999966,81.2,255,null,null,null,678]
[null,11.905100000000001,11.93,"00:02:34.093","00:02:34.442",44,{"$f":"N258/100","v":6.79},14.465599999999966,81.44,256,null,null,null,679]
[null,11.9351,11.96,"00:02:34.446","00:02:34.795",43,6.81,14.523199999999967,81.680000000000007,257,null,null,null,681]
[null,11.965100000000001,11.99,"00:02:34.801","00:02:35.149",42,6.83,14.580799999999968,81.92,258,null,null,null,683]
[null,11.995100000000001,12.02,"00:02:35.153","00:02:35.502",41,6.84,14.638399999999969,82.159999999999954,259,null,null,null,684]
[null,12.0251,12.05,"00:02:35.507","00:02:35.856",40,6.86,14.69599999999997,82.4,260,null,null,null,686]
[null,12.055100000000001,12.08,"00:02:35.861","00:02:36.210",39,6.87,14.75359999999997,82.64,261,null,null,null,687]
[null,12.085100000000001,12.11,"00:02:36.214","00:02:36.563",38,6.89,14.811199999999971,82.88,262,null,null,null,689]
[null,12.1151,12.13,"00:02:36.568","00:02:36.917",37,6.91,14.868799999999972,83.12,263,null,null,null,691]
[null,12.135100000000001,12.16,"00:02:36.921","00:02:37.270",36,6.92,14.926399999999973,83.36,264,null,null,null,692]
[null,12.165100000000001,12.19,"00:02:37.275","00:02:37.624",35,6.94,14.983999999999973,83.6,265,null,null,null,694]
[null,12.1951,12.22,"00:02:37.628","00:02:37.978",34,6.95,15.041599999999974,83.84,266,null,null,null,695]
[null,12.225100000000001,12.25,"00:02:37.982","00:02:38.331",33,6.97,15.099199999999975,84.08,267,null,null,null,697]
[null,12.255100000000001,12.28,"00:02:38.336","00:02:38.685",32,6.98,15.156799999999976,84.32,268,null,null,null,698]
[null,12.2851,12.31,"00:02:38.689","00:02:39.038",31,7,15.214399999999976,84.56,269,null,null,null,700]
[null,12.315100000000001,12.34,"00:02:39.043","00:02:39.392",30,7.02,15.271999999999977,84.8,270,null,null,null,702]
[null,12.3451,12.36,"00:02:39.396","00:02:39.746",29,7.03,15.329599999999978,85.04,271,null,null,null,703]
[null,12.3651,12.39,"00:02:39.752","00:02:40.099",28,7.05,15.387199999999979,85.28,272,null,null,null,705]
[null,12.395100000000001,12.42,"00:02:40.104","00:02:40.453",27,7.06,15.444799999999979,85.52,273,null,null,null,706]
[null,12.4251,12.45,"00:02:40.457","00:02:40.806",26,7.08,15.50239999999998,85.76,274,null,null,null,708]
[null,12.4551,12.48,"00:02:40.811","00:02:41.160",25,7.1,15.559999999999981,86,275,null,null,null,710]
[null,12.485100000000001,12.51,"00:02:41.165","00:02:41.514",24,7.11,15.617599999999982,86.24,276,null,null,null,711]
[null,12.5151,12.54,"00:02:41.518","00:02:41.867",23,7.13,15.675199999999982,86.48,277,null,null,null,713]
[null,12.5451,12.57,"00:02:41.872","00:02:42.221",22,7.14,15.732799999999983,86.72,278,null,null,null,714]
[null,12.575100000000001,12.6,"00:02:42.225","00:02:42.574",21,7.16,15.790399999999984,86.96,279,null,null,null,716]
[null,12.6051,12.62,"00:02:42.579","00:02:42.928",20,7.17,15.847999999999985,87.2,280,null,null,null,717]
[null,12.6251,12.65,"00:02:42.933","00:02:43.282",19,7.19,15.905599999999986,87.44,281,null,null,null,719]
[null,12.655100000000001,12.68,"00:02:43.286","00:02:43.635",18,7.21,15.963199999999986,87.68,282,null,null,null,721]
[null,12.6851,12.71,"00:02:43.641","00:02:43.989",17,7.22,16.020799999999987,87.92,283,null,null,null,722]
[null,12.715100000000001,12.74,"00:02:43.994","00:02:44.342",16,7.24,16.078399999999988,88.16,284,null,null,null,724]
[null,12.745100000000001,12.77,"00:02:44.347","00:02:44.696",15,7.25,16.135999999999989,88.4,285,null,null,null,725]
[null,12.7751,12.8,"00:02:44.701","00:02:45.050",14,7.27,16.193599999999989,88.64,286,null,null,null,727]
[null,12.805100000000001,12.83,"00:02:45.054","00:02:45.403",13,7.28,16.25119999999999,88.88,287,null,null,null,728]
[null,12.835100000000001,12.85,"00:02:45.408","00:02:45.757",12,7.3,16.308799999999991,89.12,288,null,null,null,730]
[null,12.8551,12.88,"00:02:45.761","00:02:46.110",11,7.32,16.366399999999992,89.36,289,null,null,null,732]
[null,12.885100000000001,12.91,"00:02:46.115","00:02:46.464",10,7.33,16.423999999999992,89.6,290,null,null,null,733]
[null,12.915100000000001,12.94,"00:02:46.469","00:02:46.818",9,7.35,16.481599999999993,89.84,291,null,null,null,735]
[null,12.9451,12.97,"00:02:46.822","00:02:47.171",8,7.36,16.539199999999994,90.08,292,null,null,null,736]
[null,12.975100000000001,13,"00:02:47.176","00:02:47.525",7,7.38,16.596799999999995,90.32,293,null,null,null,738]
[null,13.005100000000001,13.03,"00:02:47.529","00:02:47.878",6,7.4,16.654399999999995,90.56,294,null,null,null,740]
[null,13.0351,13.06,"00:02:47.883","00:02:48.232",5,7.41,16.711999999999996,90.8,295,null,null,null,741]
[null,13.065100000000001,13.08,"00:02:48.236","00:02:48.586",4,7.43,16.769599999999997,91.04,296,null,null,null,743]
[null,13.085100000000001,13.11,"00:02:48.591","00:02:48.939",3,7.44,16.827199999999998,91.28,297,null,null,null,744]
[null,13.1151,13.14,"00:02:48.944","00:02:49.293",2,7.46,16.884799999999998,91.52,298,null,null,null,746]
[null,13.145100000000001,13.17,"00:02:49.297","00:02:49.646",1,7.47,16.942399999999999,91.76,299,null,null,null,747]
[null,13.1751,13.2,"00:02:49.651","00:02:50",0,7.49,17,92,300,null,null,null,749]

{"sheet":"Be","index":1,"n_rows":244,"n_cols":13,"rows_kept":244,"cut":false,"hidden":false,"merged":[[27,2,27,3],[27,4,27,5],[27,6,27,7],[26,0,26,11],[27,8,27,9],[26,12,27,13],[33,12,33,13],[28,12,31,13],[36,0,36,11],[36,12,37,13],[37,2,37,3],[37,4,37,5],[37,6,37,7],[37,8,37,9],[48,12,51,13],[53,12,53,13],[56,0,56,11],[56,12,57,13],[57,2,57,3],[57,4,57,5],[57,6,57,7],[57,8,57,9],[38,12,41,13],[43,12,43,13],[46,0,46,11],[46,12,47,13],[47,2,47,3],[47,4,47,5],[47,6,47,7],[47,8,47,9],[68,12,71,13],[73,12,73,13],[76,0,76,11],[76,12,77,13],[77,2,77,3],[77,4,77,5],[77,6,77,7],[77,8,77,9],[58,12,61,13],[63,12,63,13],[66,0,66,11],[66,12,67,13],[67,2,67,3],[67,4,67,5],[67,6,67,7],[67,8,67,9],[88,12,91,13],[93,12,93,13],[96,0,96,11],[96,12,97,13],[97,2,97,3],[97,4,97,5],[97,6,97,7],[97,8,97,9],[78,12,81,13],[83,12,83,13],[86,0,86,11],[86,12,87,13],[87,2,87,3],[87,4,87,5],[87,6,87,7],[87,8,87,9],[108,12,111,13],[113,12,113,13],[116,0,116,11],[116,12,117,13],[117,2,117,3],[117,4,117,5],[117,6,117,7],[117,8,117,9],[98,12,101,13],[103,12,103,13],[106,0,106,11],[106,12,107,13],[107,2,107,3],[107,4,107,5],[107,6,107,7],[107,8,107,9],[128,12,131,13],[133,12,133,13],[136,0,136,11],[136,12,137,13],[137,2,137,3],[137,4,137,5],[137,6,137,7],[137,8,137,9],[118,12,121,13],[123,12,123,13],[126,0,126,11],[126,12,127,13],[127,2,127,3],[127,4,127,5],[127,6,127,7],[127,8,127,9],[148,12,151,13],[153,12,153,13],[156,0,156,11],[156,12,157,13],[157,2,157,3],[157,4,157,5],[157,6,157,7],[157,8,157,9],[138,12,141,13],[143,12,143,13],[146,0,146,11],[146,12,147,13],[147,2,147,3],[147,4,147,5],[147,6,147,7],[147,8,147,9],[176,0,176,11],[176,12,177,13],[177,2,177,3],[177,4,177,5],[177,6,177,7],[177,8,177,9],[158,12,161,13],[163,12,163,13],[166,0,166,11],[166,12,167,13],[167,2,167,3],[167,4,167,5],[167,6,167,7],[167,8,167,9],[196,0,196,11],[196,12,197,13],[197,2,197,3],[197,4,197,5],[197,6,197,7],[197,8,197,9],[178,12,181,13],[183,12,183,13],[186,0,186,11],[186,12,187,13],[187,2,187,3],[187,4,187,5],[187,6,187,7],[187,8,187,9],[216,0,216,11],[216,12,217,13],[217,2,217,3],[217,4,217,5],[217,6,217,7],[217,8,217,9],[198,12,201,13],[203,12,203,13],[206,0,206,11],[206,12,207,13],[207,2,207,3],[207,4,207,5],[207,6,207,7],[207,8,207,9],[236,0,236,11],[236,12,237,13],[237,2,237,3],[237,4,237,5],[237,6,237,7],[237,8,237,9],[218,12,221,13],[223,12,223,13],[226,0,226,11],[226,12,227,13],[227,2,227,3],[227,4,227,5],[227,6,227,7],[227,8,227,9],[238,12,241,13],[243,12,243,13],[3,12,3,13],[4,12,4,13],[5,12,5,13],[6,12,6,13],[7,12,7,13],[8,12,8,13],[9,12,9,13],[10,12,10,13],[11,12,11,13],[12,12,12,13],[13,12,13,13],[14,12,14,13],[15,12,15,13],[16,12,16,13],[228,12,231,13],[233,12,233,13],[208,12,211,13],[213,12,213,13],[188,12,191,13],[193,12,193,13],[168,12,171,13],[173,12,173,13],[22,12,22,13],[23,12,23,13],[24,12,24,13],[2,12,2,13],[0,0,0,13],[2,8,2,9],[17,12,17,13],[18,12,18,13],[19,12,19,13],[20,12,20,13],[21,12,21,13],[2,2,2,3],[2,4,2,5],[2,6,2,7]]}
["III. korcsoport FIÚ Összetett verseny "]
[]
["Név","Sz.év","60 m",null,"Távolugrás",null,"Klabdahajítás",null,"600 m",null,"Összpont","helyezés","Iskola"]
["Horváth Ábel",2010,9,{"$f":"IF(C4<6.19,0,VLOOKUP(C4,rfut,5,TRUE))","v":161},4.3600000000000003,{"$f":"IF(E4<1.79,0,VLOOKUP(E4,távol,4,TRUE))","v":116},43.4,{"$f":"IF(G4<4,0,VLOOKUP(G4,kisl,2,TRUE))","v":114},"00:01:56.100",{"$f":"IF(I4<fiú!$D$2,0,VLOOKUP(I4,hfut,3,TRUE))","v":149},{"$f":"SUM(D4,F4,H4,J4)","v":540},{"$f":"RANK(K4,Egyéni!$L$3:$L$156,0)","v":7},"Dombóvári Illyés Gy. Gimnázium"]
["Démuth Béla Kevin",2010,8.4,189,4.43,119,58.37,165,"00:01:48.800",{"$f":"IF(I5<fiú!$D$2,0,VLOOKUP(I5,hfut,3,TRUE))","v":174},{"$f":"SUM(D5,F5,H5,J5)","v":647},{"$f":"RANK(K5,Egyéni!$L$3:$L$156,0)","v":1},"Vak Bottyán Ált. Isk. Pálfa"]
[null,null,null,0,null,0,null,0,null,{"$f":"IF(I6<fiú!$D$2,0,VLOOKUP(I6,hfut,3,TRUE))","v":0},0,{"$f":"RANK(K6,Egyéni!$L$3:$L$156,0)","v":43}]
[null,null,null,0,null,0,null,0,null,{"$f":"IF(I7<fiú!$D$2,0,VLOOKUP(I7,hfut,3,TRUE))","v":0},0,{"$f":"RANK(K7,Egyéni!$L$3:$L$156,0)","v":43}]
[null,null,null,0,null,0,null,0,null,{"$f":"IF(I8<fiú!$D$2,0,VLOOKUP(I8,hfut,3,TRUE))","v":0},0,{"$f":"RANK(K8,Egyéni!$L$3:$L$156,0)","v":43}]
[null,null,null,0,null,0,null,0,null,{"$f":"IF(I9<fiú!$D$2,0,VLOOKUP(I9,hfut,3,TRUE))","v":0},0,{"$f":"RANK(K9,Egyéni!$L$3:$L$156,0)","v":43}]
[null,null,null,0,null,0,null,0,null,{"$f":"IF(I10<fiú!$D$2,0,VLOOKUP(I10,hfut,3,TRUE))","v":0},0,{"$f":"RANK(K10,Egyéni!$L$3:$L$156,0)","v":43}]
[null,null,null,0,null,0,null,0,null,{"$f":"IF(I11<fiú!$D$2,0,VLOOKUP(I11,hfut,3,TRUE))","v":0},0,{"$f":"RANK(K11,Egyéni!$L$3:$L$156,0)","v":43}]
[null,null,null,0,null,0,null,0,null,{"$f":"IF(I12<fiú!$D$2,0,VLOOKUP(I12,hfut,3,TRUE))","v":0},0,{"$f":"RANK(K12,Egyéni!$L$3:$L$156,0)","v":43}]
[null,null,null,0,null,0,null,0,null,{"$f":"IF(I13<fiú!$D$2,0,VLOOKUP(I13,hfut,3,TRUE))","v":0},0,{"$f":"RANK(K13,Egyéni!$L$3:$L$156,0)","v":43}]
[null,null,null,0,null,0,null,0,null,{"$f":"IF(I14<fiú!$D$2,0,VLOOKUP(I14,hfut,3,TRUE))","v":0},0,{"$f":"RANK(K14,Egyéni!$L$3:$L$156,0)","v":43}]
[null,null,null,0,null,0,null,0,null,{"$f":"IF(I15<fiú!$D$2,0,VLOOKUP(I15,hfut,3,TRUE))","v":0},0,{"$f":"RANK(K15,Egyéni!$L$3:$L$156,0)","v":43}]
[null,null,null,0,null,0,null,0,null,{"$f":"IF(I16<fiú!$D$2,0,VLOOKUP(I16,hfut,3,TRUE))","v":0},0,{"$f":"RANK(K16,Egyéni!$L$3:$L$156,0)","v":43}]
[null,null,null,0,null,0,null,0,null,{"$f":"IF(I17<fiú!$D$2,0,VLOOKUP(I17,hfut,3,TRUE))","v":0},0,{"$f":"RANK(K17,Egyéni!$L$3:$L$156,0)","v":43}]
[null,null,null,0,null,0,null,0,null,{"$f":"IF(I18<fiú!$D$2,0,VLOOKUP(I18,hfut,3,TRUE))","v":0},0,{"$f":"RANK(K18,Egyéni!$L$3:$L$156,0)","v":43}]
[null,null,null,0,null,0,null,0,null,{"$f":"IF(I19<fiú!$D$2,0,VLOOKUP(I19,hfut,3,TRUE))","v":0},0,{"$f":"RANK(K19,Egyéni!$L$3:$L$156,0)","v":43}]
[null,null,null,0,null,0,null,0,null,{"$f":"IF(I20<fiú!$D$2,0,VLOOKUP(I20,hfut,3,TRUE))","v":0},0,{"$f":"RANK(K20,Egyéni!$L$3:$L$156,0)","v":43}]
[null,null,null,0,null,0,null,0,null,{"$f":"IF(I21<fiú!$D$2,0,VLOOKUP(I21,hfut,3,TRUE))","v":0},0,{"$f":"RANK(K21,Egyéni!$L$3:$L$156,0)","v":43}]
[null,null,null,0,null,0,null,0,null,{"$f":"IF(I22<fiú!$D$2,0,VLOOKUP(I22,hfut,3,TRUE))","v":0},0,{"$f":"RANK(K22,Egyéni!$L$3:$L$156,0)","v":43}]
[null,null,null,0,null,0,null,0,null,{"$f":"IF(I23<fiú!$D$2,0,VLOOKUP(I23,hfut,3,TRUE))","v":0},0,{"$f":"RANK(K23,Egyéni!$L$3:$L$156,0)","v":43}]
[null,null,null,0,null,0,null,0,null,{"$f":"IF(I24<fiú!$D$2,0,VLOOKUP(I24,hfut,3,TRUE))","v":0},0,{"$f":"RANK(K24,Egyéni!$L$3:$L$156,0)","v":43}]
[null,null,null,0,null,0,null,0,null,{"$f":"IF(I25<fiú!$D$2,0,VLOOKUP(I25,hfut,3,TRUE))","v":0},0,{"$f":"RANK(K25,Egyéni!$L$3:$L$156,0)","v":43}]
[]
["Bonyhádi Általános Iskola",null,null,null,null,null,null,null,null,null,null,null,{"$f":"RANK(M29,Csapat!$C$3:P30,0)","v":1}]
["Név","Sz.év","60 m",null,"Távolugrás",null,"Klabdahajítás",null,"600 m",null,"Összpont","Helyezés"]
["Farkas Botond",2011,null,{"$f":"IF(C29<6.19,0,VLOOKUP(C29,rfut,5,TRUE))","v":0},null,{"$f":"IF(E29<1.79,0,VLOOKUP(E29,távol,4,TRUE))","v":0},null,{"$f":"IF(G29<4,0,VLOOKUP(G29,kisl,2,TRUE))","v":0},null,{"$f":"IF(I29<fiú!$D$2,0,VLOOKUP(I29,hfut,3,TRUE))","v":0},{"$f":"SUM(D29,F29,H29,J29)","v":0},{"$f":"RANK(K29,Egyéni!$L$3:$L$156,0)","v":43},{"$f":"SUM(K29:K34)-MIN(K29:K34)","v":2750}]
["János Olivér",2011,9,161,3.96,96,32.590000000000003,80,"00:01:55.400",{"$f":"IF(I30<fiú!$D$2,0,VLOOKUP(I30,hfut,3,TRUE))","v":151},488,{"$f":"RANK(K30,Egyéni!$L$3:$L$156,0)","v":14}]
["Magyar Péter József",2010,8.5,184,4.6900000000000004,132,38.96,100,"00:01:55.900",{"$f":"IF(I31<fiú!$D$2,0,VLOOKUP(I31,hfut,3,TRUE))","v":149},565,{"$f":"RANK(K31,Egyéni!$L$3:$L$156,0)","v":5}]
["Markóczi Donát",2010,8.1999999999999993,198,4.42,119,47.72,128,"00:01:52.800",{"$f":"IF(I32<fiú!$D$2,0,VLOOKUP(I32,hfut,3,TRUE))","v":160},605,{"$f":"RANK(K32,Egyéni!$L$3:$L$156,0)","v":3}]
["Szőts Dávid",2010,8.3000000000000007,193,5.19,159,42.08,110,"00:01:49",{"$f":"IF(I33<fiú!$D$2,0,VLOOKUP(I33,hfut,3,TRUE))","v":173},635,{"$f":"RANK(K33,Egyéni!$L$3:$L$156,0)","v":2}]
["Tusa Zétény",2011,9.1999999999999993,152,3.62,80,32.74,81,"00:01:57.700",{"$f":"IF(I34<fiú!$D$2,0,VLOOKUP(I34,hfut,3,TRUE))","v":144},457,{"$f":"RANK(K34,Egyéni!$L$3:$L$156,0)","v":20}]
[]
[]
["Szekszárdi Garay János Általános Iskola",null,null,null,null,null,null,null,null,null,null,null,{"$f":"RANK(M39,Csapat!$C$3:P40,0)","v":2}]
["Név","Sz.év","60 m",null,"Távolugrás",null,"Klabdahajítás",null,"600 m",null,"Összpont","Helyezés"]
["Gyenes Kristóf",2010,8.4,{"$f":"IF(C39<6.19,0,VLOOKUP(C39,rfut,5,TRUE))","v":189},4.25,{"$f":"IF(E39<1.79,0,VLOOKUP(E39,távol,4,TRUE))","v":110},40.36,{"$f":"IF(G39<4,0,VLOOKUP(G39,kisl,2,TRUE))","v":104},"00:02:01.300",{"$f":"IF(I39<fiú!$D$2,0,VLOOKUP(I39,hfut,3,TRUE))","v":133},{"$f":"SUM(D39,F39,H39,J39)","v":536},{"$f":"RANK(K39,Egyéni!$L$3:$L$156,0)","v":8},{"$f":"SUM(K39:K44)-MIN(K39:K44)","v":2460}]
["Gyenes Szilárd",2010,8.8000000000000007,170,4.2,107,35.340000000000003,89,"00:02:00.400",{"$f":"IF(I40<fiú!$D$2,0,VLOOKUP(I40,hfut,3,TRUE))","v":136},502,{"$f":"RANK(K40,Egyéni!$L$3:$L$156,0)","v":12}]
["Nyisztor Gergely",2010,9.4,143,4.4400000000000004,120,48.53,131,"00:01:56.200",{"$f":"IF(I41<fiú!$D$2,0,VLOOKUP(I41,hfut,3,TRUE))","v":149},543,{"$f":"RANK(K41,Egyéni!$L$3:$L$156,0)","v":6}]
["Frei Bertalan",2011,9.6,135,3.87,91,39.93,103,"00:02:09.900",{"$f":"IF(I42<fiú!$D$2,0,VLOOKUP(I42,hfut,3,TRUE))","v":107},436,{"$f":"RANK(K42,Egyéni!$L$3:$L$156,0)","v":31}]
["Rend Hunor",2011,9.8000000000000007,126,3.85,90,37.51,95,"00:02:01.500",{"$f":"IF(I43<fiú!$D$2,0,VLOOKUP(I43,hfut,3,TRUE))","v":132},443,{"$f":"RANK(K43,Egyéni!$L$3:$L$156,0)","v":25}]
["Reizer Erik Tamás",2010,9.3000000000000007,147,3.97,96,32.590000000000003,80,"00:02:13.600",{"$f":"IF(I44<fiú!$D$2,0,VLOOKUP(I44,hfut,3,TRUE))","v":96},419,{"$f":"RANK(K44,Egyéni!$L$3:$L$156,0)","v":35}]
[]
[]
["PTE Gyakorló Ált. Isk. Szekszárd",null,null,null,null,null,null,null,null,null,null,null,{"$f":"RANK(M49,Csapat!$C$3:P50,0)","v":6}]
["Név","Sz.év","60 m",null,"Távolugrás",null,"Klabdahajítás",null,"600 m",null,"Összpont","Helyezés"]
["Joósz Ákos",2011,9.6,{"$f":"IF(C49<6.19,0,VLOOKUP(C49,rfut,5,TRUE))","v":135},3.97,{"$f":"IF(E49<1.79,0,VLOOKUP(E49,távol,4,TRUE))","v":96},44.82,{"$f":"IF(G49<4,0,VLOOKUP(G49,kisl,2,TRUE))","v":119},"00:02:14.600",{"$f":"IF(I49<fiú!$D$2,0,VLOOKUP(I49,hfut,3,TRUE))","v":94},{"$f":"SUM(D49,F49,H49,J49)","v":444},{"$f":"RANK(K49,Egyéni!$L$3:$L$156,0)","v":24},{"$f":"SUM(K49:K54)-MIN(K49:K54)","v":2227}]
["Vörös Arlen Botond",2010,9.4,143,4.25,110,42.84,112,"00:02:04.600",{"$f":"IF(I50<fiú!$D$2,0,VLOOKUP(I50,hfut,3,TRUE))","v":123},488,{"$f":"RANK(K50,Egyéni!$L$3:$L$156,0)","v":14}]
["Vajda Barnabás",2010,9.6999999999999993,131,3.66,82,36.119999999999997,91,"00:02:01.200",{"$f":"IF(I51<fiú!$D$2,0,VLOOKUP(I51,hfut,3,TRUE))","v":133},437,{"$f":"RANK(K51,Egyéni!$L$3:$L$156,0)","v":30}]
["Végh Hunor",2011,9.6999999999999993,131,3.63,80,33.78,84,"00:02:05.700",{"$f":"IF(I52<fiú!$D$2,0,VLOOKUP(I52,hfut,3,TRUE))","v":120},415,{"$f":"RANK(K52,Egyéni!$L$3:$L$156,0)","v":36}]
["Bakó Mihály",2011,9.3000000000000007,147,4.05,100,36.93,93,"00:02:11.200",{"$f":"IF(I53<fiú!$D$2,0,VLOOKUP(I53,hfut,3,TRUE))","v":103},443,{"$f":"RANK(K53,Egyéni!$L$3:$L$156,0)","v":25}]
["Fülöp György József",2010,null,0,null,0,null,0,null,{"$f":"IF(I54<fiú!$D$2,0,VLOOKUP(I54,hfut,3,TRUE))","v":0},0,{"$f":"RANK(K54,Egyéni!$L$3:$L$156,0)","v":43}]
[]
[]
["Szt. Orsolya Bencés Ált. Isk. Dombóvár",null,null,null,null,null,null,null,null,null,null,null,{"$f":"RANK(M59,Csapat!$C$3:P60,0)","v":3}]
["Név","Sz.év","60 m",null,"Távolugrás",null,"Klabdahajítás",null,"600 m",null,"Összpont","Helyezés"]
["Kutyik-Szabó Károly",2010,9.3000000000000007,{"$f":"IF(C59<6.19,0,VLOOKUP(C59,rfut,5,TRUE))","v":147},4.2,{"$f":"IF(E59<1.79,0,VLOOKUP(E59,távol,4,TRUE))","v":107},37.020000000000003,{"$f":"IF(G59<4,0,VLOOKUP(G59,kisl,2,TRUE))","v":94},"00:01:55.800",{"$f":"IF(I59<fiú!$D$2,0,VLOOKUP(I59,hfut,3,TRUE))","v":150},{"$f":"SUM(D59,F59,H59,J59)","v":498},{"$f":"RANK(K59,Egyéni!$L$3:$L$156,0)","v":13},{"$f":"SUM(K59:K64)-MIN(K59:K64)","v":2447}]
["Lehőcz Zétény",2010,9.3000000000000007,147,3.86,91,33.81,84,"00:02:04.600",{"$f":"IF(I60<fiú!$D$2,0,VLOOKUP(I60,hfut,3,TRUE))","v":123},445,{"$f":"RANK(K60,Egyéni!$L$3:$L$156,0)","v":23}]
["Pataki Gergő",2010,9.1999999999999993,152,4.2,107,42.02,110,"00:01:58.300",{"$f":"IF(I61<fiú!$D$2,0,VLOOKUP(I61,hfut,3,TRUE))","v":142},511,{"$f":"RANK(K61,Egyéni!$L$3:$L$156,0)","v":10}]
["Roósz Balázs",2011,8.9,165,4.07,101,37.880000000000003,96,"00:01:58.600",{"$f":"IF(I62<fiú!$D$2,0,VLOOKUP(I62,hfut,3,TRUE))","v":141},503,{"$f":"RANK(K62,Egyéni!$L$3:$L$156,0)","v":11}]
["Tárnok Marcell",2010,9.1,156,4.13,104,32.33,80,"00:02:00.800",{"$f":"IF(I63<fiú!$D$2,0,VLOOKUP(I63,hfut,3,TRUE))","v":135},475,{"$f":"RANK(K63,Egyéni!$L$3:$L$156,0)","v":17}]
["Benkő Szabolcs",2010,8.9,165,4,97,39.6,102,"00:02:13.600",{"$f":"IF(I64<fiú!$D$2,0,VLOOKUP(I64,hfut,3,TRUE))","v":96},460,{"$f":"RANK(K64,Egyéni!$L$3:$L$156,0)","v":18}]
[]
[]
["Dombóvári József Attila Ált. Isk.",null,null,null,null,null,null,null,null,null,null,null,{"$f":"RANK(M69,Csapat!$C$3:P70,0)","v":8}]
["Név","Sz.év","60 m",null,"Távolugrás",null,"Klabdahajítás",null,"600 m",null,"Összpont","Helyezés"]
["Kuurstra Mike Norbert",null,null,{"$f":"IF(C69<6.19,0,VLOOKUP(C69,rfut,5,TRUE))","v":0},null,{"$f":"IF(E69<1.79,0,VLOOKUP(E69,távol,4,TRUE))","v":0},null,{"$f":"IF(G69<4,0,VLOOKUP(G69,kisl,2,TRUE))","v":0},null,{"$f":"IF(I69<fiú!$D$2,0,VLOOKUP(I69,hfut,3,TRUE))","v":0},{"$f":"SUM(D69,F69,H69,J69)","v":0},{"$f":"RANK(K69,Egyéni!$L$3:$L$156,0)","v":43},{"$f":"SUM(K69:K74)-MIN(K69:K74)","v":0}]
["Szabotin Soma",null,null,0,null,0,null,0,null,{"$f":"IF(I70<fiú!$D$2,0,VLOOKUP(I70,hfut,3,TRUE))","v":0},0,{"$f":"RANK(K70,Egyéni!$L$3:$L$156,0)","v":43}]
["Szabó Albert Zétény",null,null,0,null,0,null,0,null,{"$f":"IF(I71<fiú!$D$2,0,VLOOKUP(I71,hfut,3,TRUE))","v":0},0,{"$f":"RANK(K71,Egyéni!$L$3:$L$156,0)","v":43}]
["Katyi Nimród",null,null,0,null,0,null,0,null,{"$f":"IF(I72<fiú!$D$2,0,VLOOKUP(I72,hfut,3,TRUE))","v":0},0,{"$f":"RANK(K72,Egyéni!$L$3:$L$156,0)","v":43}]
["Várai Bence",null,null,0,null,0,null,0,null,{"$f":"IF(I73<fiú!$D$2,0,VLOOKUP(I73,hfut,3,TRUE))","v":0},0,{"$f":"RANK(K73,Egyéni!$L$3:$L$156,0)","v":43}]
["Csere Dávid",null,null,0,null,0,null,0,null,{"$f":"IF(I74<fiú!$D$2,0,VLOOKUP(I74,hfut,3,TRUE))","v":0},0,{"$f":"RANK(K74,Egyéni!$L$3:$L$156,0)","v":43}]
[]
[]
["Bátaszéki Kanizsai Dorottya Ált. Isk.",null,null,null,null,null,null,null,null,null,null,null,{"$f":"RANK(M79,Csapat!$C$3:P80,0)","v":7}]
["Név","Sz.év","60 m",null,"Távolugrás",null,"Klabdahajítás",null,"600 m",null,"Összpont","Helyezés"]
["Gyulai Brendon Attila",2011,9.5,{"$f":"IF(C79<6.19,0,VLOOKUP(C79,rfut,5,TRUE))","v":139},3.6,{"$f":"IF(E79<1.79,0,VLOOKUP(E79,távol,4,TRUE))","v":79},34.619999999999997,{"$f":"IF(G79<4,0,VLOOKUP(G79,kisl,2,TRUE))","v":87},"00:02:04.100",{"$f":"IF(I79<fiú!$D$2,0,VLOOKUP(I79,hfut,3,TRUE))","v":124},{"$f":"SUM(D79,F79,H79,J79)","v":429},{"$f":"RANK(K79,Egyéni!$L$3:$L$156,0)","v":33},{"$f":"SUM(K79:K84)-MIN(K79:K84)","v":2177}]
["Indrich Krisztián",2011,9.6999999999999993,131,4.03,99,42.18,110,"00:02:11.700",{"$f":"IF(I80<fiú!$D$2,0,VLOOKUP(I80,hfut,3,TRUE))","v":101},441,{"$f":"RANK(K80,Egyéni!$L$3:$L$156,0)","v":27}]
["Fekete Ágoston Imre",2010,9.4,143,3.51,75,35.200000000000003,88,"00:01:58.300",{"$f":"IF(I81<fiú!$D$2,0,VLOOKUP(I81,hfut,3,TRUE))","v":142},448,{"$f":"RANK(K81,Egyéni!$L$3:$L$156,0)","v":22}]
["Liebhauser Áron",2010,9.6999999999999993,131,3.99,97,36.020000000000003,91,"00:02:19.700",{"$f":"IF(I82<fiú!$D$2,0,VLOOKUP(I82,hfut,3,TRUE))","v":81},400,{"$f":"RANK(K82,Egyéni!$L$3:$L$156,0)","v":38}]
["Szabó Patrik",2010,9,161,4.04,99,52.39,144,"00:02:30.100",{"$f":"IF(I83<fiú!$D$2,0,VLOOKUP(I83,hfut,3,TRUE))","v":55},459,{"$f":"RANK(K83,Egyéni!$L$3:$L$156,0)","v":19}]
["Vörös Botond",2011,9.9,122,3.81,89,34.97,88,"00:02:13",{"$f":"IF(I84<fiú!$D$2,0,VLOOKUP(I84,hfut,3,TRUE))","v":98},397,{"$f":"RANK(K84,Egyéni!$L$3:$L$156,0)","v":39}]
[]
[]
["Zombai Általános Iskola",null,null,null,null,null,null,null,null,null,null,null,{"$f":"RANK(M89,Csapat!$C$3:P90,0)","v":5}]
["Név","Sz.év","60 m",null,"Távolugrás",null,"Klabdahajítás",null,"600 m",null,"Összpont","Helyezés"]
["Hoffmann Roland",2010,9.5,{"$f":"IF(C89<6.19,0,VLOOKUP(C89,rfut,5,TRUE))","v":139},3.81,{"$f":"IF(E89<1.79,0,VLOOKUP(E89,távol,4,TRUE))","v":89},32.31,{"$f":"IF(G89<4,0,VLOOKUP(G89,kisl,2,TRUE))","v":80},"00:02:02.400",{"$f":"IF(I89<fiú!$D$2,0,VLOOKUP(I89,hfut,3,TRUE))","v":130},{"$f":"SUM(D89,F89,H89,J89)","v":438},{"$f":"RANK(K89,Egyéni!$L$3:$L$156,0)","v":29},{"$f":"SUM(K89:K94)-MIN(K89:K94)","v":2291}]
["Homoki Dominik",2010,8.6,179,4.88,142,47.81,129,"00:01:54.800",{"$f":"IF(I90<fiú!$D$2,0,VLOOKUP(I90,hfut,3,TRUE))","v":153},603,{"$f":"RANK(K90,Egyéni!$L$3:$L$156,0)","v":4}]
["Márk Levente",2010,9.1999999999999993,152,4.18,106,35.19,88,"00:02:10.800",{"$f":"IF(I91<fiú!$D$2,0,VLOOKUP(I91,hfut,3,TRUE))","v":104},450,{"$f":"RANK(K91,Egyéni!$L$3:$L$156,0)","v":21}]
["Borbély-Kovács Krisztián",2010,9.6,135,3.77,87,33.770000000000003,84,"00:02:11.800",{"$f":"IF(I92<fiú!$D$2,0,VLOOKUP(I92,hfut,3,TRUE))","v":101},407,{"$f":"RANK(K92,Egyéni!$L$3:$L$156,0)","v":37}]
["Trautmann Krisztián",2011,9.3000000000000007,147,3.67,82,32.35,80,"00:02:18.500",{"$f":"IF(I93<fiú!$D$2,0,VLOOKUP(I93,hfut,3,TRUE))","v":84},393,{"$f":"RANK(K93,Egyéni!$L$3:$L$156,0)","v":40}]
["Csiki Attila",2010,9.9,122,3.56,77,30.8,75,"00:02:30.400",{"$f":"IF(I94<fiú!$D$2,0,VLOOKUP(I94,hfut,3,TRUE))","v":54},328,{"$f":"RANK(K94,Egyéni!$L$3:$L$156,0)","v":42}]
[]
[]
["Nagydorogi Széchényi Sándor Ált. Isk.",null,null,null,null,null,null,null,null,null,null,null,{"$f":"RANK(M99,Csapat!$C$3:P100,0)","v":4}]
["Név","Sz.év","60 m",null,"Távolugrás",null,"Klabdahajítás",null,"600 m",null,"Összpont","Helyezés"]
["Dobosi Donát",2010,9.1999999999999993,{"$f":"IF(C99<6.19,0,VLOOKUP(C99,rfut,5,TRUE))","v":152},4.3099999999999996,{"$f":"IF(E99<1.79,0,VLOOKUP(E99,távol,4,TRUE))","v":113},36.26,{"$f":"IF(G99<4,0,VLOOKUP(G99,kisl,2,TRUE))","v":91},"00:02:02.300",{"$f":"IF(I99<fiú!$D$2,0,VLOOKUP(I99,hfut,3,TRUE))","v":130},{"$f":"SUM(D99,F99,H99,J99)","v":486},{"$f":"RANK(K99,Egyéni!$L$3:$L$156,0)","v":16},{"$f":"SUM(K99:K104)-MIN(K99:K104)","v":2298}]
["Kocsis Timon",2010,10.199999999999999,110,3.75,86,30.66,75,"00:02:12.900",{"$f":"IF(I100<fiú!$D$2,0,VLOOKUP(I100,hfut,3,TRUE))","v":98},369,{"$f":"RANK(K100,Egyéni!$L$3:$L$156,0)","v":41}]
["Lendvai Noel",2010,8.6999999999999993,175,4.4000000000000004,118,37.92,96,"00:02:02.100",{"$f":"IF(I101<fiú!$D$2,0,VLOOKUP(I101,hfut,3,TRUE))","v":131},520,{"$f":"RANK(K101,Egyéni!$L$3:$L$156,0)","v":9}]
["Peterdi Zsombor",2010,9.1999999999999993,152,4.1900000000000004,107,18.420000000000002,39,"00:02:04.800",{"$f":"IF(I102<fiú!$D$2,0,VLOOKUP(I102,hfut,3,TRUE))","v":122},420,{"$f":"RANK(K102,Egyéni!$L$3:$L$156,0)","v":34}]
["Rostás Brendon",2011,9.6,135,3.94,95,36.5,92,"00:02:06.100",{"$f":"IF(I103<fiú!$D$2,0,VLOOKUP(I103,hfut,3,TRUE))","v":118},440,{"$f":"RANK(K103,Egyéni!$L$3:$L$156,0)","v":28}]
["Rostás Richárd Gyula",2010,9.6999999999999993,131,3.97,96,37.86,96,"00:02:09.200",{"$f":"IF(I104<fiú!$D$2,0,VLOOKUP(I104,hfut,3,TRUE))","v":109},432,{"$f":"RANK(K104,Egyéni!$L$3:$L$156,0)","v":32}]
[]
[]
[null,null,null,null,null,null,null,null,null,null,null,null,{"$f":"RANK(M109,Csapat!$C$3:P110,0)","v":8}]
["Név","Sz.év","60 m",null,"Távolugrás",null,"Klabdahajítás",null,"600 m",null,"Összpont","Helyezés"]
[null,null,null,{"$f":"IF(C109<6.19,0,VLOOKUP(C109,rfut,5,TRUE))","v":0},null,{"$f":"IF(E109<1.79,0,VLOOKUP(E109,távol,4,TRUE))","v":0},null,{"$f":"IF(G109<4,0,VLOOKUP(G109,kisl,2,TRUE))","v":0},null,{"$f":"IF(I109<fiú!$D$2,0,VLOOKUP(I109,hfut,3,TRUE))","v":0},{"$f":"SUM(D109,F109,H109,J109)","v":0},{"$f":"RANK(K109,Egyéni!$L$3:$L$156,0)","v":43},{"$f":"SUM(K109:K114)-MIN(K109:K114)","v":0}]
[null,null,null,0,null,0,null,0,null,{"$f":"IF(I110<fiú!$D$2,0,VLOOKUP(I110,hfut,3,TRUE))","v":0},0,{"$f":"RANK(K110,Egyéni!$L$3:$L$156,0)","v":43}]
[null,null,null,0,null,0,null,0,null,{"$f":"IF(I111<fiú!$D$2,0,VLOOKUP(I111,hfut,3,TRUE))","v":0},0,{"$f":"RANK(K111,Egyéni!$L$3:$L$156,0)","v":43}]
[null,null,null,0,null,0,null,0,null,{"$f":"IF(I112<fiú!$D$2,0,VLOOKUP(I112,hfut,3,TRUE))","v":0},0,{"$f":"RANK(K112,Egyéni!$L$3:$L$156,0)","v":43}]
[null,null,null,0,null,0,null,0,null,{"$f":"IF(I113<fiú!$D$2,0,VLOOKUP(I113,hfut,3,TRUE))","v":0},0,{"$f":"RANK(K113,Egyéni!$L$3:$L$156,0)","v":43}]
[null,null,null,0,null,0,null,0,null,{"$f":"IF(I114<fiú!$D$2,0,VLOOKUP(I114,hfut,3,TRUE))","v":0},0,{"$f":"RANK(K114,Egyéni!$L$3:$L$156,0)","v":43}]
[]
[]
[null,null,null,null,null,null,null,null,null,null,null,null,{"$f":"RANK(M119,Csapat!$C$3:P120,0)","v":8}]
["Név","Sz.év","60 m",null,"Távolugrás",null,"Klabdahajítás",null,"600 m",null,"Összpont","Helyezés"]
[null,null,null,{"$f":"IF(C119<6.19,0,VLOOKUP(C119,rfut,5,TRUE))","v":0},null,{"$f":"IF(E119<1.79,0,VLOOKUP(E119,távol,4,TRUE))","v":0},null,{"$f":"IF(G119<4,0,VLOOKUP(G119,kisl,2,TRUE))","v":0},null,{"$f":"IF(I119<fiú!$D$2,0,VLOOKUP(I119,hfut,3,TRUE))","v":0},{"$f":"SUM(D119,F119,H119,J119)","v":0},{"$f":"RANK(K119,Egyéni!$L$3:$L$156,0)","v":43},{"$f":"SUM(K119:K124)-MIN(K119:K124)","v":0}]
[null,null,null,0,null,0,null,0,null,{"$f":"IF(I120<fiú!$D$2,0,VLOOKUP(I120,hfut,3,TRUE))","v":0},0,{"$f":"RANK(K120,Egyéni!$L$3:$L$156,0)","v":43}]
[null,null,null,0,null,0,null,0,null,{"$f":"IF(I121<fiú!$D$2,0,VLOOKUP(I121,hfut,3,TRUE))","v":0},0,{"$f":"RANK(K121,Egyéni!$L$3:$L$156,0)","v":43}]
[null,null,null,0,null,0,null,0,null,{"$f":"IF(I122<fiú!$D$2,0,VLOOKUP(I122,hfut,3,TRUE))","v":0},0,{"$f":"RANK(K122,Egyéni!$L$3:$L$156,0)","v":43}]
[null,null,null,0,null,0,null,0,null,{"$f":"IF(I123<fiú!$D$2,0,VLOOKUP(I123,hfut,3,TRUE))","v":0},0,{"$f":"RANK(K123,Egyéni!$L$3:$L$156,0)","v":43}]
[null,null,null,0,null,0,null,0,null,{"$f":"IF(I124<fiú!$D$2,0,VLOOKUP(I124,hfut,3,TRUE))","v":0},0,{"$f":"RANK(K124,Egyéni!$L$3:$L$156,0)","v":43}]
[]
[]
[null,null,null,null,null,null,null,null,null,null,null,null,{"$f":"RANK(M129,Csapat!$C$3:P130,0)","v":8}]
["Név","Sz.év","60 m",null,"Távolugrás",null,"Klabdahajítás",null,"600 m",null,"Összpont","Helyezés"]
[null,null,null,{"$f":"IF(C129<6.19,0,VLOOKUP(C129,rfut,5,TRUE))","v":0},null,{"$f":"IF(E129<1.79,0,VLOOKUP(E129,távol,4,TRUE))","v":0},null,{"$f":"IF(G129<4,0,VLOOKUP(G129,kisl,2,TRUE))","v":0},null,{"$f":"IF(I129<fiú!$D$2,0,VLOOKUP(I129,hfut,3,TRUE))","v":0},{"$f":"SUM(D129,F129,H129,J129)","v":0},{"$f":"RANK(K129,Egyéni!$L$3:$L$156,0)","v":43},{"$f":"SUM(K129:K134)-MIN(K129:K134)","v":0}]
[null,null,null,0,null,0,null,0,null,{"$f":"IF(I130<fiú!$D$2,0,VLOOKUP(I130,hfut,3,TRUE))","v":0},0,{"$f":"RANK(K130,Egyéni!$L$3:$L$156,0)","v":43}]
[null,null,null,0,null,0,null,0,null,{"$f":"IF(I131<fiú!$D$2,0,VLOOKUP(I131,hfut,3,TRUE))","v":0},0,{"$f":"RANK(K131,Egyéni!$L$3:$L$156,0)","v":43}]
[null,null,null,0,null,0,null,0,null,{"$f":"IF(I132<fiú!$D$2,0,VLOOKUP(I132,hfut,3,TRUE))","v":0},0,{"$f":"RANK(K132,Egyéni!$L$3:$L$156,0)","v":43}]
[null,null,null,0,null,0,null,0,null,{"$f":"IF(I133<fiú!$D$2,0,VLOOKUP(I133,hfut,3,TRUE))","v":0},0,{"$f":"RANK(K133,Egyéni!$L$3:$L$156,0)","v":43}]
[null,null,null,0,null,0,null,0,null,{"$f":"IF(I134<fiú!$D$2,0,VLOOKUP(I134,hfut,3,TRUE))","v":0},0,{"$f":"RANK(K134,Egyéni!$L$3:$L$156,0)","v":43}]
[]
[]
[null,null,null,null,null,null,null,null,null,null,null,null,{"$f":"RANK(M139,Csapat!$C$3:P140,0)","v":8}]
["Név","Sz.év","60 m",null,"Távolugrás",null,"Klabdahajítás",null,"600 m",null,"Összpont","Helyezés"]
[null,null,null,{"$f":"IF(C139<6.19,0,VLOOKUP(C139,rfut,5,TRUE))","v":0},null,{"$f":"IF(E139<1.79,0,VLOOKUP(E139,távol,4,TRUE))","v":0},null,{"$f":"IF(G139<4,0,VLOOKUP(G139,kisl,2,TRUE))","v":0},null,{"$f":"IF(I139<fiú!$D$2,0,VLOOKUP(I139,hfut,3,TRUE))","v":0},{"$f":"SUM(D139,F139,H139,J139)","v":0},{"$f":"RANK(K139,Egyéni!$L$3:$L$156,0)","v":43},{"$f":"SUM(K139:K144)-MIN(K139:K144)","v":0}]
[null,null,null,0,null,0,null,0,null,{"$f":"IF(I140<fiú!$D$2,0,VLOOKUP(I140,hfut,3,TRUE))","v":0},0,{"$f":"RANK(K140,Egyéni!$L$3:$L$156,0)","v":43}]
[null,null,null,0,null,0,null,0,null,{"$f":"IF(I141<fiú!$D$2,0,VLOOKUP(I141,hfut,3,TRUE))","v":0},0,{"$f":"RANK(K141,Egyéni!$L$3:$L$156,0)","v":43}]
[null,null,null,0,null,0,null,0,null,{"$f":"IF(I142<fiú!$D$2,0,VLOOKUP(I142,hfut,3,TRUE))","v":0},0,{"$f":"RANK(K142,Egyéni!$L$3:$L$156,0)","v":43}]
[null,null,null,0,null,0,null,0,null,{"$f":"IF(I143<fiú!$D$2,0,VLOOKUP(I143,hfut,3,TRUE))","v":0},0,{"$f":"RANK(K143,Egyéni!$L$3:$L$156,0)","v":43}]
[null,null,null,0,null,0,null,0,null,{"$f":"IF(I144<fiú!$D$2,0,VLOOKUP(I144,hfut,3,TRUE))","v":0},0,{"$f":"RANK(K144,Egyéni!$L$3:$L$156,0)","v":43}]
[]
[]
[null,null,null,null,null,null,null,null,null,null,null,null,{"$f":"RANK(M149,Csapat!$C$3:P150,0)","v":8}]
["Név","Sz.év","60 m",null,"Távolugrás",null,"Klabdahajítás",null,"600 m",null,"Összpont","Helyezés"]
[null,null,null,{"$f":"IF(C149<6.19,0,VLOOKUP(C149,rfut,5,TRUE))","v":0},null,{"$f":"IF(E149<1.79,0,VLOOKUP(E149,távol,4,TRUE))","v":0},null,{"$f":"IF(G149<4,0,VLOOKUP(G149,kisl,2,TRUE))","v":0},null,{"$f":"IF(I149<fiú!$D$2,0,VLOOKUP(I149,hfut,3,TRUE))","v":0},{"$f":"SUM(D149,F149,H149,J149)","v":0},{"$f":"RANK(K149,Egyéni!$L$3:$L$156,0)","v":43},{"$f":"SUM(K149:K154)-MIN(K149:K154)","v":0}]
[null,null,null,0,null,0,null,0,null,{"$f":"IF(I150<fiú!$D$2,0,VLOOKUP(I150,hfut,3,TRUE))","v":0},0,{"$f":"RANK(K150,Egyéni!$L$3:$L$156,0)","v":43}]
[null,null,null,0,null,0,null,0,null,{"$f":"IF(I151<fiú!$D$2,0,VLOOKUP(I151,hfut,3,TRUE))","v":0},0,{"$f":"RANK(K151,Egyéni!$L$3:$L$156,0)","v":43}]
[null,null,null,0,null,0,null,0,null,{"$f":"IF(I152<fiú!$D$2,0,VLOOKUP(I152,hfut,3,TRUE))","v":0},0,{"$f":"RANK(K152,Egyéni!$L$3:$L$156,0)","v":43}]
[null,null,null,0,null,0,null,0,null,{"$f":"IF(I153<fiú!$D$2,0,VLOOKUP(I153,hfut,3,TRUE))","v":0},0,{"$f":"RANK(K153,Egyéni!$L$3:$L$156,0)","v":43}]
[null,null,null,0,null,0,null,0,null,{"$f":"IF(I154<fiú!$D$2,0,VLOOKUP(I154,hfut,3,TRUE))","v":0},0,{"$f":"RANK(K154,Egyéni!$L$3:$L$156,0)","v":43}]
[]
[]
[null,null,null,null,null,null,null,null,null,null,null,null,{"$f":"RANK(M159,Csapat!$C$3:P160,0)","v":8}]
["Név","Sz.év","60 m",null,"Távolugrás",null,"Klabdahajítás",null,"600 m",null,"Összpont","Helyezés"]
[null,null,null,{"$f":"IF(C159<6.19,0,VLOOKUP(C159,rfut,5,TRUE))","v":0},null,{"$f":"IF(E159<1.79,0,VLOOKUP(E159,távol,4,TRUE))","v":0},null,{"$f":"IF(G159<4,0,VLOOKUP(G159,kisl,2,TRUE))","v":0},null,{"$f":"IF(I159<fiú!$D$2,0,VLOOKUP(I159,hfut,3,TRUE))","v":0},{"$f":"SUM(D159,F159,H159,J159)","v":0},{"$f":"RANK(K159,Egyéni!$L$3:$L$156,0)","v":43},{"$f":"SUM(K159:K164)-MIN(K159:K164)","v":0}]
[null,null,null,0,null,0,null,0,null,{"$f":"IF(I160<fiú!$D$2,0,VLOOKUP(I160,hfut,3,TRUE))","v":0},0,{"$f":"RANK(K160,Egyéni!$L$3:$L$156,0)","v":43}]
[null,null,null,0,null,0,null,0,null,{"$f":"IF(I161<fiú!$D$2,0,VLOOKUP(I161,hfut,3,TRUE))","v":0},0,{"$f":"RANK(K161,Egyéni!$L$3:$L$156,0)","v":43}]
[null,null,null,0,null,0,null,0,null,{"$f":"IF(I162<fiú!$D$2,0,VLOOKUP(I162,hfut,3,TRUE))","v":0},0,{"$f":"RANK(K162,Egyéni!$L$3:$L$156,0)","v":43}]
[null,null,null,0,null,0,null,0,null,{"$f":"IF(I163<fiú!$D$2,0,VLOOKUP(I163,hfut,3,TRUE))","v":0},0,{"$f":"RANK(K163,Egyéni!$L$3:$L$156,0)","v":43}]
[null,null,null,0,null,0,null,0,null,{"$f":"IF(I164<fiú!$D$2,0,VLOOKUP(I164,hfut,3,TRUE))","v":0},0,{"$f":"RANK(K164,Egyéni!$L$3:$L$156,0)","v":43}]
[]
[]
[null,null,null,null,null,null,null,null,null,null,null,null,{"$f":"RANK(M169,Csapat!$C$3:P170,0)","v":8}]
["Név","Sz.év","60 m",null,"Távolugrás",null,"Klabdahajítás",null,"600 m",null,"Összpont","Helyezés"]
[null,null,null,{"$f":"IF(C169<6.19,0,VLOOKUP(C169,rfut,5,TRUE))","v":0},null,{"$f":"IF(E169<1.79,0,VLOOKUP(E169,távol,4,TRUE))","v":0},null,{"$f":"IF(G169<4,0,VLOOKUP(G169,kisl,2,TRUE))","v":0},null,{"$f":"IF(I169<fiú!$D$2,0,VLOOKUP(I169,hfut,3,TRUE))","v":0},{"$f":"SUM(D169,F169,H169,J169)","v":0},{"$f":"RANK(K169,Egyéni!$L$3:$L$156,0)","v":43},{"$f":"SUM(K169:K174)-MIN(K169:K174)","v":0}]
[null,null,null,0,null,0,null,0,null,{"$f":"IF(I170<fiú!$D$2,0,VLOOKUP(I170,hfut,3,TRUE))","v":0},0,{"$f":"RANK(K170,Egyéni!$L$3:$L$156,0)","v":43}]
[null,null,null,0,null,0,null,0,null,{"$f":"IF(I171<fiú!$D$2,0,VLOOKUP(I171,hfut,3,TRUE))","v":0},0,{"$f":"RANK(K171,Egyéni!$L$3:$L$156,0)","v":43}]
[null,null,null,0,null,0,null,0,null,{"$f":"IF(I172<fiú!$D$2,0,VLOOKUP(I172,hfut,3,TRUE))","v":0},0,{"$f":"RANK(K172,Egyéni!$L$3:$L$156,0)","v":43}]
[null,null,null,0,null,0,null,0,null,{"$f":"IF(I173<fiú!$D$2,0,VLOOKUP(I173,hfut,3,TRUE))","v":0},0,{"$f":"RANK(K173,Egyéni!$L$3:$L$156,0)","v":43}]
[null,null,null,0,null,0,null,0,null,{"$f":"IF(I174<fiú!$D$2,0,VLOOKUP(I174,hfut,3,TRUE))","v":0},0,{"$f":"RANK(K174,Egyéni!$L$3:$L$156,0)","v":43}]
[]
[]
[null,null,null,null,null,null,null,null,null,null,null,null,{"$f":"RANK(M179,Csapat!$C$3:P180,0)","v":8}]
["Név","Sz.év","60 m",null,"Távolugrás",null,"Klabdahajítás",null,"600 m",null,"Összpont","Helyezés"]
[null,null,null,{"$f":"IF(C179<6.19,0,VLOOKUP(C179,rfut,5,TRUE))","v":0},null,{"$f":"IF(E179<1.79,0,VLOOKUP(E179,távol,4,TRUE))","v":0},null,{"$f":"IF(G179<4,0,VLOOKUP(G179,kisl,2,TRUE))","v":0},null,{"$f":"IF(I179<fiú!$D$2,0,VLOOKUP(I179,hfut,3,TRUE))","v":0},{"$f":"SUM(D179,F179,H179,J179)","v":0},{"$f":"RANK(K179,Egyéni!$L$3:$L$156,0)","v":43},{"$f":"SUM(K179:K184)-MIN(K179:K184)","v":0}]
[null,null,null,0,null,0,null,0,null,{"$f":"IF(I180<fiú!$D$2,0,VLOOKUP(I180,hfut,3,TRUE))","v":0},0,{"$f":"RANK(K180,Egyéni!$L$3:$L$156,0)","v":43}]
[null,null,null,0,null,0,null,0,null,{"$f":"IF(I181<fiú!$D$2,0,VLOOKUP(I181,hfut,3,TRUE))","v":0},0,{"$f":"RANK(K181,Egyéni!$L$3:$L$156,0)","v":43}]
[null,null,null,0,null,0,null,0,null,{"$f":"IF(I182<fiú!$D$2,0,VLOOKUP(I182,hfut,3,TRUE))","v":0},0,{"$f":"RANK(K182,Egyéni!$L$3:$L$156,0)","v":43}]
[null,null,null,0,null,0,null,0,null,{"$f":"IF(I183<fiú!$D$2,0,VLOOKUP(I183,hfut,3,TRUE))","v":0},0,{"$f":"RANK(K183,Egyéni!$L$3:$L$156,0)","v":43}]
[null,null,null,0,null,0,null,0,null,{"$f":"IF(I184<fiú!$D$2,0,VLOOKUP(I184,hfut,3,TRUE))","v":0},0,{"$f":"RANK(K184,Egyéni!$L$3:$L$156,0)","v":43}]
[]
[]
[null,null,null,null,null,null,null,null,null,null,null,null,{"$f":"RANK(M189,Csapat!$C$3:P190,0)","v":8}]
["Név","Sz.év","60 m",null,"Távolugrás",null,"Klabdahajítás",null,"600 m",null,"Összpont","Helyezés"]
[null,null,null,{"$f":"IF(C189<6.19,0,VLOOKUP(C189,rfut,5,TRUE))","v":0},null,{"$f":"IF(E189<1.79,0,VLOOKUP(E189,távol,4,TRUE))","v":0},null,{"$f":"IF(G189<4,0,VLOOKUP(G189,kisl,2,TRUE))","v":0},null,{"$f":"IF(I189<fiú!$D$2,0,VLOOKUP(I189,hfut,3,TRUE))","v":0},{"$f":"SUM(D189,F189,H189,J189)","v":0},{"$f":"RANK(K189,Egyéni!$L$3:$L$156,0)","v":43},{"$f":"SUM(K189:K194)-MIN(K189:K194)","v":0}]
[null,null,null,0,null,0,null,0,null,{"$f":"IF(I190<fiú!$D$2,0,VLOOKUP(I190,hfut,3,TRUE))","v":0},0,{"$f":"RANK(K190,Egyéni!$L$3:$L$156,0)","v":43}]
[null,null,null,0,null,0,null,0,null,{"$f":"IF(I191<fiú!$D$2,0,VLOOKUP(I191,hfut,3,TRUE))","v":0},0,{"$f":"RANK(K191,Egyéni!$L$3:$L$156,0)","v":43}]
[null,null,null,0,null,0,null,0,null,{"$f":"IF(I192<fiú!$D$2,0,VLOOKUP(I192,hfut,3,TRUE))","v":0},0,{"$f":"RANK(K192,Egyéni!$L$3:$L$156,0)","v":43}]
[null,null,null,0,null,0,null,0,null,{"$f":"IF(I193<fiú!$D$2,0,VLOOKUP(I193,hfut,3,TRUE))","v":0},0,{"$f":"RANK(K193,Egyéni!$L$3:$L$156,0)","v":43}]
[null,null,null,0,null,0,null,0,null,{"$f":"IF(I194<fiú!$D$2,0,VLOOKUP(I194,hfut,3,TRUE))","v":0},0,{"$f":"RANK(K194,Egyéni!$L$3:$L$156,0)","v":43}]
[]
[]
[null,null,null,null,null,null,null,null,null,null,null,null,{"$f":"RANK(M199,Csapat!$C$3:P200,0)","v":8}]
["Név","Sz.év","60 m",null,"Távolugrás",null,"Klabdahajítás",null,"600 m",null,"Összpont","Helyezés"]
[null,null,null,{"$f":"IF(C199<6.19,0,VLOOKUP(C199,rfut,5,TRUE))","v":0},null,{"$f":"IF(E199<1.79,0,VLOOKUP(E199,távol,4,TRUE))","v":0},null,{"$f":"IF(G199<4,0,VLOOKUP(G199,kisl,2,TRUE))","v":0},null,{"$f":"IF(I199<fiú!$D$2,0,VLOOKUP(I199,hfut,3,TRUE))","v":0},{"$f":"SUM(D199,F199,H199,J199)","v":0},{"$f":"RANK(K199,Egyéni!$L$3:$L$156,0)","v":43},{"$f":"SUM(K199:K204)-MIN(K199:K204)","v":0}]
[null,null,null,0,null,0,null,0,null,{"$f":"IF(I200<fiú!$D$2,0,VLOOKUP(I200,hfut,3,TRUE))","v":0},0,{"$f":"RANK(K200,Egyéni!$L$3:$L$156,0)","v":43}]
[null,null,null,0,null,0,null,0,null,{"$f":"IF(I201<fiú!$D$2,0,VLOOKUP(I201,hfut,3,TRUE))","v":0},0,{"$f":"RANK(K201,Egyéni!$L$3:$L$156,0)","v":43}]
[null,null,null,0,null,0,null,0,null,{"$f":"IF(I202<fiú!$D$2,0,VLOOKUP(I202,hfut,3,TRUE))","v":0},0,{"$f":"RANK(K202,Egyéni!$L$3:$L$156,0)","v":43}]
[null,null,null,0,null,0,null,0,null,{"$f":"IF(I203<fiú!$D$2,0,VLOOKUP(I203,hfut,3,TRUE))","v":0},0,{"$f":"RANK(K203,Egyéni!$L$3:$L$156,0)","v":43}]
[null,null,null,0,null,0,null,0,null,{"$f":"IF(I204<fiú!$D$2,0,VLOOKUP(I204,hfut,3,TRUE))","v":0},0,{"$f":"RANK(K204,Egyéni!$L$3:$L$156,0)","v":43}]
[]
[]
[null,null,null,null,null,null,null,null,null,null,null,null,{"$f":"RANK(M209,Csapat!$C$3:P210,0)","v":8}]
["Név","Sz.év","60 m",null,"Távolugrás",null,"Klabdahajítás",null,"600 m",null,"Összpont","Helyezés"]
[null,null,null,{"$f":"IF(C209<6.19,0,VLOOKUP(C209,rfut,5,TRUE))","v":0},null,{"$f":"IF(E209<1.79,0,VLOOKUP(E209,távol,4,TRUE))","v":0},null,{"$f":"IF(G209<4,0,VLOOKUP(G209,kisl,2,TRUE))","v":0},null,{"$f":"IF(I209<fiú!$D$2,0,VLOOKUP(I209,hfut,3,TRUE))","v":0},{"$f":"SUM(D209,F209,H209,J209)","v":0},{"$f":"RANK(K209,Egyéni!$L$3:$L$156,0)","v":43},{"$f":"SUM(K209:K214)-MIN(K209:K214)","v":0}]
[null,null,null,0,null,0,null,0,null,{"$f":"IF(I210<fiú!$D$2,0,VLOOKUP(I210,hfut,3,TRUE))","v":0},0,{"$f":"RANK(K210,Egyéni!$L$3:$L$156,0)","v":43}]
[null,null,null,0,null,0,null,0,null,{"$f":"IF(I211<fiú!$D$2,0,VLOOKUP(I211,hfut,3,TRUE))","v":0},0,{"$f":"RANK(K211,Egyéni!$L$3:$L$156,0)","v":43}]
[null,null,null,0,null,0,null,0,null,{"$f":"IF(I212<fiú!$D$2,0,VLOOKUP(I212,hfut,3,TRUE))","v":0},0,{"$f":"RANK(K212,Egyéni!$L$3:$L$156,0)","v":43}]
[null,null,null,0,null,0,null,0,null,{"$f":"IF(I213<fiú!$D$2,0,VLOOKUP(I213,hfut,3,TRUE))","v":0},0,{"$f":"RANK(K213,Egyéni!$L$3:$L$156,0)","v":43}]
[null,null,null,0,null,0,null,0,null,{"$f":"IF(I214<fiú!$D$2,0,VLOOKUP(I214,hfut,3,TRUE))","v":0},0,{"$f":"RANK(K214,Egyéni!$L$3:$L$156,0)","v":43}]
[]
[]
[null,null,null,null,null,null,null,null,null,null,null,null,{"$f":"RANK(M219,Csapat!$C$3:P220,0)","v":8}]
["Név","Sz.év","60 m",null,"Távolugrás",null,"Klabdahajítás",null,"600 m",null,"Összpont","Helyezés"]
[null,null,null,{"$f":"IF(C219<6.19,0,VLOOKUP(C219,rfut,5,TRUE))","v":0},null,{"$f":"IF(E219<1.79,0,VLOOKUP(E219,távol,4,TRUE))","v":0},null,{"$f":"IF(G219<4,0,VLOOKUP(G219,kisl,2,TRUE))","v":0},null,{"$f":"IF(I219<fiú!$D$2,0,VLOOKUP(I219,hfut,3,TRUE))","v":0},{"$f":"SUM(D219,F219,H219,J219)","v":0},{"$f":"RANK(K219,Egyéni!$L$3:$L$156,0)","v":43},{"$f":"SUM(K219:K224)-MIN(K219:K224)","v":0}]
[null,null,null,0,null,0,null,0,null,{"$f":"IF(I220<fiú!$D$2,0,VLOOKUP(I220,hfut,3,TRUE))","v":0},0,{"$f":"RANK(K220,Egyéni!$L$3:$L$156,0)","v":43}]
[null,null,null,0,null,0,null,0,null,{"$f":"IF(I221<fiú!$D$2,0,VLOOKUP(I221,hfut,3,TRUE))","v":0},0,{"$f":"RANK(K221,Egyéni!$L$3:$L$156,0)","v":43}]
[null,null,null,0,null,0,null,0,null,{"$f":"IF(I222<fiú!$D$2,0,VLOOKUP(I222,hfut,3,TRUE))","v":0},0,{"$f":"RANK(K222,Egyéni!$L$3:$L$156,0)","v":43}]
[null,null,null,0,null,0,null,0,null,{"$f":"IF(I223<fiú!$D$2,0,VLOOKUP(I223,hfut,3,TRUE))","v":0},0,{"$f":"RANK(K223,Egyéni!$L$3:$L$156,0)","v":43}]
[null,null,null,0,null,0,null,0,null,{"$f":"IF(I224<fiú!$D$2,0,VLOOKUP(I224,hfut,3,TRUE))","v":0},0,{"$f":"RANK(K224,Egyéni!$L$3:$L$156,0)","v":43}]
[]
[]
[null,null,null,null,null,null,null,null,null,null,null,null,{"$f":"RANK(M229,Csapat!$C$3:P230,0)","v":8}]
["Név","Sz.év","60 m",null,"Távolugrás",null,"Klabdahajítás",null,"600 m",null,"Összpont","Helyezés"]
[null,null,null,{"$f":"IF(C229<6.19,0,VLOOKUP(C229,rfut,5,TRUE))","v":0},null,{"$f":"IF(E229<1.79,0,VLOOKUP(E229,távol,4,TRUE))","v":0},null,{"$f":"IF(G229<4,0,VLOOKUP(G229,kisl,2,TRUE))","v":0},null,{"$f":"IF(I229<fiú!$D$2,0,VLOOKUP(I229,hfut,3,TRUE))","v":0},{"$f":"SUM(D229,F229,H229,J229)","v":0},{"$f":"RANK(K229,Egyéni!$L$3:$L$156,0)","v":43},{"$f":"SUM(K229:K234)-MIN(K229:K234)","v":0}]
[null,null,null,0,null,0,null,0,null,{"$f":"IF(I230<fiú!$D$2,0,VLOOKUP(I230,hfut,3,TRUE))","v":0},0,{"$f":"RANK(K230,Egyéni!$L$3:$L$156,0)","v":43}]
[null,null,null,0,null,0,null,0,null,{"$f":"IF(I231<fiú!$D$2,0,VLOOKUP(I231,hfut,3,TRUE))","v":0},0,{"$f":"RANK(K231,Egyéni!$L$3:$L$156,0)","v":43}]
[null,null,null,0,null,0,null,0,null,{"$f":"IF(I232<fiú!$D$2,0,VLOOKUP(I232,hfut,3,TRUE))","v":0},0,{"$f":"RANK(K232,Egyéni!$L$3:$L$156,0)","v":43}]
[null,null,null,0,null,0,null,0,null,{"$f":"IF(I233<fiú!$D$2,0,VLOOKUP(I233,hfut,3,TRUE))","v":0},0,{"$f":"RANK(K233,Egyéni!$L$3:$L$156,0)","v":43}]
[null,null,null,0,null,0,null,0,null,{"$f":"IF(I234<fiú!$D$2,0,VLOOKUP(I234,hfut,3,TRUE))","v":0},0,{"$f":"RANK(K234,Egyéni!$L$3:$L$156,0)","v":43}]
[]
[]
[null,null,null,null,null,null,null,null,null,null,null,null,{"$f":"RANK(M239,Csapat!$C$3:P240,0)","v":8}]
["Név","Sz.év","60 m",null,"Távolugrás",null,"Klabdahajítás",null,"600 m",null,"Összpont","Helyezés"]
[null,null,null,{"$f":"IF(C239<6.19,0,VLOOKUP(C239,rfut,5,TRUE))","v":0},null,{"$f":"IF(E239<1.79,0,VLOOKUP(E239,távol,4,TRUE))","v":0},null,{"$f":"IF(G239<4,0,VLOOKUP(G239,kisl,2,TRUE))","v":0},null,{"$f":"IF(I239<fiú!$D$2,0,VLOOKUP(I239,hfut,3,TRUE))","v":0},{"$f":"SUM(D239,F239,H239,J239)","v":0},{"$f":"RANK(K239,Egyéni!$L$3:$L$156,0)","v":43},{"$f":"SUM(K239:K244)-MIN(K239:K244)","v":0}]
[null,null,null,0,null,0,null,0,null,{"$f":"IF(I240<fiú!$D$2,0,VLOOKUP(I240,hfut,3,TRUE))","v":0},0,{"$f":"RANK(K240,Egyéni!$L$3:$L$156,0)","v":43}]
[null,null,null,0,null,0,null,0,null,{"$f":"IF(I241<fiú!$D$2,0,VLOOKUP(I241,hfut,3,TRUE))","v":0},0,{"$f":"RANK(K241,Egyéni!$L$3:$L$156,0)","v":43}]
[null,null,null,0,null,0,null,0,null,{"$f":"IF(I242<fiú!$D$2,0,VLOOKUP(I242,hfut,3,TRUE))","v":0},0,{"$f":"RANK(K242,Egyéni!$L$3:$L$156,0)","v":43}]
[null,null,null,0,null,0,null,0,null,{"$f":"IF(I243<fiú!$D$2,0,VLOOKUP(I243,hfut,3,TRUE))","v":0},0,{"$f":"RANK(K243,Egyéni!$L$3:$L$156,0)","v":43}]
[null,null,null,0,null,0,null,0,null,{"$f":"IF(I244<fiú!$D$2,0,VLOOKUP(I244,hfut,3,TRUE))","v":0},0,{"$f":"RANK(K244,Egyéni!$L$3:$L$156,0)","v":43}]

{"sheet":"Egyéni","index":2,"n_rows":156,"n_cols":14,"rows_kept":156,"cut":false,"hidden":false,"merged":[[0,0,0,13]]}
["III. korcsoport FIÚ EGYÉNI végeredmény (Rendezés Ctrl + g )"]
["Ssz","Név","Szév","60 m","p","T","p","kisl","p","600 m","p","Összp",null,"Iskola"]
["1.",{"$f":"Be!A5","v":"Démuth Béla Kevin"},{"$f":"Be!B5","v":2010},{"$f":"Be!C5","v":8.4},{"$f":"Be!D5","v":189},{"$f":"Be!E5","v":4.43},{"$f":"Be!F5","v":119},{"$f":"Be!G5","v":58.37},{"$f":"Be!H5","v":165},{"$f":"Be!I5","v":"00:01:48.800"},{"$f":"Be!J5","v":174},{"$f":"Be!K5","v":647},null,{"$f":"Be!M5","v":"Vak Bottyán Ált. Isk. Pálfa"}]
["2.",{"$f":"Be!A33","v":"Szőts Dávid"},{"$f":"Be!B33","v":2010},{"$f":"Be!C33","v":8.3000000000000007},{"$f":"Be!D33","v":193},{"$f":"Be!E33","v":5.19},{"$f":"Be!F33","v":159},{"$f":"Be!G33","v":42.08},{"$f":"Be!H33","v":110},{"$f":"Be!I33","v":"00:01:49"},{"$f":"Be!J33","v":173},{"$f":"Be!K33","v":635},null,{"$f":"Be!A27","v":"Bonyhádi Általános Iskola"}]
["3.",{"$f":"Be!A32","v":"Markóczi Donát"},{"$f":"Be!B32","v":2010},{"$f":"Be!C32","v":8.1999999999999993},{"$f":"Be!D32","v":198},{"$f":"Be!E32","v":4.42},{"$f":"Be!F32","v":119},{"$f":"Be!G32","v":47.72},{"$f":"Be!H32","v":128},{"$f":"Be!I32","v":"00:01:52.800"},{"$f":"Be!J32","v":160},{"$f":"Be!K32","v":605},null,{"$f":"Be!A27","v":"Bonyhádi Általános Iskola"}]
["4.",{"$f":"Be!A90","v":"Homoki Dominik"},{"$f":"Be!B90","v":2010},{"$f":"Be!C90","v":8.6},{"$f":"Be!D90","v":179},{"$f":"Be!E90","v":4.88},{"$f":"Be!F90","v":142},{"$f":"Be!G90","v":47.81},{"$f":"Be!H90","v":129},{"$f":"Be!I90","v":"00:01:54.800"},{"$f":"Be!J90","v":153},{"$f":"Be!K90","v":603},null,{"$f":"Be!A87","v":"Zombai Általános Iskola"}]
["5.",{"$f":"Be!A31","v":"Magyar Péter József"},{"$f":"Be!B31","v":2010},{"$f":"Be!C31","v":8.5},{"$f":"Be!D31","v":184},{"$f":"Be!E31","v":4.6900000000000004},{"$f":"Be!F31","v":132},{"$f":"Be!G31","v":38.96},{"$f":"Be!H31","v":100},{"$f":"Be!I31","v":"00:01:55.900"},{"$f":"Be!J31","v":149},{"$f":"Be!K31","v":565},null,{"$f":"Be!A27","v":"Bonyhádi Általános Iskola"}]
["6.",{"$f":"Be!A41","v":"Nyisztor Gergely"},{"$f":"Be!B41","v":2010},{"$f":"Be!C41","v":9.4},{"$f":"Be!D41","v":143},{"$f":"Be!E41","v":4.4400000000000004},{"$f":"Be!F41","v":120},{"$f":"Be!G41","v":48.53},{"$f":"Be!H41","v":131},{"$f":"Be!I41","v":"00:01:56.200"},{"$f":"Be!J41","v":149},{"$f":"Be!K41","v":543},null,{"$f":"Be!A37","v":"Szekszárdi Garay János Általános Iskola"}]
["7.",{"$f":"Be!A4","v":"Horváth Ábel"},{"$f":"Be!B4","v":2010},{"$f":"Be!C4","v":9},{"$f":"Be!D4","v":161},{"$f":"Be!E4","v":4.3600000000000003},{"$f":"Be!F4","v":116},{"$f":"Be!G4","v":43.4},{"$f":"Be!H4","v":114},{"$f":"Be!I4","v":"00:01:56.100"},{"$f":"Be!J4","v":149},{"$f":"Be!K4","v":540},null,{"$f":"Be!M4","v":"Dombóvári Illyés Gy. Gimnázium"}]
["8.",{"$f":"Be!A39","v":"Gyenes Kristóf"},{"$f":"Be!B39","v":2010},{"$f":"Be!C39","v":8.4},{"$f":"Be!D39","v":189},{"$f":"Be!E39","v":4.25},{"$f":"Be!F39","v":110},{"$f":"Be!G39","v":40.36},{"$f":"Be!H39","v":104},{"$f":"Be!I39","v":"00:02:01.300"},{"$f":"Be!J39","v":133},{"$f":"Be!K39","v":536},null,{"$f":"Be!A37","v":"Szekszárdi Garay János Általános Iskola"}]
["9.",{"$f":"Be!A101","v":"Lendvai Noel"},{"$f":"Be!B101","v":2010},{"$f":"Be!C101","v":8.6999999999999993},{"$f":"Be!D101","v":175},{"$f":"Be!E101","v":4.4000000000000004},{"$f":"Be!F101","v":118},{"$f":"Be!G101","v":37.92},{"$f":"Be!H101","v":96},{"$f":"Be!I101","v":"00:02:02.100"},{"$f":"Be!J101","v":131},{"$f":"Be!K101","v":520},null,{"$f":"Be!A97","v":"Nagydorogi Széchényi Sándor Ált. Isk."}]
["10.",{"$f":"Be!A61","v":"Pataki Gergő"},{"$f":"Be!B61","v":2010},{"$f":"Be!C61","v":9.1999999999999993},{"$f":"Be!D61","v":152},{"$f":"Be!E61","v":4.2},{"$f":"Be!F61","v":107},{"$f":"Be!G61","v":42.02},{"$f":"Be!H61","v":110},{"$f":"Be!I61","v":"00:01:58.300"},{"$f":"Be!J61","v":142},{"$f":"Be!K61","v":511},null,{"$f":"Be!A57","v":"Szt. Orsolya Bencés Ált. Isk. Dombóvár"}]
["11.",{"$f":"Be!A62","v":"Roósz Balázs"},{"$f":"Be!B62","v":2011},{"$f":"Be!C62","v":8.9},{"$f":"Be!D62","v":165},{"$f":"Be!E62","v":4.07},{"$f":"Be!F62","v":101},{"$f":"Be!G62","v":37.880000000000003},{"$f":"Be!H62","v":96},{"$f":"Be!I62","v":"00:01:58.600"},{"$f":"Be!J62","v":141},{"$f":"Be!K62","v":503},null,{"$f":"Be!A57","v":"Szt. Orsolya Bencés Ált. Isk. Dombóvár"}]
["12.",{"$f":"Be!A40","v":"Gyenes Szilárd"},{"$f":"Be!B40","v":2010},{"$f":"Be!C40","v":8.8000000000000007},{"$f":"Be!D40","v":170},{"$f":"Be!E40","v":4.2},{"$f":"Be!F40","v":107},{"$f":"Be!G40","v":35.340000000000003},{"$f":"Be!H40","v":89},{"$f":"Be!I40","v":"00:02:00.400"},{"$f":"Be!J40","v":136},{"$f":"Be!K40","v":502},null,{"$f":"Be!A37","v":"Szekszárdi Garay János Általános Iskola"}]
["13.",{"$f":"Be!A59","v":"Kutyik-Szabó Károly"},{"$f":"Be!B59","v":2010},{"$f":"Be!C59","v":9.3000000000000007},{"$f":"Be!D59","v":147},{"$f":"Be!E59","v":4.2},{"$f":"Be!F59","v":107},{"$f":"Be!G59","v":37.020000000000003},{"$f":"Be!H59","v":94},{"$f":"Be!I59","v":"00:01:55.800"},{"$f":"Be!J59","v":150},{"$f":"Be!K59","v":498},null,{"$f":"Be!A57","v":"Szt. Orsolya Bencés Ált. Isk. Dombóvár"}]
["14.",{"$f":"Be!A50","v":"Vörös Arlen Botond"},{"$f":"Be!B50","v":2010},{"$f":"Be!C50","v":9.4},{"$f":"Be!D50","v":143},{"$f":"Be!E50","v":4.25},{"$f":"Be!F50","v":110},{"$f":"Be!G50","v":42.84},{"$f":"Be!H50","v":112},{"$f":"Be!I50","v":"00:02:04.600"},{"$f":"Be!J50","v":123},{"$f":"Be!K50","v":488},null,{"$f":"Be!A47","v":"PTE Gyakorló Ált. Isk. Szekszárd"}]
["15.",{"$f":"Be!A30","v":"János Olivér"},{"$f":"Be!B30","v":2011},{"$f":"Be!C30","v":9},{"$f":"Be!D30","v":161},{"$f":"Be!E30","v":3.96},{"$f":"Be!F30","v":96},{"$f":"Be!G30","v":32.590000000000003},{"$f":"Be!H30","v":80},{"$f":"Be!I30","v":"00:01:55.400"},{"$f":"Be!J30","v":151},{"$f":"Be!K30","v":488},null,{"$f":"Be!A27","v":"Bonyhádi Általános Iskola"}]
["16.",{"$f":"Be!A99","v":"Dobosi Donát"},{"$f":"Be!B99","v":2010},{"$f":"Be!C99","v":9.1999999999999993},{"$f":"Be!D99","v":152},{"$f":"Be!E99","v":4.3099999999999996},{"$f":"Be!F99","v":113},{"$f":"Be!G99","v":36.26},{"$f":"Be!H99","v":91},{"$f":"Be!I99","v":"00:02:02.300"},{"$f":"Be!J99","v":130},{"$f":"Be!K99","v":486},null,{"$f":"Be!A97","v":"Nagydorogi Széchényi Sándor Ált. Isk."}]
["17.",{"$f":"Be!A63","v":"Tárnok Marcell"},{"$f":"Be!B63","v":2010},{"$f":"Be!C63","v":9.1},{"$f":"Be!D63","v":156},{"$f":"Be!E63","v":4.13},{"$f":"Be!F63","v":104},{"$f":"Be!G63","v":32.33},{"$f":"Be!H63","v":80},{"$f":"Be!I63","v":"00:02:00.800"},{"$f":"Be!J63","v":135},{"$f":"Be!K63","v":475},null,{"$f":"Be!A57","v":"Szt. Orsolya Bencés Ált. Isk. Dombóvár"}]
["18.",{"$f":"Be!A64","v":"Benkő Szabolcs"},{"$f":"Be!B64","v":2010},{"$f":"Be!C64","v":8.9},{"$f":"Be!D64","v":165},{"$f":"Be!E64","v":4},{"$f":"Be!F64","v":97},{"$f":"Be!G64","v":39.6},{"$f":"Be!H64","v":102},{"$f":"Be!I64","v":"00:02:13.600"},{"$f":"Be!J64","v":96},{"$f":"Be!K64","v":460},null,{"$f":"Be!A57","v":"Szt. Orsolya Bencés Ált. Isk. Dombóvár"}]
["19.",{"$f":"Be!A83","v":"Szabó Patrik"},{"$f":"Be!B83","v":2010},{"$f":"Be!C83","v":9},{"$f":"Be!D83","v":161},{"$f":"Be!E83","v":4.04},{"$f":"Be!F83","v":99},{"$f":"Be!G83","v":52.39},{"$f":"Be!H83","v":144},{"$f":"Be!I83","v":"00:02:30.100"},{"$f":"Be!J83","v":55},{"$f":"Be!K83","v":459},null,{"$f":"Be!A77","v":"Bátaszéki Kanizsai Dorottya Ált. Isk."}]
["20.",{"$f":"Be!A34","v":"Tusa Zétény"},{"$f":"Be!B34","v":2011},{"$f":"Be!C34","v":9.1999999999999993},{"$f":"Be!D34","v":152},{"$f":"Be!E34","v":3.62},{"$f":"Be!F34","v":80},{"$f":"Be!G34","v":32.74},{"$f":"Be!H34","v":81},{"$f":"Be!I34","v":"00:01:57.700"},{"$f":"Be!J34","v":144},{"$f":"Be!K34","v":457},null,{"$f":"Be!A27","v":"Bonyhádi Általános Iskola"}]
["21.",{"$f":"Be!A91","v":"Márk Levente"},{"$f":"Be!B91","v":2010},{"$f":"Be!C91","v":9.1999999999999993},{"$f":"Be!D91","v":152},{"$f":"Be!E91","v":4.18},{"$f":"Be!F91","v":106},{"$f":"Be!G91","v":35.19},{"$f":"Be!H91","v":88},{"$f":"Be!I91","v":"00:02:10.800"},{"$f":"Be!J91","v":104},{"$f":"Be!K91","v":450},null,{"$f":"Be!A87","v":"Zombai Általános Iskola"}]
["22.",{"$f":"Be!A81","v":"Fekete Ágoston Imre"},{"$f":"Be!B81","v":2010},{"$f":"Be!C81","v":9.4},{"$f":"Be!D81","v":143},{"$f":"Be!E81","v":3.51},{"$f":"Be!F81","v":75},{"$f":"Be!G81","v":35.200000000000003},{"$f":"Be!H81","v":88},{"$f":"Be!I81","v":"00:01:58.300"},{"$f":"Be!J81","v":142},{"$f":"Be!K81","v":448},null,{"$f":"Be!A77","v":"Bátaszéki Kanizsai Dorottya Ált. Isk."}]
["23.",{"$f":"Be!A60","v":"Lehőcz Zétény"},{"$f":"Be!B60","v":2010},{"$f":"Be!C60","v":9.3000000000000007},{"$f":"Be!D60","v":147},{"$f":"Be!E60","v":3.86},{"$f":"Be!F60","v":91},{"$f":"Be!G60","v":33.81},{"$f":"Be!H60","v":84},{"$f":"Be!I60","v":"00:02:04.600"},{"$f":"Be!J60","v":123},{"$f":"Be!K60","v":445},null,{"$f":"Be!A57","v":"Szt. Orsolya Bencés Ált. Isk. Dombóvár"}]
["24.",{"$f":"Be!A49","v":"Joósz Ákos"},{"$f":"Be!B49","v":2011},{"$f":"Be!C49","v":9.6},{"$f":"Be!D49","v":135},{"$f":"Be!E49","v":3.97},{"$f":"Be!F49","v":96},{"$f":"Be!G49","v":44.82},{"$f":"Be!H49","v":119},{"$f":"Be!I49","v":"00:02:14.600"},{"$f":"Be!J49","v":94},{"$f":"Be!K49","v":444},null,{"$f":"Be!A47","v":"PTE Gyakorló Ált. Isk. Szekszárd"}]
["25.",{"$f":"Be!A53","v":"Bakó Mihály"},{"$f":"Be!B53","v":2011},{"$f":"Be!C53","v":9.3000000000000007},{"$f":"Be!D53","v":147},{"$f":"Be!E53","v":4.05},{"$f":"Be!F53","v":100},{"$f":"Be!G53","v":36.93},{"$f":"Be!H53","v":93},{"$f":"Be!I53","v":"00:02:11.200"},{"$f":"Be!J53","v":103},{"$f":"Be!K53","v":443},null,{"$f":"Be!A47","v":"PTE Gyakorló Ált. Isk. Szekszárd"}]
["26.",{"$f":"Be!A43","v":"Rend Hunor"},{"$f":"Be!B43","v":2011},{"$f":"Be!C43","v":9.8000000000000007},{"$f":"Be!D43","v":126},{"$f":"Be!E43","v":3.85},{"$f":"Be!F43","v":90},{"$f":"Be!G43","v":37.51},{"$f":"Be!H43","v":95},{"$f":"Be!I43","v":"00:02:01.500"},{"$f":"Be!J43","v":132},{"$f":"Be!K43","v":443},null,{"$f":"Be!A37","v":"Szekszárdi Garay János Általános Iskola"}]
["27.",{"$f":"Be!A80","v":"Indrich Krisztián"},{"$f":"Be!B80","v":2011},{"$f":"Be!C80","v":9.6999999999999993},{"$f":"Be!D80","v":131},{"$f":"Be!E80","v":4.03},{"$f":"Be!F80","v":99},{"$f":"Be!G80","v":42.18},{"$f":"Be!H80","v":110},{"$f":"Be!I80","v":"00:02:11.700"},{"$f":"Be!J80","v":101},{"$f":"Be!K80","v":441},null,{"$f":"Be!A77","v":"Bátaszéki Kanizsai Dorottya Ált. Isk."}]
["28.",{"$f":"Be!A103","v":"Rostás Brendon"},{"$f":"Be!B103","v":2011},{"$f":"Be!C103","v":9.6},{"$f":"Be!D103","v":135},{"$f":"Be!E103","v":3.94},{"$f":"Be!F103","v":95},{"$f":"Be!G103","v":36.5},{"$f":"Be!H103","v":92},{"$f":"Be!I103","v":"00:02:06.100"},{"$f":"Be!J103","v":118},{"$f":"Be!K103","v":440},null,{"$f":"Be!A97","v":"Nagydorogi Széchényi Sándor Ált. Isk."}]
["29.",{"$f":"Be!A89","v":"Hoffmann Roland"},{"$f":"Be!B89","v":2010},{"$f":"Be!C89","v":9.5},{"$f":"Be!D89","v":139},{"$f":"Be!E89","v":3.81},{"$f":"Be!F89","v":89},{"$f":"Be!G89","v":32.31},{"$f":"Be!H89","v":80},{"$f":"Be!I89","v":"00:02:02.400"},{"$f":"Be!J89","v":130},{"$f":"Be!K89","v":438},null,{"$f":"Be!A87","v":"Zombai Általános Iskola"}]
["30.",{"$f":"Be!A51","v":"Vajda Barnabás"},{"$f":"Be!B51","v":2010},{"$f":"Be!C51","v":9.6999999999999993},{"$f":"Be!D51","v":131},{"$f":"Be!E51","v":3.66},{"$f":"Be!F51","v":82},{"$f":"Be!G51","v":36.119999999999997},{"$f":"Be!H51","v":91},{"$f":"Be!I51","v":"00:02:01.200"},{"$f":"Be!J51","v":133},{"$f":"Be!K51","v":437},null,{"$f":"Be!A47","v":"PTE Gyakorló Ált. Isk. Szekszárd"}]
["31.",{"$f":"Be!A42","v":"Frei Bertalan"},{"$f":"Be!B42","v":2011},{"$f":"Be!C42","v":9.6},{"$f":"Be!D42","v":135},{"$f":"Be!E42","v":3.87},{"$f":"Be!F42","v":91},{"$f":"Be!G42","v":39.93},{"$f":"Be!H42","v":103},{"$f":"Be!I42","v":"00:02:09.900"},{"$f":"Be!J42","v":107},{"$f":"Be!K42","v":436},null,{"$f":"Be!A37","v":"Szekszárdi Garay János Általános Iskola"}]
["32.",{"$f":"Be!A104","v":"Rostás Richárd Gyula"},{"$f":"Be!B104","v":2010},{"$f":"Be!C104","v":9.6999999999999993},{"$f":"Be!D104","v":131},{"$f":"Be!E104","v":3.97},{"$f":"Be!F104","v":96},{"$f":"Be!G104","v":37.86},{"$f":"Be!H104","v":96},{"$f":"Be!I104","v":"00:02:09.200"},{"$f":"Be!J104","v":109},{"$f":"Be!K104","v":432},null,{"$f":"Be!A97","v":"Nagydorogi Széchényi Sándor Ált. Isk."}]
["33.",{"$f":"Be!A79","v":"Gyulai Brendon Attila"},{"$f":"Be!B79","v":2011},{"$f":"Be!C79","v":9.5},{"$f":"Be!D79","v":139},{"$f":"Be!E79","v":3.6},{"$f":"Be!F79","v":79},{"$f":"Be!G79","v":34.619999999999997},{"$f":"Be!H79","v":87},{"$f":"Be!I79","v":"00:02:04.100"},{"$f":"Be!J79","v":124},{"$f":"Be!K79","v":429},null,{"$f":"Be!A77","v":"Bátaszéki Kanizsai Dorottya Ált. Isk."}]
["34.",{"$f":"Be!A102","v":"Peterdi Zsombor"},{"$f":"Be!B102","v":2010},{"$f":"Be!C102","v":9.1999999999999993},{"$f":"Be!D102","v":152},{"$f":"Be!E102","v":4.1900000000000004},{"$f":"Be!F102","v":107},{"$f":"Be!G102","v":18.420000000000002},{"$f":"Be!H102","v":39},{"$f":"Be!I102","v":"00:02:04.800"},{"$f":"Be!J102","v":122},{"$f":"Be!K102","v":420},null,{"$f":"Be!A97","v":"Nagydorogi Széchényi Sándor Ált. Isk."}]
["35.",{"$f":"Be!A44","v":"Reizer Erik Tamás"},{"$f":"Be!B44","v":2010},{"$f":"Be!C44","v":9.3000000000000007},{"$f":"Be!D44","v":147},{"$f":"Be!E44","v":3.97},{"$f":"Be!F44","v":96},{"$f":"Be!G44","v":32.590000000000003},{"$f":"Be!H44","v":80},{"$f":"Be!I44","v":"00:02:13.600"},{"$f":"Be!J44","v":96},{"$f":"Be!K44","v":419},null,{"$f":"Be!A37","v":"Szekszárdi Garay János Általános Iskola"}]
["36.",{"$f":"Be!A52","v":"Végh Hunor"},{"$f":"Be!B52","v":2011},{"$f":"Be!C52","v":9.6999999999999993},{"$f":"Be!D52","v":131},{"$f":"Be!E52","v":3.63},{"$f":"Be!F52","v":80},{"$f":"Be!G52","v":33.78},{"$f":"Be!H52","v":84},{"$f":"Be!I52","v":"00:02:05.700"},{"$f":"Be!J52","v":120},{"$f":"Be!K52","v":415},null,{"$f":"Be!A47","v":"PTE Gyakorló Ált. Isk. Szekszárd"}]
["37.",{"$f":"Be!A92","v":"Borbély-Kovács Krisztián"},{"$f":"Be!B92","v":2010},{"$f":"Be!C92","v":9.6},{"$f":"Be!D92","v":135},{"$f":"Be!E92","v":3.77},{"$f":"Be!F92","v":87},{"$f":"Be!G92","v":33.770000000000003},{"$f":"Be!H92","v":84},{"$f":"Be!I92","v":"00:02:11.800"},{"$f":"Be!J92","v":101},{"$f":"Be!K92","v":407},null,{"$f":"Be!A87","v":"Zombai Általános Iskola"}]
["38.",{"$f":"Be!A82","v":"Liebhauser Áron"},{"$f":"Be!B82","v":2010},{"$f":"Be!C82","v":9.6999999999999993},{"$f":"Be!D82","v":131},{"$f":"Be!E82","v":3.99},{"$f":"Be!F82","v":97},{"$f":"Be!G82","v":36.020000000000003},{"$f":"Be!H82","v":91},{"$f":"Be!I82","v":"00:02:19.700"},{"$f":"Be!J82","v":81},{"$f":"Be!K82","v":400},null,{"$f":"Be!A77","v":"Bátaszéki Kanizsai Dorottya Ált. Isk."}]
["39.",{"$f":"Be!A84","v":"Vörös Botond"},{"$f":"Be!B84","v":2011},{"$f":"Be!C84","v":9.9},{"$f":"Be!D84","v":122},{"$f":"Be!E84","v":3.81},{"$f":"Be!F84","v":89},{"$f":"Be!G84","v":34.97},{"$f":"Be!H84","v":88},{"$f":"Be!I84","v":"00:02:13"},{"$f":"Be!J84","v":98},{"$f":"Be!K84","v":397},null,{"$f":"Be!A77","v":"Bátaszéki Kanizsai Dorottya Ált. Isk."}]
["40.",{"$f":"Be!A93","v":"Trautmann Krisztián"},{"$f":"Be!B93","v":2011},{"$f":"Be!C93","v":9.3000000000000007},{"$f":"Be!D93","v":147},{"$f":"Be!E93","v":3.67},{"$f":"Be!F93","v":82},{"$f":"Be!G93","v":32.35},{"$f":"Be!H93","v":80},{"$f":"Be!I93","v":"00:02:18.500"},{"$f":"Be!J93","v":84},{"$f":"Be!K93","v":393},null,{"$f":"Be!A87","v":"Zombai Általános Iskola"}]
["41.",{"$f":"Be!A100","v":"Kocsis Timon"},{"$f":"Be!B100","v":2010},{"$f":"Be!C100","v":10.199999999999999},{"$f":"Be!D100","v":110},{"$f":"Be!E100","v":3.75},{"$f":"Be!F100","v":86},{"$f":"Be!G100","v":30.66},{"$f":"Be!H100","v":75},{"$f":"Be!I100","v":"00:02:12.900"},{"$f":"Be!J100","v":98},{"$f":"Be!K100","v":369},null,{"$f":"Be!A97","v":"Nagydorogi Széchényi Sándor Ált. Isk."}]
["42.",{"$f":"Be!A94","v":"Csiki Attila"},{"$f":"Be!B94","v":2010},{"$f":"Be!C94","v":9.9},{"$f":"Be!D94","v":122},{"$f":"Be!E94","v":3.56},{"$f":"Be!F94","v":77},{"$f":"Be!G94","v":30.8},{"$f":"Be!H94","v":75},{"$f":"Be!I94","v":"00:02:30.400"},{"$f":"Be!J94","v":54},{"$f":"Be!K94","v":328},null,{"$f":"Be!A87","v":"Zombai Általános Iskola"}]
["43.",{"$f":"Be!A6","v":0},{"$f":"Be!B6","v":0},{"$f":"Be!C6","v":0},{"$f":"Be!D6","v":0},{"$f":"Be!E6","v":0},{"$f":"Be!F6","v":0},{"$f":"Be!G6","v":0},{"$f":"Be!H6","v":0},{"$f":"Be!I6","v":"00:00:00"},{"$f":"Be!J6","v":0},{"$f":"Be!K6","v":0},null,{"$f":"Be!M6","v":0}]
["44.",{"$f":"Be!A7","v":0},{"$f":"Be!B7","v":0},{"$f":"Be!C7","v":0},{"$f":"Be!D7","v":0},{"$f":"Be!E7","v":0},{"$f":"Be!F7","v":0},{"$f":"Be!G7","v":0},{"$f":"Be!H7","v":0},{"$f":"Be!I7","v":"00:00:00"},{"$f":"Be!J7","v":0},{"$f":"Be!K7","v":0},null,{"$f":"Be!M7","v":0}]
["45.",{"$f":"Be!A8","v":0},{"$f":"Be!B8","v":0},{"$f":"Be!C8","v":0},{"$f":"Be!D8","v":0},{"$f":"Be!E8","v":0},{"$f":"Be!F8","v":0},{"$f":"Be!G8","v":0},{"$f":"Be!H8","v":0},{"$f":"Be!I8","v":"00:00:00"},{"$f":"Be!J8","v":0},{"$f":"Be!K8","v":0},null,{"$f":"Be!M8","v":0}]
["46.",{"$f":"Be!A9","v":0},{"$f":"Be!B9","v":0},{"$f":"Be!C9","v":0},{"$f":"Be!D9","v":0},{"$f":"Be!E9","v":0},{"$f":"Be!F9","v":0},{"$f":"Be!G9","v":0},{"$f":"Be!H9","v":0},{"$f":"Be!I9","v":"00:00:00"},{"$f":"Be!J9","v":0},{"$f":"Be!K9","v":0},null,{"$f":"Be!M9","v":0}]
["47.",{"$f":"Be!A10","v":0},{"$f":"Be!B10","v":0},{"$f":"Be!C10","v":0},{"$f":"Be!D10","v":0},{"$f":"Be!E10","v":0},{"$f":"Be!F10","v":0},{"$f":"Be!G10","v":0},{"$f":"Be!H10","v":0},{"$f":"Be!I10","v":"00:00:00"},{"$f":"Be!J10","v":0},{"$f":"Be!K10","v":0},null,{"$f":"Be!M10","v":0}]
["48.",{"$f":"Be!A11","v":0},{"$f":"Be!B11","v":0},{"$f":"Be!C11","v":0},{"$f":"Be!D11","v":0},{"$f":"Be!E11","v":0},{"$f":"Be!F11","v":0},{"$f":"Be!G11","v":0},{"$f":"Be!H11","v":0},{"$f":"Be!I11","v":"00:00:00"},{"$f":"Be!J11","v":0},{"$f":"Be!K11","v":0},null,{"$f":"Be!M11","v":0}]
["49.",{"$f":"Be!A12","v":0},{"$f":"Be!B12","v":0},{"$f":"Be!C12","v":0},{"$f":"Be!D12","v":0},{"$f":"Be!E12","v":0},{"$f":"Be!F12","v":0},{"$f":"Be!G12","v":0},{"$f":"Be!H12","v":0},{"$f":"Be!I12","v":"00:00:00"},{"$f":"Be!J12","v":0},{"$f":"Be!K12","v":0},null,{"$f":"Be!M12","v":0}]
["50.",{"$f":"Be!A13","v":0},{"$f":"Be!B13","v":0},{"$f":"Be!C13","v":0},{"$f":"Be!D13","v":0},{"$f":"Be!E13","v":0},{"$f":"Be!F13","v":0},{"$f":"Be!G13","v":0},{"$f":"Be!H13","v":0},{"$f":"Be!I13","v":"00:00:00"},{"$f":"Be!J13","v":0},{"$f":"Be!K13","v":0},null,{"$f":"Be!M13","v":0}]
["51.",{"$f":"Be!A14","v":0},{"$f":"Be!B14","v":0},{"$f":"Be!C14","v":0},{"$f":"Be!D14","v":0},{"$f":"Be!E14","v":0},{"$f":"Be!F14","v":0},{"$f":"Be!G14","v":0},{"$f":"Be!H14","v":0},{"$f":"Be!I14","v":"00:00:00"},{"$f":"Be!J14","v":0},{"$f":"Be!K14","v":0},null,{"$f":"Be!M14","v":0}]
["52.",{"$f":"Be!A15","v":0},{"$f":"Be!B15","v":0},{"$f":"Be!C15","v":0},{"$f":"Be!D15","v":0},{"$f":"Be!E15","v":0},{"$f":"Be!F15","v":0},{"$f":"Be!G15","v":0},{"$f":"Be!H15","v":0},{"$f":"Be!I15","v":"00:00:00"},{"$f":"Be!J15","v":0},{"$f":"Be!K15","v":0},null,{"$f":"Be!M15","v":0}]
["53.",{"$f":"Be!A16","v":0},{"$f":"Be!B16","v":0},{"$f":"Be!C16","v":0},{"$f":"Be!D16","v":0},{"$f":"Be!E16","v":0},{"$f":"Be!F16","v":0},{"$f":"Be!G16","v":0},{"$f":"Be!H16","v":0},{"$f":"Be!I16","v":"00:00:00"},{"$f":"Be!J16","v":0},{"$f":"Be!K16","v":0},null,{"$f":"Be!M16","v":0}]
["54.",{"$f":"Be!A17","v":0},{"$f":"Be!B17","v":0},{"$f":"Be!C17","v":0},{"$f":"Be!D17","v":0},{"$f":"Be!E17","v":0},{"$f":"Be!F17","v":0},{"$f":"Be!G17","v":0},{"$f":"Be!H17","v":0},{"$f":"Be!I17","v":"00:00:00"},{"$f":"Be!J17","v":0},{"$f":"Be!K17","v":0},null,{"$f":"Be!M17","v":0}]
["55.",{"$f":"Be!A18","v":0},{"$f":"Be!B18","v":0},{"$f":"Be!C18","v":0},{"$f":"Be!D18","v":0},{"$f":"Be!E18","v":0},{"$f":"Be!F18","v":0},{"$f":"Be!G18","v":0},{"$f":"Be!H18","v":0},{"$f":"Be!I18","v":"00:00:00"},{"$f":"Be!J18","v":0},{"$f":"Be!K18","v":0},null,{"$f":"Be!M18","v":0}]
["56.",{"$f":"Be!A19","v":0},{"$f":"Be!B19","v":0},{"$f":"Be!C19","v":0},{"$f":"Be!D19","v":0},{"$f":"Be!E19","v":0},{"$f":"Be!F19","v":0},{"$f":"Be!G19","v":0},{"$f":"Be!H19","v":0},{"$f":"Be!I19","v":"00:00:00"},{"$f":"Be!J19","v":0},{"$f":"Be!K19","v":0},null,{"$f":"Be!M19","v":0}]
["57.",{"$f":"Be!A20","v":0},{"$f":"Be!B20","v":0},{"$f":"Be!C20","v":0},{"$f":"Be!D20","v":0},{"$f":"Be!E20","v":0},{"$f":"Be!F20","v":0},{"$f":"Be!G20","v":0},{"$f":"Be!H20","v":0},{"$f":"Be!I20","v":"00:00:00"},{"$f":"Be!J20","v":0},{"$f":"Be!K20","v":0},null,{"$f":"Be!M20","v":0}]
["58.",{"$f":"Be!A21","v":0},{"$f":"Be!B21","v":0},{"$f":"Be!C21","v":0},{"$f":"Be!D21","v":0},{"$f":"Be!E21","v":0},{"$f":"Be!F21","v":0},{"$f":"Be!G21","v":0},{"$f":"Be!H21","v":0},{"$f":"Be!I21","v":"00:00:00"},{"$f":"Be!J21","v":0},{"$f":"Be!K21","v":0},null,{"$f":"Be!M21","v":0}]
["59.",{"$f":"Be!A22","v":0},{"$f":"Be!B22","v":0},{"$f":"Be!C22","v":0},{"$f":"Be!D22","v":0},{"$f":"Be!E22","v":0},{"$f":"Be!F22","v":0},{"$f":"Be!G22","v":0},{"$f":"Be!H22","v":0},{"$f":"Be!I22","v":"00:00:00"},{"$f":"Be!J22","v":0},{"$f":"Be!K22","v":0},null,{"$f":"Be!M22","v":0}]
["60.",{"$f":"Be!A23","v":0},{"$f":"Be!B23","v":0},{"$f":"Be!C23","v":0},{"$f":"Be!D23","v":0},{"$f":"Be!E23","v":0},{"$f":"Be!F23","v":0},{"$f":"Be!G23","v":0},{"$f":"Be!H23","v":0},{"$f":"Be!I23","v":"00:00:00"},{"$f":"Be!J23","v":0},{"$f":"Be!K23","v":0},null,{"$f":"Be!M23","v":0}]
["61.",{"$f":"Be!A24","v":0},{"$f":"Be!B24","v":0},{"$f":"Be!C24","v":0},{"$f":"Be!D24","v":0},{"$f":"Be!E24","v":0},{"$f":"Be!F24","v":0},{"$f":"Be!G24","v":0},{"$f":"Be!H24","v":0},{"$f":"Be!I24","v":"00:00:00"},{"$f":"Be!J24","v":0},{"$f":"Be!K24","v":0},null,{"$f":"Be!M24","v":0}]
["62.",{"$f":"Be!A25","v":0},{"$f":"Be!B25","v":0},{"$f":"Be!C25","v":0},{"$f":"Be!D25","v":0},{"$f":"Be!E25","v":0},{"$f":"Be!F25","v":0},{"$f":"Be!G25","v":0},{"$f":"Be!H25","v":0},{"$f":"Be!I25","v":"00:00:00"},{"$f":"Be!J25","v":0},{"$f":"Be!K25","v":0},null,{"$f":"Be!M25","v":0}]
["63.",{"$f":"Be!A29","v":"Farkas Botond"},{"$f":"Be!B29","v":2011},{"$f":"Be!C29","v":0},{"$f":"Be!D29","v":0},{"$f":"Be!E29","v":0},{"$f":"Be!F29","v":0},{"$f":"Be!G29","v":0},{"$f":"Be!H29","v":0},{"$f":"Be!I29","v":"00:00:00"},{"$f":"Be!J29","v":0},{"$f":"Be!K29","v":0},null,{"$f":"Be!A27","v":"Bonyhádi Általános Iskola"}]
["64.",{"$f":"Be!A54","v":"Fülöp György József"},{"$f":"Be!B54","v":2010},{"$f":"Be!C54","v":0},{"$f":"Be!D54","v":0},{"$f":"Be!E54","v":0},{"$f":"Be!F54","v":0},{"$f":"Be!G54","v":0},{"$f":"Be!H54","v":0},{"$f":"Be!I54","v":"00:00:00"},{"$f":"Be!J54","v":0},{"$f":"Be!K54","v":0},null,{"$f":"Be!A47","v":"PTE Gyakorló Ált. Isk. Szekszárd"}]
["65.",{"$f":"Be!A69","v":"Kuurstra Mike Norbert"},{"$f":"Be!B69","v":0},{"$f":"Be!C69","v":0},{"$f":"Be!D69","v":0},{"$f":"Be!E69","v":0},{"$f":"Be!F69","v":0},{"$f":"Be!G69","v":0},{"$f":"Be!H69","v":0},{"$f":"Be!I69","v":"00:00:00"},{"$f":"Be!J69","v":0},{"$f":"Be!K69","v":0},null,{"$f":"Be!A67","v":"Dombóvári József Attila Ált. Isk."}]
["66.",{"$f":"Be!A70","v":"Szabotin Soma"},{"$f":"Be!B70","v":0},{"$f":"Be!C70","v":0},{"$f":"Be!D70","v":0},{"$f":"Be!E70","v":0},{"$f":"Be!F70","v":0},{"$f":"Be!G70","v":0},{"$f":"Be!H70","v":0},{"$f":"Be!I70","v":"00:00:00"},{"$f":"Be!J70","v":0},{"$f":"Be!K70","v":0},null,{"$f":"Be!A67","v":"Dombóvári József Attila Ált. Isk."}]
["67.",{"$f":"Be!A71","v":"Szabó Albert Zétény"},{"$f":"Be!B71","v":0},{"$f":"Be!C71","v":0},{"$f":"Be!D71","v":0},{"$f":"Be!E71","v":0},{"$f":"Be!F71","v":0},{"$f":"Be!G71","v":0},{"$f":"Be!H71","v":0},{"$f":"Be!I71","v":"00:00:00"},{"$f":"Be!J71","v":0},{"$f":"Be!K71","v":0},null,{"$f":"Be!A67","v":"Dombóvári József Attila Ált. Isk."}]
["68.",{"$f":"Be!A72","v":"Katyi Nimród"},{"$f":"Be!B72","v":0},{"$f":"Be!C72","v":0},{"$f":"Be!D72","v":0},{"$f":"Be!E72","v":0},{"$f":"Be!F72","v":0},{"$f":"Be!G72","v":0},{"$f":"Be!H72","v":0},{"$f":"Be!I72","v":"00:00:00"},{"$f":"Be!J72","v":0},{"$f":"Be!K72","v":0},null,{"$f":"Be!A67","v":"Dombóvári József Attila Ált. Isk."}]
["69.",{"$f":"Be!A73","v":"Várai Bence"},{"$f":"Be!B73","v":0},{"$f":"Be!C73","v":0},{"$f":"Be!D73","v":0},{"$f":"Be!E73","v":0},{"$f":"Be!F73","v":0},{"$f":"Be!G73","v":0},{"$f":"Be!H73","v":0},{"$f":"Be!I73","v":"00:00:00"},{"$f":"Be!J73","v":0},{"$f":"Be!K73","v":0},null,{"$f":"Be!A67","v":"Dombóvári József Attila Ált. Isk."}]
["70.",{"$f":"Be!A74","v":"Csere Dávid"},{"$f":"Be!B74","v":0},{"$f":"Be!C74","v":0},{"$f":"Be!D74","v":0},{"$f":"Be!E74","v":0},{"$f":"Be!F74","v":0},{"$f":"Be!G74","v":0},{"$f":"Be!H74","v":0},{"$f":"Be!I74","v":"00:00:00"},{"$f":"Be!J74","v":0},{"$f":"Be!K74","v":0},null,{"$f":"Be!A67","v":"Dombóvári József Attila Ált. Isk."}]
["71.",{"$f":"Be!A109","v":0},{"$f":"Be!B109","v":0},{"$f":"Be!C109","v":0},{"$f":"Be!D109","v":0},{"$f":"Be!E109","v":0},{"$f":"Be!F109","v":0},{"$f":"Be!G109","v":0},{"$f":"Be!H109","v":0},{"$f":"Be!I109","v":"00:00:00"},{"$f":"Be!J109","v":0},{"$f":"Be!K109","v":0},null,{"$f":"Be!A107","v":0}]
["72.",{"$f":"Be!A110","v":0},{"$f":"Be!B110","v":0},{"$f":"Be!C110","v":0},{"$f":"Be!D110","v":0},{"$f":"Be!E110","v":0},{"$f":"Be!F110","v":0},{"$f":"Be!G110","v":0},{"$f":"Be!H110","v":0},{"$f":"Be!I110","v":"00:00:00"},{"$f":"Be!J110","v":0},{"$f":"Be!K110","v":0},null,{"$f":"Be!A107","v":0}]
["73.",{"$f":"Be!A111","v":0},{"$f":"Be!B111","v":0},{"$f":"Be!C111","v":0},{"$f":"Be!D111","v":0},{"$f":"Be!E111","v":0},{"$f":"Be!F111","v":0},{"$f":"Be!G111","v":0},{"$f":"Be!H111","v":0},{"$f":"Be!I111","v":"00:00:00"},{"$f":"Be!J111","v":0},{"$f":"Be!K111","v":0},null,{"$f":"Be!A107","v":0}]
["74.",{"$f":"Be!A112","v":0},{"$f":"Be!B112","v":0},{"$f":"Be!C112","v":0},{"$f":"Be!D112","v":0},{"$f":"Be!E112","v":0},{"$f":"Be!F112","v":0},{"$f":"Be!G112","v":0},{"$f":"Be!H112","v":0},{"$f":"Be!I112","v":"00:00:00"},{"$f":"Be!J112","v":0},{"$f":"Be!K112","v":0},null,{"$f":"Be!A107","v":0}]
["75.",{"$f":"Be!A113","v":0},{"$f":"Be!B113","v":0},{"$f":"Be!C113","v":0},{"$f":"Be!D113","v":0},{"$f":"Be!E113","v":0},{"$f":"Be!F113","v":0},{"$f":"Be!G113","v":0},{"$f":"Be!H113","v":0},{"$f":"Be!I113","v":"00:00:00"},{"$f":"Be!J113","v":0},{"$f":"Be!K113","v":0},null,{"$f":"Be!A107","v":0}]
["76.",{"$f":"Be!A114","v":0},{"$f":"Be!B114","v":0},{"$f":"Be!C114","v":0},{"$f":"Be!D114","v":0},{"$f":"Be!E114","v":0},{"$f":"Be!F114","v":0},{"$f":"Be!G114","v":0},{"$f":"Be!H114","v":0},{"$f":"Be!I114","v":"00:00:00"},{"$f":"Be!J114","v":0},{"$f":"Be!K114","v":0},null,{"$f":"Be!A107","v":0}]
["77.",{"$f":"Be!A119","v":0},{"$f":"Be!B119","v":0},{"$f":"Be!C119","v":0},{"$f":"Be!D119","v":0},{"$f":"Be!E119","v":0},{"$f":"Be!F119","v":0},{"$f":"Be!G119","v":0},{"$f":"Be!H119","v":0},{"$f":"Be!I119","v":"00:00:00"},{"$f":"Be!J119","v":0},{"$f":"Be!K119","v":0},null,{"$f":"Be!A117","v":0}]
["78.",{"$f":"Be!A120","v":0},{"$f":"Be!B120","v":0},{"$f":"Be!C120","v":0},{"$f":"Be!D120","v":0},{"$f":"Be!E120","v":0},{"$f":"Be!F120","v":0},{"$f":"Be!G120","v":0},{"$f":"Be!H120","v":0},{"$f":"Be!I120","v":"00:00:00"},{"$f":"Be!J120","v":0},{"$f":"Be!K120","v":0},null,{"$f":"Be!A117","v":0}]
["79.",{"$f":"Be!A121","v":0},{"$f":"Be!B121","v":0},{"$f":"Be!C121","v":0},{"$f":"Be!D121","v":0},{"$f":"Be!E121","v":0},{"$f":"Be!F121","v":0},{"$f":"Be!G121","v":0},{"$f":"Be!H121","v":0},{"$f":"Be!I121","v":"00:00:00"},{"$f":"Be!J121","v":0},{"$f":"Be!K121","v":0},null,{"$f":"Be!A117","v":0}]
["80.",{"$f":"Be!A122","v":0},{"$f":"Be!B122","v":0},{"$f":"Be!C122","v":0},{"$f":"Be!D122","v":0},{"$f":"Be!E122","v":0},{"$f":"Be!F122","v":0},{"$f":"Be!G122","v":0},{"$f":"Be!H122","v":0},{"$f":"Be!I122","v":"00:00:00"},{"$f":"Be!J122","v":0},{"$f":"Be!K122","v":0},null,{"$f":"Be!A117","v":0}]
["81.",{"$f":"Be!A123","v":0},{"$f":"Be!B123","v":0},{"$f":"Be!C123","v":0},{"$f":"Be!D123","v":0},{"$f":"Be!E123","v":0},{"$f":"Be!F123","v":0},{"$f":"Be!G123","v":0},{"$f":"Be!H123","v":0},{"$f":"Be!I123","v":"00:00:00"},{"$f":"Be!J123","v":0},{"$f":"Be!K123","v":0},null,{"$f":"Be!A117","v":0}]
["82.",{"$f":"Be!A124","v":0},{"$f":"Be!B124","v":0},{"$f":"Be!C124","v":0},{"$f":"Be!D124","v":0},{"$f":"Be!E124","v":0},{"$f":"Be!F124","v":0},{"$f":"Be!G124","v":0},{"$f":"Be!H124","v":0},{"$f":"Be!I124","v":"00:00:00"},{"$f":"Be!J124","v":0},{"$f":"Be!K124","v":0},null,{"$f":"Be!A117","v":0}]
["83.",{"$f":"Be!A129","v":0},{"$f":"Be!B129","v":0},{"$f":"Be!C129","v":0},{"$f":"Be!D129","v":0},{"$f":"Be!E129","v":0},{"$f":"Be!F129","v":0},{"$f":"Be!G129","v":0},{"$f":"Be!H129","v":0},{"$f":"Be!I129","v":"00:00:00"},{"$f":"Be!J129","v":0},{"$f":"Be!K129","v":0},null,{"$f":"Be!A127","v":0}]
["84.",{"$f":"Be!A130","v":0},{"$f":"Be!B130","v":0},{"$f":"Be!C130","v":0},{"$f":"Be!D130","v":0},{"$f":"Be!E130","v":0},{"$f":"Be!F130","v":0},{"$f":"Be!G130","v":0},{"$f":"Be!H130","v":0},{"$f":"Be!I130","v":"00:00:00"},{"$f":"Be!J130","v":0},{"$f":"Be!K130","v":0},null,{"$f":"Be!A127","v":0}]
["85.",{"$f":"Be!A131","v":0},{"$f":"Be!B131","v":0},{"$f":"Be!C131","v":0},{"$f":"Be!D131","v":0},{"$f":"Be!E131","v":0},{"$f":"Be!F131","v":0},{"$f":"Be!G131","v":0},{"$f":"Be!H131","v":0},{"$f":"Be!I131","v":"00:00:00"},{"$f":"Be!J131","v":0},{"$f":"Be!K131","v":0},null,{"$f":"Be!A127","v":0}]
["86.",{"$f":"Be!A132","v":0},{"$f":"Be!B132","v":0},{"$f":"Be!C132","v":0},{"$f":"Be!D132","v":0},{"$f":"Be!E132","v":0},{"$f":"Be!F132","v":0},{"$f":"Be!G132","v":0},{"$f":"Be!H132","v":0},{"$f":"Be!I132","v":"00:00:00"},{"$f":"Be!J132","v":0},{"$f":"Be!K132","v":0},null,{"$f":"Be!A127","v":0}]
["87.",{"$f":"Be!A133","v":0},{"$f":"Be!B133","v":0},{"$f":"Be!C133","v":0},{"$f":"Be!D133","v":0},{"$f":"Be!E133","v":0},{"$f":"Be!F133","v":0},{"$f":"Be!G133","v":0},{"$f":"Be!H133","v":0},{"$f":"Be!I133","v":"00:00:00"},{"$f":"Be!J133","v":0},{"$f":"Be!K133","v":0},null,{"$f":"Be!A127","v":0}]
["88.",{"$f":"Be!A134","v":0},{"$f":"Be!B134","v":0},{"$f":"Be!C134","v":0},{"$f":"Be!D134","v":0},{"$f":"Be!E134","v":0},{"$f":"Be!F134","v":0},{"$f":"Be!G134","v":0},{"$f":"Be!H134","v":0},{"$f":"Be!I134","v":"00:00:00"},{"$f":"Be!J134","v":0},{"$f":"Be!K134","v":0},null,{"$f":"Be!A127","v":0}]
["89.",{"$f":"Be!A139","v":0},{"$f":"Be!B139","v":0},{"$f":"Be!C139","v":0},{"$f":"Be!D139","v":0},{"$f":"Be!E139","v":0},{"$f":"Be!F139","v":0},{"$f":"Be!G139","v":0},{"$f":"Be!H139","v":0},{"$f":"Be!I139","v":"00:00:00"},{"$f":"Be!J139","v":0},{"$f":"Be!K139","v":0},null,{"$f":"Be!A137","v":0}]
["90.",{"$f":"Be!A140","v":0},{"$f":"Be!B140","v":0},{"$f":"Be!C140","v":0},{"$f":"Be!D140","v":0},{"$f":"Be!E140","v":0},{"$f":"Be!F140","v":0},{"$f":"Be!G140","v":0},{"$f":"Be!H140","v":0},{"$f":"Be!I140","v":"00:00:00"},{"$f":"Be!J140","v":0},{"$f":"Be!K140","v":0},null,{"$f":"Be!A137","v":0}]
["91.",{"$f":"Be!A141","v":0},{"$f":"Be!B141","v":0},{"$f":"Be!C141","v":0},{"$f":"Be!D141","v":0},{"$f":"Be!E141","v":0},{"$f":"Be!F141","v":0},{"$f":"Be!G141","v":0},{"$f":"Be!H141","v":0},{"$f":"Be!I141","v":"00:00:00"},{"$f":"Be!J141","v":0},{"$f":"Be!K141","v":0},null,{"$f":"Be!A137","v":0}]
["92.",{"$f":"Be!A142","v":0},{"$f":"Be!B142","v":0},{"$f":"Be!C142","v":0},{"$f":"Be!D142","v":0},{"$f":"Be!E142","v":0},{"$f":"Be!F142","v":0},{"$f":"Be!G142","v":0},{"$f":"Be!H142","v":0},{"$f":"Be!I142","v":"00:00:00"},{"$f":"Be!J142","v":0},{"$f":"Be!K142","v":0},null,{"$f":"Be!A137","v":0}]
["93.",{"$f":"Be!A143","v":0},{"$f":"Be!B143","v":0},{"$f":"Be!C143","v":0},{"$f":"Be!D143","v":0},{"$f":"Be!E143","v":0},{"$f":"Be!F143","v":0},{"$f":"Be!G143","v":0},{"$f":"Be!H143","v":0},{"$f":"Be!I143","v":"00:00:00"},{"$f":"Be!J143","v":0},{"$f":"Be!K143","v":0},null,{"$f":"Be!A137","v":0}]
["94.",{"$f":"Be!A144","v":0},{"$f":"Be!B144","v":0},{"$f":"Be!C144","v":0},{"$f":"Be!D144","v":0},{"$f":"Be!E144","v":0},{"$f":"Be!F144","v":0},{"$f":"Be!G144","v":0},{"$f":"Be!H144","v":0},{"$f":"Be!I144","v":"00:00:00"},{"$f":"Be!J144","v":0},{"$f":"Be!K144","v":0},null,{"$f":"Be!A137","v":0}]
["95.",{"$f":"Be!A149","v":0},{"$f":"Be!B149","v":0},{"$f":"Be!C149","v":0},{"$f":"Be!D149","v":0},{"$f":"Be!E149","v":0},{"$f":"Be!F149","v":0},{"$f":"Be!G149","v":0},{"$f":"Be!H149","v":0},{"$f":"Be!I149","v":"00:00:00"},{"$f":"Be!J149","v":0},{"$f":"Be!K149","v":0},null,{"$f":"Be!A147","v":0}]
["96.",{"$f":"Be!A150","v":0},{"$f":"Be!B150","v":0},{"$f":"Be!C150","v":0},{"$f":"Be!D150","v":0},{"$f":"Be!E150","v":0},{"$f":"Be!F150","v":0},{"$f":"Be!G150","v":0},{"$f":"Be!H150","v":0},{"$f":"Be!I150","v":"00:00:00"},{"$f":"Be!J150","v":0},{"$f":"Be!K150","v":0},null,{"$f":"Be!A147","v":0}]
["97.",{"$f":"Be!A151","v":0},{"$f":"Be!B151","v":0},{"$f":"Be!C151","v":0},{"$f":"Be!D151","v":0},{"$f":"Be!E151","v":0},{"$f":"Be!F151","v":0},{"$f":"Be!G151","v":0},{"$f":"Be!H151","v":0},{"$f":"Be!I151","v":"00:00:00"},{"$f":"Be!J151","v":0},{"$f":"Be!K151","v":0},null,{"$f":"Be!A147","v":0}]
["98.",{"$f":"Be!A152","v":0},{"$f":"Be!B152","v":0},{"$f":"Be!C152","v":0},{"$f":"Be!D152","v":0},{"$f":"Be!E152","v":0},{"$f":"Be!F152","v":0},{"$f":"Be!G152","v":0},{"$f":"Be!H152","v":0},{"$f":"Be!I152","v":"00:00:00"},{"$f":"Be!J152","v":0},{"$f":"Be!K152","v":0},null,{"$f":"Be!A147","v":0}]
["99.",{"$f":"Be!A153","v":0},{"$f":"Be!B153","v":0},{"$f":"Be!C153","v":0},{"$f":"Be!D153","v":0},{"$f":"Be!E153","v":0},{"$f":"Be!F153","v":0},{"$f":"Be!G153","v":0},{"$f":"Be!H153","v":0},{"$f":"Be!I153","v":"00:00:00"},{"$f":"Be!J153","v":0},{"$f":"Be!K153","v":0},null,{"$f":"Be!A147","v":0}]
["100.",{"$f":"Be!A154","v":0},{"$f":"Be!B154","v":0},{"$f":"Be!C154","v":0},{"$f":"Be!D154","v":0},{"$f":"Be!E154","v":0},{"$f":"Be!F154","v":0},{"$f":"Be!G154","v":0},{"$f":"Be!H154","v":0},{"$f":"Be!I154","v":"00:00:00"},{"$f":"Be!J154","v":0},{"$f":"Be!K154","v":0},null,{"$f":"Be!A147","v":0}]
["101.",{"$f":"Be!A159","v":0},{"$f":"Be!B159","v":0},{"$f":"Be!C159","v":0},{"$f":"Be!D159","v":0},{"$f":"Be!E159","v":0},{"$f":"Be!F159","v":0},{"$f":"Be!G159","v":0},{"$f":"Be!H159","v":0},{"$f":"Be!I159","v":"00:00:00"},{"$f":"Be!J159","v":0},{"$f":"Be!K159","v":0},null,{"$f":"Be!A157","v":0}]
["102.",{"$f":"Be!A160","v":0},{"$f":"Be!B160","v":0},{"$f":"Be!C160","v":0},{"$f":"Be!D160","v":0},{"$f":"Be!E160","v":0},{"$f":"Be!F160","v":0},{"$f":"Be!G160","v":0},{"$f":"Be!H160","v":0},{"$f":"Be!I160","v":"00:00:00"},{"$f":"Be!J160","v":0},{"$f":"Be!K160","v":0},null,{"$f":"Be!A157","v":0}]
["103.",{"$f":"Be!A161","v":0},{"$f":"Be!B161","v":0},{"$f":"Be!C161","v":0},{"$f":"Be!D161","v":0},{"$f":"Be!E161","v":0},{"$f":"Be!F161","v":0},{"$f":"Be!G161","v":0},{"$f":"Be!H161","v":0},{"$f":"Be!I161","v":"00:00:00"},{"$f":"Be!J161","v":0},{"$f":"Be!K161","v":0},null,{"$f":"Be!A157","v":0}]
["104.",{"$f":"Be!A162","v":0},{"$f":"Be!B162","v":0},{"$f":"Be!C162","v":0},{"$f":"Be!D162","v":0},{"$f":"Be!E162","v":0},{"$f":"Be!F162","v":0},{"$f":"Be!G162","v":0},{"$f":"Be!H162","v":0},{"$f":"Be!I162","v":"00:00:00"},{"$f":"Be!J162","v":0},{"$f":"Be!K162","v":0},null,{"$f":"Be!A157","v":0}]
["105.",{"$f":"Be!A163","v":0},{"$f":"Be!B163","v":0},{"$f":"Be!C163","v":0},{"$f":"Be!D163","v":0},{"$f":"Be!E163","v":0},{"$f":"Be!F163","v":0},{"$f":"Be!G163","v":0},{"$f":"Be!H163","v":0},{"$f":"Be!I163","v":"00:00:00"},{"$f":"Be!J163","v":0},{"$f":"Be!K163","v":0},null,{"$f":"Be!A157","v":0}]
["106.",{"$f":"Be!A164","v":0},{"$f":"Be!B164","v":0},{"$f":"Be!C164","v":0},{"$f":"Be!D164","v":0},{"$f":"Be!E164","v":0},{"$f":"Be!F164","v":0},{"$f":"Be!G164","v":0},{"$f":"Be!H164","v":0},{"$f":"Be!I164","v":"00:00:00"},{"$f":"Be!J164","v":0},{"$f":"Be!K164","v":0},null,{"$f":"Be!A157","v":0}]
["107.",{"$f":"Be!A169","v":0},{"$f":"Be!B169","v":0},{"$f":"Be!C169","v":0},{"$f":"Be!D169","v":0},{"$f":"Be!E169","v":0},{"$f":"Be!F169","v":0},{"$f":"Be!G169","v":0},{"$f":"Be!H169","v":0},{"$f":"Be!I169","v":"00:00:00"},{"$f":"Be!J169","v":0},{"$f":"Be!K169","v":0},null,{"$f":"Be!A167","v":0}]
["108.",{"$f":"Be!A170","v":0},{"$f":"Be!B170","v":0},{"$f":"Be!C170","v":0},{"$f":"Be!D170","v":0},{"$f":"Be!E170","v":0},{"$f":"Be!F170","v":0},{"$f":"Be!G170","v":0},{"$f":"Be!H170","v":0},{"$f":"Be!I170","v":"00:00:00"},{"$f":"Be!J170","v":0},{"$f":"Be!K170","v":0},null,{"$f":"Be!A167","v":0}]
["109.",{"$f":"Be!A171","v":0},{"$f":"Be!B171","v":0},{"$f":"Be!C171","v":0},{"$f":"Be!D171","v":0},{"$f":"Be!E171","v":0},{"$f":"Be!F171","v":0},{"$f":"Be!G171","v":0},{"$f":"Be!H171","v":0},{"$f":"Be!I171","v":"00:00:00"},{"$f":"Be!J171","v":0},{"$f":"Be!K171","v":0},null,{"$f":"Be!A167","v":0}]
["110.",{"$f":"Be!A172","v":0},{"$f":"Be!B172","v":0},{"$f":"Be!C172","v":0},{"$f":"Be!D172","v":0},{"$f":"Be!E172","v":0},{"$f":"Be!F172","v":0},{"$f":"Be!G172","v":0},{"$f":"Be!H172","v":0},{"$f":"Be!I172","v":"00:00:00"},{"$f":"Be!J172","v":0},{"$f":"Be!K172","v":0},null,{"$f":"Be!A167","v":0}]
["111.",{"$f":"Be!A173","v":0},{"$f":"Be!B173","v":0},{"$f":"Be!C173","v":0},{"$f":"Be!D173","v":0},{"$f":"Be!E173","v":0},{"$f":"Be!F173","v":0},{"$f":"Be!G173","v":0},{"$f":"Be!H173","v":0},{"$f":"Be!I173","v":"00:00:00"},{"$f":"Be!J173","v":0},{"$f":"Be!K173","v":0},null,{"$f":"Be!A167","v":0}]
["112.",{"$f":"Be!A174","v":0},{"$f":"Be!B174","v":0},{"$f":"Be!C174","v":0},{"$f":"Be!D174","v":0},{"$f":"Be!E174","v":0},{"$f":"Be!F174","v":0},{"$f":"Be!G174","v":0},{"$f":"Be!H174","v":0},{"$f":"Be!I174","v":"00:00:00"},{"$f":"Be!J174","v":0},{"$f":"Be!K174","v":0},null,{"$f":"Be!A167","v":0}]
["113.",{"$f":"Be!A179","v":0},{"$f":"Be!B179","v":0},{"$f":"Be!C179","v":0},{"$f":"Be!D179","v":0},{"$f":"Be!E179","v":0},{"$f":"Be!F179","v":0},{"$f":"Be!G179","v":0},{"$f":"Be!H179","v":0},{"$f":"Be!I179","v":"00:00:00"},{"$f":"Be!J179","v":0},{"$f":"Be!K179","v":0},null,{"$f":"Be!A177","v":0}]
["114.",{"$f":"Be!A180","v":0},{"$f":"Be!B180","v":0},{"$f":"Be!C180","v":0},{"$f":"Be!D180","v":0},{"$f":"Be!E180","v":0},{"$f":"Be!F180","v":0},{"$f":"Be!G180","v":0},{"$f":"Be!H180","v":0},{"$f":"Be!I180","v":"00:00:00"},{"$f":"Be!J180","v":0},{"$f":"Be!K180","v":0},null,{"$f":"Be!A177","v":0}]
["115.",{"$f":"Be!A181","v":0},{"$f":"Be!B181","v":0},{"$f":"Be!C181","v":0},{"$f":"Be!D181","v":0},{"$f":"Be!E181","v":0},{"$f":"Be!F181","v":0},{"$f":"Be!G181","v":0},{"$f":"Be!H181","v":0},{"$f":"Be!I181","v":"00:00:00"},{"$f":"Be!J181","v":0},{"$f":"Be!K181","v":0},null,{"$f":"Be!A177","v":0}]
["116.",{"$f":"Be!A182","v":0},{"$f":"Be!B182","v":0},{"$f":"Be!C182","v":0},{"$f":"Be!D182","v":0},{"$f":"Be!E182","v":0},{"$f":"Be!F182","v":0},{"$f":"Be!G182","v":0},{"$f":"Be!H182","v":0},{"$f":"Be!I182","v":"00:00:00"},{"$f":"Be!J182","v":0},{"$f":"Be!K182","v":0},null,{"$f":"Be!A177","v":0}]
["117.",{"$f":"Be!A183","v":0},{"$f":"Be!B183","v":0},{"$f":"Be!C183","v":0},{"$f":"Be!D183","v":0},{"$f":"Be!E183","v":0},{"$f":"Be!F183","v":0},{"$f":"Be!G183","v":0},{"$f":"Be!H183","v":0},{"$f":"Be!I183","v":"00:00:00"},{"$f":"Be!J183","v":0},{"$f":"Be!K183","v":0},null,{"$f":"Be!A177","v":0}]
["118.",{"$f":"Be!A184","v":0},{"$f":"Be!B184","v":0},{"$f":"Be!C184","v":0},{"$f":"Be!D184","v":0},{"$f":"Be!E184","v":0},{"$f":"Be!F184","v":0},{"$f":"Be!G184","v":0},{"$f":"Be!H184","v":0},{"$f":"Be!I184","v":"00:00:00"},{"$f":"Be!J184","v":0},{"$f":"Be!K184","v":0},null,{"$f":"Be!A177","v":0}]
["119.",{"$f":"Be!A189","v":0},{"$f":"Be!B189","v":0},{"$f":"Be!C189","v":0},{"$f":"Be!D189","v":0},{"$f":"Be!E189","v":0},{"$f":"Be!F189","v":0},{"$f":"Be!G189","v":0},{"$f":"Be!H189","v":0},{"$f":"Be!I189","v":"00:00:00"},{"$f":"Be!J189","v":0},{"$f":"Be!K189","v":0},null,{"$f":"Be!A187","v":0}]
["120.",{"$f":"Be!A190","v":0},{"$f":"Be!B190","v":0},{"$f":"Be!C190","v":0},{"$f":"Be!D190","v":0},{"$f":"Be!E190","v":0},{"$f":"Be!F190","v":0},{"$f":"Be!G190","v":0},{"$f":"Be!H190","v":0},{"$f":"Be!I190","v":"00:00:00"},{"$f":"Be!J190","v":0},{"$f":"Be!K190","v":0},null,{"$f":"Be!A187","v":0}]
["121.",{"$f":"Be!A191","v":0},{"$f":"Be!B191","v":0},{"$f":"Be!C191","v":0},{"$f":"Be!D191","v":0},{"$f":"Be!E191","v":0},{"$f":"Be!F191","v":0},{"$f":"Be!G191","v":0},{"$f":"Be!H191","v":0},{"$f":"Be!I191","v":"00:00:00"},{"$f":"Be!J191","v":0},{"$f":"Be!K191","v":0},null,{"$f":"Be!A187","v":0}]
["122.",{"$f":"Be!A192","v":0},{"$f":"Be!B192","v":0},{"$f":"Be!C192","v":0},{"$f":"Be!D192","v":0},{"$f":"Be!E192","v":0},{"$f":"Be!F192","v":0},{"$f":"Be!G192","v":0},{"$f":"Be!H192","v":0},{"$f":"Be!I192","v":"00:00:00"},{"$f":"Be!J192","v":0},{"$f":"Be!K192","v":0},null,{"$f":"Be!A187","v":0}]
["123.",{"$f":"Be!A193","v":0},{"$f":"Be!B193","v":0},{"$f":"Be!C193","v":0},{"$f":"Be!D193","v":0},{"$f":"Be!E193","v":0},{"$f":"Be!F193","v":0},{"$f":"Be!G193","v":0},{"$f":"Be!H193","v":0},{"$f":"Be!I193","v":"00:00:00"},{"$f":"Be!J193","v":0},{"$f":"Be!K193","v":0},null,{"$f":"Be!A187","v":0}]
["124.",{"$f":"Be!A194","v":0},{"$f":"Be!B194","v":0},{"$f":"Be!C194","v":0},{"$f":"Be!D194","v":0},{"$f":"Be!E194","v":0},{"$f":"Be!F194","v":0},{"$f":"Be!G194","v":0},{"$f":"Be!H194","v":0},{"$f":"Be!I194","v":"00:00:00"},{"$f":"Be!J194","v":0},{"$f":"Be!K194","v":0},null,{"$f":"Be!A187","v":0}]
["125.",{"$f":"Be!A199","v":0},{"$f":"Be!B199","v":0},{"$f":"Be!C199","v":0},{"$f":"Be!D199","v":0},{"$f":"Be!E199","v":0},{"$f":"Be!F199","v":0},{"$f":"Be!G199","v":0},{"$f":"Be!H199","v":0},{"$f":"Be!I199","v":"00:00:00"},{"$f":"Be!J199","v":0},{"$f":"Be!K199","v":0},null,{"$f":"Be!A197","v":0}]
["126.",{"$f":"Be!A200","v":0},{"$f":"Be!B200","v":0},{"$f":"Be!C200","v":0},{"$f":"Be!D200","v":0},{"$f":"Be!E200","v":0},{"$f":"Be!F200","v":0},{"$f":"Be!G200","v":0},{"$f":"Be!H200","v":0},{"$f":"Be!I200","v":"00:00:00"},{"$f":"Be!J200","v":0},{"$f":"Be!K200","v":0},null,{"$f":"Be!A197","v":0}]
["127.",{"$f":"Be!A201","v":0},{"$f":"Be!B201","v":0},{"$f":"Be!C201","v":0},{"$f":"Be!D201","v":0},{"$f":"Be!E201","v":0},{"$f":"Be!F201","v":0},{"$f":"Be!G201","v":0},{"$f":"Be!H201","v":0},{"$f":"Be!I201","v":"00:00:00"},{"$f":"Be!J201","v":0},{"$f":"Be!K201","v":0},null,{"$f":"Be!A197","v":0}]
["128.",{"$f":"Be!A202","v":0},{"$f":"Be!B202","v":0},{"$f":"Be!C202","v":0},{"$f":"Be!D202","v":0},{"$f":"Be!E202","v":0},{"$f":"Be!F202","v":0},{"$f":"Be!G202","v":0},{"$f":"Be!H202","v":0},{"$f":"Be!I202","v":"00:00:00"},{"$f":"Be!J202","v":0},{"$f":"Be!K202","v":0},null,{"$f":"Be!A197","v":0}]
["129.",{"$f":"Be!A203","v":0},{"$f":"Be!B203","v":0},{"$f":"Be!C203","v":0},{"$f":"Be!D203","v":0},{"$f":"Be!E203","v":0},{"$f":"Be!F203","v":0},{"$f":"Be!G203","v":0},{"$f":"Be!H203","v":0},{"$f":"Be!I203","v":"00:00:00"},{"$f":"Be!J203","v":0},{"$f":"Be!K203","v":0},null,{"$f":"Be!A197","v":0}]
["130.",{"$f":"Be!A204","v":0},{"$f":"Be!B204","v":0},{"$f":"Be!C204","v":0},{"$f":"Be!D204","v":0},{"$f":"Be!E204","v":0},{"$f":"Be!F204","v":0},{"$f":"Be!G204","v":0},{"$f":"Be!H204","v":0},{"$f":"Be!I204","v":"00:00:00"},{"$f":"Be!J204","v":0},{"$f":"Be!K204","v":0},null,{"$f":"Be!A197","v":0}]
["131.",{"$f":"Be!A209","v":0},{"$f":"Be!B209","v":0},{"$f":"Be!C209","v":0},{"$f":"Be!D209","v":0},{"$f":"Be!E209","v":0},{"$f":"Be!F209","v":0},{"$f":"Be!G209","v":0},{"$f":"Be!H209","v":0},{"$f":"Be!I209","v":"00:00:00"},{"$f":"Be!J209","v":0},{"$f":"Be!K209","v":0},null,{"$f":"Be!A207","v":0}]
["132.",{"$f":"Be!A210","v":0},{"$f":"Be!B210","v":0},{"$f":"Be!C210","v":0},{"$f":"Be!D210","v":0},{"$f":"Be!E210","v":0},{"$f":"Be!F210","v":0},{"$f":"Be!G210","v":0},{"$f":"Be!H210","v":0},{"$f":"Be!I210","v":"00:00:00"},{"$f":"Be!J210","v":0},{"$f":"Be!K210","v":0},null,{"$f":"Be!A207","v":0}]
["133.",{"$f":"Be!A211","v":0},{"$f":"Be!B211","v":0},{"$f":"Be!C211","v":0},{"$f":"Be!D211","v":0},{"$f":"Be!E211","v":0},{"$f":"Be!F211","v":0},{"$f":"Be!G211","v":0},{"$f":"Be!H211","v":0},{"$f":"Be!I211","v":"00:00:00"},{"$f":"Be!J211","v":0},{"$f":"Be!K211","v":0},null,{"$f":"Be!A207","v":0}]
["134.",{"$f":"Be!A212","v":0},{"$f":"Be!B212","v":0},{"$f":"Be!C212","v":0},{"$f":"Be!D212","v":0},{"$f":"Be!E212","v":0},{"$f":"Be!F212","v":0},{"$f":"Be!G212","v":0},{"$f":"Be!H212","v":0},{"$f":"Be!I212","v":"00:00:00"},{"$f":"Be!J212","v":0},{"$f":"Be!K212","v":0},null,{"$f":"Be!A207","v":0}]
["135.",{"$f":"Be!A213","v":0},{"$f":"Be!B213","v":0},{"$f":"Be!C213","v":0},{"$f":"Be!D213","v":0},{"$f":"Be!E213","v":0},{"$f":"Be!F213","v":0},{"$f":"Be!G213","v":0},{"$f":"Be!H213","v":0},{"$f":"Be!I213","v":"00:00:00"},{"$f":"Be!J213","v":0},{"$f":"Be!K213","v":0},null,{"$f":"Be!A207","v":0}]
["136.",{"$f":"Be!A214","v":0},{"$f":"Be!B214","v":0},{"$f":"Be!C214","v":0},{"$f":"Be!D214","v":0},{"$f":"Be!E214","v":0},{"$f":"Be!F214","v":0},{"$f":"Be!G214","v":0},{"$f":"Be!H214","v":0},{"$f":"Be!I214","v":"00:00:00"},{"$f":"Be!J214","v":0},{"$f":"Be!K214","v":0},null,{"$f":"Be!A207","v":0}]
["137.",{"$f":"Be!A219","v":0},{"$f":"Be!B219","v":0},{"$f":"Be!C219","v":0},{"$f":"Be!D219","v":0},{"$f":"Be!E219","v":0},{"$f":"Be!F219","v":0},{"$f":"Be!G219","v":0},{"$f":"Be!H219","v":0},{"$f":"Be!I219","v":"00:00:00"},{"$f":"Be!J219","v":0},{"$f":"Be!K219","v":0},null,{"$f":"Be!A217","v":0}]
["138.",{"$f":"Be!A220","v":0},{"$f":"Be!B220","v":0},{"$f":"Be!C220","v":0},{"$f":"Be!D220","v":0},{"$f":"Be!E220","v":0},{"$f":"Be!F220","v":0},{"$f":"Be!G220","v":0},{"$f":"Be!H220","v":0},{"$f":"Be!I220","v":"00:00:00"},{"$f":"Be!J220","v":0},{"$f":"Be!K220","v":0},null,{"$f":"Be!A217","v":0}]
["139.",{"$f":"Be!A221","v":0},{"$f":"Be!B221","v":0},{"$f":"Be!C221","v":0},{"$f":"Be!D221","v":0},{"$f":"Be!E221","v":0},{"$f":"Be!F221","v":0},{"$f":"Be!G221","v":0},{"$f":"Be!H221","v":0},{"$f":"Be!I221","v":"00:00:00"},{"$f":"Be!J221","v":0},{"$f":"Be!K221","v":0},null,{"$f":"Be!A217","v":0}]
["140.",{"$f":"Be!A222","v":0},{"$f":"Be!B222","v":0},{"$f":"Be!C222","v":0},{"$f":"Be!D222","v":0},{"$f":"Be!E222","v":0},{"$f":"Be!F222","v":0},{"$f":"Be!G222","v":0},{"$f":"Be!H222","v":0},{"$f":"Be!I222","v":"00:00:00"},{"$f":"Be!J222","v":0},{"$f":"Be!K222","v":0},null,{"$f":"Be!A217","v":0}]
["141.",{"$f":"Be!A223","v":0},{"$f":"Be!B223","v":0},{"$f":"Be!C223","v":0},{"$f":"Be!D223","v":0},{"$f":"Be!E223","v":0},{"$f":"Be!F223","v":0},{"$f":"Be!G223","v":0},{"$f":"Be!H223","v":0},{"$f":"Be!I223","v":"00:00:00"},{"$f":"Be!J223","v":0},{"$f":"Be!K223","v":0},null,{"$f":"Be!A217","v":0}]
["142.",{"$f":"Be!A224","v":0},{"$f":"Be!B224","v":0},{"$f":"Be!C224","v":0},{"$f":"Be!D224","v":0},{"$f":"Be!E224","v":0},{"$f":"Be!F224","v":0},{"$f":"Be!G224","v":0},{"$f":"Be!H224","v":0},{"$f":"Be!I224","v":"00:00:00"},{"$f":"Be!J224","v":0},{"$f":"Be!K224","v":0},null,{"$f":"Be!A217","v":0}]
["143.",{"$f":"Be!A229","v":0},{"$f":"Be!B229","v":0},{"$f":"Be!C229","v":0},{"$f":"Be!D229","v":0},{"$f":"Be!E229","v":0},{"$f":"Be!F229","v":0},{"$f":"Be!G229","v":0},{"$f":"Be!H229","v":0},{"$f":"Be!I229","v":"00:00:00"},{"$f":"Be!J229","v":0},{"$f":"Be!K229","v":0},null,{"$f":"Be!A227","v":0}]
["144.",{"$f":"Be!A230","v":0},{"$f":"Be!B230","v":0},{"$f":"Be!C230","v":0},{"$f":"Be!D230","v":0},{"$f":"Be!E230","v":0},{"$f":"Be!F230","v":0},{"$f":"Be!G230","v":0},{"$f":"Be!H230","v":0},{"$f":"Be!I230","v":"00:00:00"},{"$f":"Be!J230","v":0},{"$f":"Be!K230","v":0},null,{"$f":"Be!A227","v":0}]
["145.",{"$f":"Be!A231","v":0},{"$f":"Be!B231","v":0},{"$f":"Be!C231","v":0},{"$f":"Be!D231","v":0},{"$f":"Be!E231","v":0},{"$f":"Be!F231","v":0},{"$f":"Be!G231","v":0},{"$f":"Be!H231","v":0},{"$f":"Be!I231","v":"00:00:00"},{"$f":"Be!J231","v":0},{"$f":"Be!K231","v":0},null,{"$f":"Be!A227","v":0}]
["146.",{"$f":"Be!A232","v":0},{"$f":"Be!B232","v":0},{"$f":"Be!C232","v":0},{"$f":"Be!D232","v":0},{"$f":"Be!E232","v":0},{"$f":"Be!F232","v":0},{"$f":"Be!G232","v":0},{"$f":"Be!H232","v":0},{"$f":"Be!I232","v":"00:00:00"},{"$f":"Be!J232","v":0},{"$f":"Be!K232","v":0},null,{"$f":"Be!A227","v":0}]
["147.",{"$f":"Be!A233","v":0},{"$f":"Be!B233","v":0},{"$f":"Be!C233","v":0},{"$f":"Be!D233","v":0},{"$f":"Be!E233","v":0},{"$f":"Be!F233","v":0},{"$f":"Be!G233","v":0},{"$f":"Be!H233","v":0},{"$f":"Be!I233","v":"00:00:00"},{"$f":"Be!J233","v":0},{"$f":"Be!K233","v":0},null,{"$f":"Be!A227","v":0}]
["148.",{"$f":"Be!A234","v":0},{"$f":"Be!B234","v":0},{"$f":"Be!C234","v":0},{"$f":"Be!D234","v":0},{"$f":"Be!E234","v":0},{"$f":"Be!F234","v":0},{"$f":"Be!G234","v":0},{"$f":"Be!H234","v":0},{"$f":"Be!I234","v":"00:00:00"},{"$f":"Be!J234","v":0},{"$f":"Be!K234","v":0},null,{"$f":"Be!A227","v":0}]
["149.",{"$f":"Be!A239","v":0},{"$f":"Be!B239","v":0},{"$f":"Be!C239","v":0},{"$f":"Be!D239","v":0},{"$f":"Be!E239","v":0},{"$f":"Be!F239","v":0},{"$f":"Be!G239","v":0},{"$f":"Be!H239","v":0},{"$f":"Be!I239","v":"00:00:00"},{"$f":"Be!J239","v":0},{"$f":"Be!K239","v":0},null,{"$f":"Be!A237","v":0}]
["150.",{"$f":"Be!A240","v":0},{"$f":"Be!B240","v":0},{"$f":"Be!C240","v":0},{"$f":"Be!D240","v":0},{"$f":"Be!E240","v":0},{"$f":"Be!F240","v":0},{"$f":"Be!G240","v":0},{"$f":"Be!H240","v":0},{"$f":"Be!I240","v":"00:00:00"},{"$f":"Be!J240","v":0},{"$f":"Be!K240","v":0},null,{"$f":"Be!A237","v":0}]
["151.",{"$f":"Be!A241","v":0},{"$f":"Be!B241","v":0},{"$f":"Be!C241","v":0},{"$f":"Be!D241","v":0},{"$f":"Be!E241","v":0},{"$f":"Be!F241","v":0},{"$f":"Be!G241","v":0},{"$f":"Be!H241","v":0},{"$f":"Be!I241","v":"00:00:00"},{"$f":"Be!J241","v":0},{"$f":"Be!K241","v":0},null,{"$f":"Be!A237","v":0}]
["152.",{"$f":"Be!A242","v":0},{"$f":"Be!B242","v":0},{"$f":"Be!C242","v":0},{"$f":"Be!D242","v":0},{"$f":"Be!E242","v":0},{"$f":"Be!F242","v":0},{"$f":"Be!G242","v":0},{"$f":"Be!H242","v":0},{"$f":"Be!I242","v":"00:00:00"},{"$f":"Be!J242","v":0},{"$f":"Be!K242","v":0},null,{"$f":"Be!A237","v":0}]
["153.",{"$f":"Be!A243","v":0},{"$f":"Be!B243","v":0},{"$f":"Be!C243","v":0},{"$f":"Be!D243","v":0},{"$f":"Be!E243","v":0},{"$f":"Be!F243","v":0},{"$f":"Be!G243","v":0},{"$f":"Be!H243","v":0},{"$f":"Be!I243","v":"00:00:00"},{"$f":"Be!J243","v":0},{"$f":"Be!K243","v":0},null,{"$f":"Be!A237","v":0}]
["154.",{"$f":"Be!A244","v":0},{"$f":"Be!B244","v":0},{"$f":"Be!C244","v":0},{"$f":"Be!D244","v":0},{"$f":"Be!E244","v":0},{"$f":"Be!F244","v":0},{"$f":"Be!G244","v":0},{"$f":"Be!H244","v":0},{"$f":"Be!I244","v":"00:00:00"},{"$f":"Be!J244","v":0},{"$f":"Be!K244","v":0},null,{"$f":"Be!A237","v":0}]

{"sheet":"Csapat","index":3,"n_rows":24,"n_cols":3,"rows_kept":24,"cut":false,"hidden":false,"merged":[[0,0,0,2]]}
["III. korcsoport FIÚ CSAPAT verseny (Rendezés Ctrl + h )"]
[null,"Iskola","Pont"]
["1.",{"$f":"Be!$A$27&CHAR(10)&Be!$A$29&\"   \"&Be!$K$29&\"      \"&Be!$A$30&\"   \"&Be!$K$30&CHAR(10)&Be!$A$31&\"   \"&Be!$K$31&\"      \"&Be!$A$32&\"   \"&Be!$K$32&CHAR(10)&Be!$A$33&\"   \"&Be!$K$33&\"      \"&Be!$A$34&\"   \"&Be!$K$34","v":"Bonyhádi Általános Iskola\nFarkas Botond   0      János Olivér   488\nMagyar Péter József   565      Markóczi Donát   605\nSzőts Dávid   635      Tusa Zétény   457"},{"$f":"Be!$M$29","v":2750}]
["2.",{"$f":"Be!$A$37&CHAR(10)&Be!$A$39&\"   \"&Be!$K$39&\"      \"&Be!$A$40&\"   \"&Be!$K$40&CHAR(10)&Be!$A$41&\"   \"&Be!$K$41&\"      \"&Be!$A$42&\"   \"&Be!$K$42&CHAR(10)&Be!$A$43&\"   \"&Be!$K$43&\"      \"&Be!$A$44&\"   \"&Be!$K$44","v":"Szekszárdi Garay János Általános Iskola\nGyenes Kristóf   536      Gyenes Szilárd   502\nNyisztor Gergely   543      Frei Bertalan   436\nRend Hunor   443      Reizer Erik Tamás   419"},{"$f":"Be!$M$39","v":2460}]
["3.",{"$f":"Be!$A$57&CHAR(10)&Be!$A$59&\"   \"&Be!$K$59&\"      \"&Be!$A$60&\"   \"&Be!$K$60&CHAR(10)&Be!$A$61&\"   \"&Be!$K$61&\"      \"&Be!$A$62&\"   \"&Be!$K$62&CHAR(10)&Be!$A$63&\"   \"&Be!$K$63&\"      \"&Be!$A$64&\"   \"&Be!$K$64","v":"Szt. Orsolya Bencés Ált. Isk. Dombóvár\nKutyik-Szabó Károly   498      Lehőcz Zétény   445\nPataki Gergő   511      Roósz Balázs   503\nTárnok Marcell   475      Benkő Szabolcs   460"},{"$f":"Be!$M$59","v":2447}]
["4.",{"$f":"Be!$A$97&CHAR(10)&Be!$A$99&\"   \"&Be!$K$99&\"      \"&Be!$A$100&\"   \"&Be!$K$100&CHAR(10)&Be!$A$101&\"   \"&Be!$K$101&\"      \"&Be!$A$102&\"   \"&Be!$K$102&CHAR(10)&Be!$A$103&\"   \"&Be!$K$103&\"      \"&Be!$A$104&\"   \"&Be!$K$104","v":"Nagydorogi Széchényi Sándor Ált. Isk.\nDobosi Donát   486      Kocsis Timon   369\nLendvai Noel   520      Peterdi Zsombor   420\nRostás Brendon   440      Rostás Richárd Gyula   432"},{"$f":"Be!$M$99","v":2298}]
["5.",{"$f":"Be!$A$87&CHAR(10)&Be!$A$89&\"   \"&Be!$K$89&\"      \"&Be!$A$90&\"   \"&Be!$K$90&CHAR(10)&Be!$A$91&\"   \"&Be!$K$91&\"      \"&Be!$A$92&\"   \"&Be!$K$92&CHAR(10)&Be!$A$93&\"   \"&Be!$K$93&\"      \"&Be!$A$94&\"   \"&Be!$K$94","v":"Zombai Általános Iskola\nHoffmann Roland   438      Homoki Dominik   603\nMárk Levente   450      Borbély-Kovács Krisztián   407\nTrautmann Krisztián   393      Csiki Attila   328"},{"$f":"Be!$M$89","v":2291}]
["6.",{"$f":"Be!$A$47&CHAR(10)&Be!$A$49&\"   \"&Be!$K$49&\"      \"&Be!$A$50&\"   \"&Be!$K$50&CHAR(10)&Be!$A$51&\"   \"&Be!$K$51&\"      \"&Be!$A$52&\"   \"&Be!$K$52&CHAR(10)&Be!$A$53&\"   \"&Be!$K$53&\"      \"&Be!$A$54&\"   \"&Be!$K$54","v":"PTE Gyakorló Ált. Isk. Szekszárd\nJoósz Ákos   444      Vörös Arlen Botond   488\nVajda Barnabás   437      Végh Hunor   415\nBakó Mihály   443      Fülöp György József   0"},{"$f":"Be!$M$49","v":2227}]
["7.",{"$f":"Be!$A$77&CHAR(10)&Be!$A$79&\"   \"&Be!$K$79&\"      \"&Be!$A$80&\"   \"&Be!$K$80&CHAR(10)&Be!$A$81&\"   \"&Be!$K$81&\"      \"&Be!$A$82&\"   \"&Be!$K$82&CHAR(10)&Be!$A$83&\"   \"&Be!$K$83&\"      \"&Be!$A$84&\"   \"&Be!$K$84","v":"Bátaszéki Kanizsai Dorottya Ált. Isk.\nGyulai Brendon Attila   429      Indrich Krisztián   441\nFekete Ágoston Imre   448      Liebhauser Áron   400\nSzabó Patrik   459      Vörös Botond   397"},{"$f":"Be!$M$79","v":2177}]
["8.",{"$f":"Be!$A$67&CHAR(10)&Be!$A$69&\"   \"&Be!$K$69&\"      \"&Be!$A$70&\"   \"&Be!$K$70&CHAR(10)&Be!$A$71&\"   \"&Be!$K$71&\"      \"&Be!$A$72&\"   \"&Be!$K$72&CHAR(10)&Be!$A$73&\"   \"&Be!$K$73&\"      \"&Be!$A$74&\"   \"&Be!$K$74","v":"Dombóvári József Attila Ált. Isk.\nKuurstra Mike Norbert   0      Szabotin Soma   0\nSzabó Albert Zétény   0      Katyi Nimród   0\nVárai Bence   0      Csere Dávid   0"},{"$f":"Be!$M$69","v":0}]
["9.",{"$f":"Be!$A$107&CHAR(10)&Be!$A$109&\"   \"&Be!$K$109&\"      \"&Be!$A$110&\"   \"&Be!$K$110&CHAR(10)&Be!$A$111&\"   \"&Be!$K$111&\"      \"&Be!$A$112&\"   \"&Be!$K$112&CHAR(10)&Be!$A$113&\"   \"&Be!$K$113&\"      \"&Be!$A$114&\"   \"&Be!$K$114","v":"\n   0         0\n   0         0\n   0         0"},{"$f":"Be!$M$109","v":0}]
["10.",{"$f":"Be!$A$117&CHAR(10)&Be!$A$119&\"   \"&Be!$K$119&\"      \"&Be!$A$120&\"   \"&Be!$K$120&CHAR(10)&Be!$A$121&\"   \"&Be!$K$121&\"      \"&Be!$A$122&\"   \"&Be!$K$122&CHAR(10)&Be!$A$123&\"   \"&Be!$K$123&\"      \"&Be!$A$124&\"   \"&Be!$K$124","v":"\n   0         0\n   0         0\n   0         0"},{"$f":"Be!$M$119","v":0}]
["11.",{"$f":"Be!$A$127&CHAR(10)&Be!$A$129&\"   \"&Be!$K$129&\"      \"&Be!$A$130&\"   \"&Be!$K$130&CHAR(10)&Be!$A$131&\"   \"&Be!$K$131&\"      \"&Be!$A$132&\"   \"&Be!$K$132&CHAR(10)&Be!$A$133&\"   \"&Be!$K$133&\"      \"&Be!$A$134&\"   \"&Be!$K$134","v":"\n   0         0\n   0         0\n   0         0"},{"$f":"Be!$M$129","v":0}]
["12.",{"$f":"Be!$A$137&CHAR(10)&Be!$A$139&\"   \"&Be!$K$139&\"      \"&Be!$A$140&\"   \"&Be!$K$140&CHAR(10)&Be!$A$141&\"   \"&Be!$K$141&\"      \"&Be!$A$142&\"   \"&Be!$K$142&CHAR(10)&Be!$A$143&\"   \"&Be!$K$143&\"      \"&Be!$A$144&\"   \"&Be!$K$144","v":"\n   0         0\n   0         0\n   0         0"},{"$f":"Be!$M$139","v":0}]
["13.",{"$f":"Be!$A$147&CHAR(10)&Be!$A$149&\"   \"&Be!$K$149&\"      \"&Be!$A$150&\"   \"&Be!$K$150&CHAR(10)&Be!$A$151&\"   \"&Be!$K$151&\"      \"&Be!$A$152&\"   \"&Be!$K$152&CHAR(10)&Be!$A$153&\"   \"&Be!$K$153&\"      \"&Be!$A$154&\"   \"&Be!$K$154","v":"\n   0         0\n   0         0\n   0         0"},{"$f":"Be!$M$149","v":0}]
["14.",{"$f":"Be!$A$157&CHAR(10)&Be!$A$159&\"   \"&Be!$K$159&\"      \"&Be!$A$160&\"   \"&Be!$K$160&CHAR(10)&Be!$A$161&\"   \"&Be!$K$161&\"      \"&Be!$A$162&\"   \"&Be!$K$162&CHAR(10)&Be!$A$163&\"   \"&Be!$K$163&\"      \"&Be!$A$164&\"   \"&Be!$K$164","v":"\n   0         0\n   0         0\n   0         0"},{"$f":"Be!$M$159","v":0}]
["15.",{"$f":"Be!$A$167&CHAR(10)&Be!$A$169&\"   \"&Be!$K$169&\"      \"&Be!$A$170&\"   \"&Be!$K$170&CHAR(10)&Be!$A$171&\"   \"&Be!$K$171&\"      \"&Be!$A$172&\"   \"&Be!$K$172&CHAR(10)&Be!$A$173&\"   \"&Be!$K$173&\"      \"&Be!$A$174&\"   \"&Be!$K$174","v":"\n   0         0\n   0         0\n   0         0"},{"$f":"Be!$M$169","v":0}]
["16.",{"$f":"Be!$A$177&CHAR(10)&Be!$A$179&\"   \"&Be!$K$179&\"      \"&Be!$A$180&\"   \"&Be!$K$180&CHAR(10)&Be!$A$181&\"   \"&Be!$K$181&\"      \"&Be!$A$182&\"   \"&Be!$K$182&CHAR(10)&Be!$A$183&\"   \"&Be!$K$183&\"      \"&Be!$A$184&\"   \"&Be!$K$184","v":"\n   0         0\n   0         0\n   0         0"},{"$f":"Be!$M$179","v":0}]
["17.",{"$f":"Be!$A$187&CHAR(10)&Be!$A$189&\"   \"&Be!$K$189&\"      \"&Be!$A$190&\"   \"&Be!$K$190&CHAR(10)&Be!$A$191&\"   \"&Be!$K$191&\"      \"&Be!$A$192&\"   \"&Be!$K$192&CHAR(10)&Be!$A$193&\"   \"&Be!$K$193&\"      \"&Be!$A$194&\"   \"&Be!$K$194","v":"\n   0         0\n   0         0\n   0         0"},{"$f":"Be!$M$189","v":0}]
["18.",{"$f":"Be!$A$197&CHAR(10)&Be!$A$199&\"   \"&Be!$K$199&\"      \"&Be!$A$200&\"   \"&Be!$K$200&CHAR(10)&Be!$A$201&\"   \"&Be!$K$201&\"      \"&Be!$A$202&\"   \"&Be!$K$202&CHAR(10)&Be!$A$203&\"   \"&Be!$K$203&\"      \"&Be!$A$204&\"   \"&Be!$K$204","v":"\n   0         0\n   0         0\n   0         0"},{"$f":"Be!$M$199","v":0}]
["19.",{"$f":"Be!$A$207&CHAR(10)&Be!$A$209&\"   \"&Be!$K$209&\"      \"&Be!$A$210&\"   \"&Be!$K$210&CHAR(10)&Be!$A$211&\"   \"&Be!$K$211&\"      \"&Be!$A$212&\"   \"&Be!$K$212&CHAR(10)&Be!$A$213&\"   \"&Be!$K$213&\"      \"&Be!$A$214&\"   \"&Be!$K$214","v":"\n   0         0\n   0         0\n   0         0"},{"$f":"Be!$M$209","v":0}]
["20.",{"$f":"Be!$A$217&CHAR(10)&Be!$A$219&\"   \"&Be!$K$219&\"      \"&Be!$A$220&\"   \"&Be!$K$220&CHAR(10)&Be!$A$221&\"   \"&Be!$K$221&\"      \"&Be!$A$222&\"   \"&Be!$K$222&CHAR(10)&Be!$A$223&\"   \"&Be!$K$223&\"      \"&Be!$A$224&\"   \"&Be!$K$224","v":"\n   0         0\n   0         0\n   0         0"},{"$f":"Be!$M$219","v":0}]
["21.",{"$f":"Be!$A$227&CHAR(10)&Be!$A$229&\"   \"&Be!$K$229&\"      \"&Be!$A$230&\"   \"&Be!$K$230&CHAR(10)&Be!$A$231&\"   \"&Be!$K$231&\"      \"&Be!$A$232&\"   \"&Be!$K$232&CHAR(10)&Be!$A$233&\"   \"&Be!$K$233&\"      \"&Be!$A$234&\"   \"&Be!$K$234","v":"\n   0         0\n   0         0\n   0         0"},{"$f":"Be!$M$229","v":0}]
["22.",{"$f":"Be!$A$237&CHAR(10)&Be!$A$239&\"   \"&Be!$K$239&\"      \"&Be!$A$240&\"   \"&Be!$K$240&CHAR(10)&Be!$A$241&\"   \"&Be!$K$241&\"      \"&Be!$A$242&\"   \"&Be!$K$242&CHAR(10)&Be!$A$243&\"   \"&Be!$K$243&\"      \"&Be!$A$244&\"   \"&Be!$K$244","v":"\n   0         0\n   0         0\n   0         0"},{"$f":"Be!$M$239","v":0}]