{"text_format":"1","workbook":"xlsx","n_sheets":4,"sheets":["fiú","Be","Egyéni","Csapat"],"not_rendered":{"charts":0,"images":0,"macros":1,"external_links":1,"defined_names":9,"comments":0,"pivot_tables":0},"unopened":[],"bounds":{"document_bytes":16777216,"sheet_cells":100000,"rows_first":2000,"rows_last":500,"rows_between":2000,"halvings":0,"cell_chars":16384,"cell_head_chars":4096},"cells_cut":0,"cells_raw":0,"read":"whole","date_system":"1900"}

{"sheet":"fiú","index":0,"n_rows":302,"n_cols":15,"rows_kept":302,"cut":false,"hidden":true,"merged":[]}
[null,"101 m","100m","801 m","800 m","Pont","Távol","Súlyl.","Kisl.","Pont",null,null,"Távol"]
[null,9.98,10,"00:01:42.380","00:01:42.400",300,1.8,3,4,0,null,null,1.8,null,180]
[null,10.005100000000001,10.024000000000042,"00:01:42.405","00:01:42.752",299,1.82,3.06,4.3600000000000003,1,null,null,1.82,null,182]
[null,10.029100000000042,10.048000000000041,"00:01:42.757","00:01:43.104",298,1.85,3.12,4.7300000000000004,2,null,null,1.85,null,185]
[null,10.053100000000041,10.07200000000004,"00:01:43.109","00:01:43.456",297,1.87,3.17,5.09,3,null,null,1.87,null,187]
[null,10.077100000000041,10.096000000000039,"00:01:43.461","00:01:43.808",296,1.89,3.23,5.46,4,null,null,1.89,null,189]
[null,10.10110000000004,10.120000000000038,"00:01:43.813","00:01:44.160",295,1.92,3.29,5.82,5,null,null,1.92,null,192]
[null,10.125100000000039,10.144000000000037,"00:01:44.165","00:01:44.512",294,1.94,3.35,6.19,6,null,null,1.94,null,194]
[null,10.149100000000038,10.168000000000037,"00:01:44.517","00:01:44.864",293,1.96,3.4,6.55,7,null,null,1.96,null,196]
[null,10.173100000000037,10.192000000000036,"00:01:44.869","00:01:45.216",292,1.99,3.46,6.92,8,null,null,1.99,null,199]
[null,10.197100000000036,10.216000000000035,"00:01:45.221","00:01:45.568",291,2.0099999999999998,3.52,7.28,9,null,null,2.0099999999999998,null,201]
[null,10.221100000000035,10.240000000000034,"00:01:45.573","00:01:45.920",290,2.0299999999999998,3.58,7.65,10,null,null,2.0299999999999998,null,203]
[null,10.245100000000035,10.264000000000033,"00:01:45.925","00:01:46.272",289,2.06,3.63,8.01,11,null,null,2.06,null,206]
[null,10.269100000000034,10.288000000000032,"00:01:46.277","00:01:46.624",288,2.08,3.69,8.3800000000000008,12,null,null,2.08,null,208]
[null,10.293100000000033,10.312000000000031,"00:01:46.629","00:01:46.976",287,2.1,3.75,8.74,13,null,null,2.1,null,210]
[null,10.317100000000032,10.33600000000003,"00:01:46.981","00:01:47.328",286,2.13,3.81,9.11,14,null,null,2.13,null,213]
[null,10.341100000000031,10.36000000000003,"00:01:47.333","00:01:47.680",285,2.15,3.86,9.4700000000000006,15,null,null,2.15,null,215]
[null,10.36510000000003,10.384000000000029,"00:01:47.685","00:01:48.032",284,2.17,3.92,9.84,16,null,null,2.17,null,217]
[null,10.389100000000029,10.408000000000028,"00:01:48.037","00:01:48.384",283,2.2000000000000002,3.98,10.199999999999999,17,null,null,2.2000000000000002,null,220]
[null,10.413100000000028,10.432000000000027,"00:01:48.389","00:01:48.736",282,2.2200000000000002,4.04,10.57,18,null,null,2.2200000000000002,null,222]
[null,10.437100000000028,10.456000000000026,"00:01:48.741","00:01:49.088",281,2.2400000000000002,4.09,10.93,19,null,null,2.2400000000000002,null,224]
[null,10.461100000000027,10.480000000000025,"00:01:49.093","00:01:49.440",280,2.27,4.1500000000000004,11.3,20,null,null,2.27,null,227]
[null,10.485100000000026,10.504000000000024,"00:01:49.445","00:01:49.792",279,2.29,4.21,11.66,21,null,null,2.29,null,229]
[null,10.509100000000025,10.528000000000024,"00:01:49.797","00:01:50.144",278,2.31,4.2699999999999996,12.03,22,null,null,2.31,null,231]
[null,10.533100000000024,10.552000000000023,"00:01:50.149","00:01:50.496",277,2.34,4.32,12.39,23,null,null,2.34,null,234]
[null,10.557100000000023,10.576000000000022,"00:01:50.501","00:01:50.848",276,2.36,4.38,12.76,24,null,null,2.36,null,236]
[null,10.581100000000022,10.600000000000021,"00:01:50.853","00:01:51.200",275,2.39,4.4400000000000004,13.12,25,null,null,2.39,null,239]
[null,10.605100000000022,10.62400000000002,"00:01:51.205","00:01:51.552",274,2.41,4.5,13.48,26,null,null,2.41,null,241]
[null,10.629100000000021,10.648000000000019,"00:01:51.557","00:01:51.904",273,2.4300000000000002,4.5599999999999996,13.85,27,null,null,2.4300000000000002,null,243]
[null,10.65310000000002,10.672000000000018,"00:01:51.909","00:01:52.256",272,2.46,4.6100000000000003,14.21,28,null,null,2.46,null,246]
[null,10.677100000000019,10.696000000000017,"00:01:52.261","00:01:52.608",271,2.48,4.67,14.58,29,null,null,2.48,null,248]
[null,10.701100000000018,10.720000000000017,"00:01:52.613","00:01:52.960",270,2.5,4.7300000000000004,14.94,30,null,null,2.5,null,250]
[null,10.725100000000017,10.744000000000016,"00:01:52.965","00:01:53.312",269,2.5299999999999998,4.79,15.31,31,null,null,2.5299999999999998,null,253]
[null,10.749100000000016,10.768000000000015,"00:01:53.317","00:01:53.664",268,2.5499999999999998,4.84,15.67,32,null,null,2.5499999999999998,null,255]
[null,10.773100000000015,10.792000000000014,"00:01:53.669","00:01:54.016",267,2.57,4.9000000000000004,16.04,33,null,null,2.57,null,257]
[null,10.797100000000015,10.816000000000013,"00:01:54.021","00:01:54.368",266,2.6,4.96,16.399999999999999,34,null,null,2.6,null,260]
[null,10.821100000000014,10.840000000000012,"00:01:54.373","00:01:54.720",265,2.62,5.0199999999999996,16.77,35,null,null,2.62,null,262]
[null,10.845100000000013,10.864000000000011,"00:01:54.725","00:01:55.072",264,2.64,5.07,17.13,36,null,null,2.64,null,264]
[null,10.869100000000012,10.888000000000011,"00:01:55.077","00:01:55.424",263,2.67,5.13,17.5,37,null,null,2.67,null,267]
[null,10.893100000000011,10.91200000000001,"00:01:55.429","00:01:55.776",262,2.69,5.19,17.86,38,null,null,2.69,null,269]
[null,10.91710000000001,10.936000000000009,"00:01:55.781","00:01:56.128",261,2.71,5.25,18.23,39,null,null,2.71,null,271]
[null,10.941100000000009,10.960000000000008,"00:01:56.133","00:01:56.480",260,2.74,5.3,18.59,40,null,null,2.74,null,274]
[null,10.965100000000009,10.984000000000007,"00:01:56.485","00:01:56.832",259,2.76,5.36,18.96,41,null,null,2.76,null,276]
[null,10.989100000000008,11.008000000000006,"00:01:56.837","00:01:57.184",258,2.78,5.42,19.32,42,null,null,2.78,null,278]
[null,11.013100000000007,11.032000000000005,"00:01:57.189","00:01:57.536",257,2.81,5.48,19.690000000000001,43,null,null,2.81,null,281]
[null,11.037100000000006,11.056000000000004,"00:01:57.541","00:01:57.888",256,2.83,5.53,20.05,44,null,null,2.83,null,283]
[null,11.061100000000005,11.080000000000004,"00:01:57.893","00:01:58.240",255,2.85,5.59,20.420000000000002,45,null,null,2.85,null,285]
[null,11.085100000000004,11.104000000000003,"00:01:58.245","00:01:58.592",254,2.88,5.65,20.78,46,null,null,2.88,null,288]
[null,11.109100000000003,11.128000000000002,"00:01:58.597","00:01:58.944",253,2.9,5.71,21.15,47,null,null,2.9,null,290]
[null,11.133100000000002,11.152000000000001,"00:01:58.949","00:01:59.296",252,2.92,5.76,21.51,48,null,null,2.92,null,292]
[null,11.157100000000002,11.176,"00:01:59.301","00:01:59.648",251,2.95,5.82,21.88,49,null,null,2.95,null,295]
[null,11.181100000000001,11.2,"00:01:59.653","00:02:00",250,2.97,5.88,22.24,50,null,null,2.97,null,297]
[null,11.2051,11.23,"00:02:00.005","00:02:00.352",249,2.99,5.93,22.57,51,null,null,2.99,null,299]
[null,11.235100000000001,11.25,"00:02:00.357","00:02:00.704",248,3.01,5.99,22.91,52,null,null,3.01,null,301]
[null,11.255100000000001,11.28,"00:02:00.709","00:02:01.056",247,3.03,6.04,23.24,53,null,null,3.03,null,303]
[null,11.2851,11.3,"00:02:01.061","00:02:01.408",246,3.06,6.09,23.58,54,null,null,3.06,null,306]
[null,11.305100000000001,11.33,"00:02:01.413","00:02:01.760",245,3.08,6.14,23.91,55,null,null,3.08,null,308]
[null,11.335100000000001,11.35,"00:02:01.765","00:02:02.112",244,3.1,6.2,24.25,56,null,null,3.1,null,310]
[null,11.3551,11.38,"00:02:02.117","00:02:02.464",243,3.12,6.25,24.58,57,null,null,3.12,null,312]
[null,11.385100000000001,11.4,"00:02:02.469","00:02:02.816",242,3.14,6.3,24.92,58,null,null,3.14,null,314]
[null,11.405100000000001,11.43,"00:02:02.821","00:02:03.168",241,3.16,6.36,25.25,59,null,null,3.16,null,316]
[null,11.4351,11.45,"00:02:03.173","00:02:03.520",240,3.19,6.41,25.58,60,null,null,3.19,null,319]
[null,11.4551,11.48,"00:02:03.525","00:02:03.872",239,3.21,6.46,25.92,61,null,null,3.21,null,321]
[null,11.485100000000001,11.5,"00:02:03.877","00:02:04.224",238,3.23,6.51,26.25,62,null,null,3.23,null,323]
[null,11.505100000000001,11.53,"00:02:04.229","00:02:04.576",237,3.25,6.57,26.59,63,null,null,3.25,null,325]
[null,11.5351,11.55,"00:02:04.581","00:02:04.928",236,3.27,6.62,26.92,64,null,null,3.27,null,327]
[null,11.555100000000001,11.58,"00:02:04.933","00:02:05.280",235,3.29,6.67,27.26,65,null,null,3.29,null,329]
[null,11.585100000000001,11.6,"00:02:05.285","00:02:05.632",234,3.32,6.72,27.59,66,null,null,3.32,null,332]
[null,11.6051,11.63,"00:02:05.637","00:02:05.984",233,3.34,6.78,27.92,67,null,null,3.34,null,334]
[null,11.635100000000001,11.65,"00:02:05.989","00:02:06.336",232,3.36,6.83,28.26,68,null,null,3.36,null,336]
[null,11.655100000000001,11.68,"00:02:06.341","00:02:06.688",231,3.38,6.88,28.59,69,null,null,3.38,null,338]
[null,11.6851,11.7,"00:02:06.693","00:02:07.040",230,3.4,6.94,28.93,70,null,null,3.4,null,340]
[null,11.7051,11.73,"00:02:07.045","00:02:07.392",229,3.42,6.99,29.26,71,null,null,3.42,null,342]
[null,11.735100000000001,11.75,"00:02:07.397","00:02:07.744",228,3.45,7.04,29.6,72,null,null,3.45,null,345]
[null,11.755100000000001,11.78,"00:02:07.749","00:02:08.096",227,3.47,7.09,29.93,73,null,null,3.47,null,347]
[null,11.7851,11.8,"00:02:08.101","00:02:08.448",226,3.49,7.15,30.27,74,null,null,3.49,null,349]
[null,11.805100000000001,11.83,"00:02:08.453","00:02:08.800",225,3.51,7.2,30.6,75,null,null,3.51,null,351]
[null,11.835100000000001,11.85,"00:02:08.805","00:02:09.152",224,3.53,7.25,30.93,76,null,null,3.53,null,353]
[null,11.8551,11.88,"00:02:09.157","00:02:09.504",223,3.55,7.31,31.27,77,null,null,3.55,null,355]
[null,11.885100000000001,11.9,"00:02:09.509","00:02:09.856",222,3.57,7.36,31.6,78,null,null,3.57,null,357]
[null,11.905100000000001,11.93,"00:02:09.861","00:02:10.208",221,3.6,7.41,31.94,79,null,null,3.6,null,360]
[null,11.9351,11.95,"00:02:10.213","00:02:10.560",220,3.62,7.46,32.270000000000003,80,null,null,3.62,null,362]
[null,11.9551,11.98,"00:02:10.565","00:02:10.912",219,3.64,7.52,32.61,81,null,null,3.64,null,364]
[null,11.985100000000001,12,"00:02:10.917","00:02:11.264",218,3.66,7.57,32.94,82,null,null,3.66,null,366]
[null,12.005100000000001,12.03,"00:02:11.269","00:02:11.616",217,3.68,7.62,33.28,83,null,null,3.68,null,368]
[null,12.0351,12.05,"00:02:11.621","00:02:11.968",216,3.7,7.68,33.61,84,null,null,3.7,null,370]
[null,12.055100000000001,12.08,"00:02:11.973","00:02:12.320",215,3.73,7.73,33.94,85,null,null,3.73,null,373]
[null,12.085100000000001,12.1,"00:02:12.325","00:02:12.672",214,3.75,7.78,34.28,86,null,null,3.75,null,375]
[null,12.1051,12.13,"00:02:12.677","00:02:13.024",213,3.77,7.83,34.61,87,null,null,3.77,null,377]
[null,12.135100000000001,12.15,"00:02:13.029","00:02:13.376",212,3.79,7.89,34.950000000000003,88,null,null,3.79,null,379]
[null,12.155100000000001,12.18,"00:02:13.381","00:02:13.728",211,3.81,7.94,35.28,89,null,null,3.81,null,381]
[null,12.1851,12.2,"00:02:13.733","00:02:14.080",210,3.83,7.99,35.619999999999997,90,null,null,3.83,null,383]
[null,12.2051,12.23,"00:02:14.085","00:02:14.432",209,3.86,8.0399999999999991,35.950000000000003,91,null,null,3.86,null,386]
[null,12.235100000000001,12.25,"00:02:14.437","00:02:14.784",208,3.88,8.1,36.28,92,null,null,3.88,null,388]
[null,12.255100000000001,12.28,"00:02:14.789","00:02:15.136",207,3.9,8.15,36.619999999999997,93,null,null,3.9,null,390]
[null,12.2851,12.3,"00:02:15.141","00:02:15.488",206,3.92,8.1999999999999993,36.950000000000003,94,null,null,3.92,null,392]
[null,12.305100000000001,12.33,"00:02:15.493","00:02:15.840",205,3.94,8.26,37.29,95,null,null,3.94,null,394]
[null,12.335100000000001,12.35,"00:02:15.845","00:02:16.192",204,3.96,8.31,37.619999999999997,96,null,null,3.96,null,396]
[null,12.3551,12.38,"00:02:16.197","00:02:16.544",203,3.99,8.36,37.96,97,null,null,3.99,null,399]
[null,12.385100000000001,12.4,"00:02:16.549","00:02:16.896",202,4.01,8.41,38.29,98,null,null,4.01,null,401]
[null,12.405100000000001,12.43,"00:02:16.901","00:02:17.248",201,4.03,8.4700000000000006,38.630000000000003,99,null,null,4.03,null,403]
[null,12.4351,12.45,"00:02:17.253","00:02:17.600",200,4.05,8.52,38.96,100,null,null,4.05,null,405]
[null,12.4551,12.48,"00:02:17.605","00:02:17.996",199,4.07,8.57,39.26,101,null,null,4.07,null,407]
[null,12.485100000000001,12.51,"00:02:18.001","00:02:18.392",198,4.09,8.6199999999999992,39.57,102,null,null,4.09,null,409]
[null,12.5151,12.53,"00:02:18.397","00:02:18.788",197,4.1100000000000003,8.66,39.869999999999997,103,null,null,4.1100000000000003,null,411]
[null,12.5351,12.56,"00:02:18.793","00:02:19.184",196,4.13,8.7100000000000009,40.18,104,null,null,4.13,null,413]
[null,12.565100000000001,12.59,"00:02:19.189","00:02:19.580",195,4.1500000000000004,8.76,40.479999999999997,105,null,null,4.1500000000000004,null,415]
[null,12.5951,12.62,"00:02:19.585","00:02:19.976",194,4.17,8.81,40.78,106,null,null,4.17,null,417]
[null,12.6251,12.65,"00:02:19.981","00:02:20.372",193,4.1900000000000004,8.86,41.09,107,null,null,4.1900000000000004,null,419]
[null,12.655100000000001,12.67,"00:02:20.377","00:02:20.768",192,4.21,8.9,41.39,108,null,null,4.21,null,421]
[null,12.6751,12.7,"00:02:20.773","00:02:21.164",191,4.2300000000000004,8.9499999999999993,41.7,109,null,null,4.2300000000000004,null,423]
[null,12.7051,12.73,"00:02:21.169","00:02:21.560",190,4.25,9,42,110,null,null,4.25,null,425]
[null,12.735100000000001,12.76,"00:02:21.565","00:02:21.956",189,4.2699999999999996,9.0500000000000007,42.3,111,null,null,4.2699999999999996,null,427]
[null,12.7651,12.79,"00:02:21.961","00:02:22.352",188,4.29,9.1,42.61,112,null,null,4.29,null,429]
[null,12.7951,12.81,"00:02:22.357","00:02:22.748",187,4.3,9.14,42.91,113,null,null,4.3,null,430]
[null,12.815100000000001,12.84,"00:02:22.753","00:02:23.144",186,4.32,9.19,43.22,114,null,null,4.32,null,432]
[null,12.8451,12.87,"00:02:23.149","00:02:23.540",185,4.34,9.24,43.52,115,null,null,4.34,null,434]
[null,12.8751,12.9,"00:02:23.545","00:02:23.936",184,4.3600000000000003,9.2899999999999991,43.82,116,null,null,4.3600000000000003,null,436]
[null,12.905100000000001,12.93,"00:02:23.941","00:02:24.332",183,4.38,9.34,44.13,117,null,null,4.38,null,438]
[null,12.9351,12.95,"00:02:24.337","00:02:24.728",182,4.4000000000000004,9.3800000000000008,44.43,118,null,null,4.4000000000000004,null,440]
[null,12.9551,12.98,"00:02:24.733","00:02:25.124",181,4.42,9.43,44.74,119,null,null,4.42,null,442]
[null,12.985100000000001,13.01,"00:02:25.129","00:02:25.520",180,4.4400000000000004,9.48,45.04,120,null,null,4.4400000000000004,null,444]
[null,13.0151,13.04,"00:02:25.525","00:02:25.916",179,4.46,9.5299999999999994,45.34,121,null,null,4.46,null,446]
[null,13.0451,13.07,"00:02:25.921","00:02:26.312",178,4.4800000000000004,9.58,45.65,122,null,null,4.4800000000000004,null,448]
[null,13.075100000000001,13.09,"00:02:26.317","00:02:26.708",177,4.5,9.6199999999999992,45.95,123,null,null,4.5,null,450]
[null,13.0951,13.12,"00:02:26.713","00:02:27.104",176,4.5199999999999996,9.67,46.26,124,null,null,4.5199999999999996,null,452]
[null,13.1251,13.15,"00:02:27.109","00:02:27.500",175,4.54,9.7200000000000006,46.56,125,null,null,4.54,null,454]
[null,13.155100000000001,13.18,"00:02:27.505","00:02:27.896",174,4.5599999999999996,9.77,46.86,126,null,null,4.5599999999999996,null,456]
[null,13.1851,13.21,"00:02:27.901","00:02:28.292",173,4.58,9.82,47.17,127,null,null,4.58,null,458]
[null,13.215100000000001,13.23,"00:02:28.297","00:02:28.688",172,4.5999999999999996,9.86,47.47,128,null,null,4.5999999999999996,null,460]
[null,13.235100000000001,13.26,"00:02:28.693","00:02:29.084",171,4.62,9.91,47.78,129,null,null,4.62,null,462]
[null,13.2651,13.29,"00:02:29.089","00:02:29.480",170,4.6399999999999997,9.9600000000000009,48.08,130,null,null,4.6399999999999997,null,464]
[null,13.2951,13.32,"00:02:29.485","00:02:29.876",169,4.66,10.01,48.38,131,null,null,4.66,null,466]
[null,13.325100000000001,13.35,"00:02:29.881","00:02:30.272",168,4.68,10.06,48.69,132,null,null,4.68,null,468]
[null,13.3551,13.37,"00:02:30.277","00:02:30.668",167,4.7,10.1,48.99,133,null,null,4.7,null,470]
[null,13.3751,13.4,"00:02:30.673","00:02:31.064",166,4.72,10.15,49.3,134,null,null,4.72,null,472]
[null,13.405100000000001,13.43,"00:02:31.069","00:02:31.460",165,4.74,10.199999999999999,49.6,135,null,null,4.74,null,474]
[null,13.4351,13.46,"00:02:31.465","00:02:31.856",164,4.76,10.25,49.9,136,null,null,4.76,null,476]
[null,13.465100000000001,13.49,"00:02:31.861","00:02:32.252",163,4.78,10.3,50.21,137,null,null,4.78,null,478]
[null,13.495100000000001,13.51,"00:02:32.257","00:02:32.648",162,4.79,10.34,50.51,138,null,null,4.79,null,479]
[null,13.5151,13.54,"00:02:32.653","00:02:33.044",161,4.8099999999999996,10.39,50.82,139,null,null,4.8099999999999996,null,481]
[null,13.5451,13.57,"00:02:33.049","00:02:33.440",160,4.83,10.44,51.12,140,null,null,4.83,null,483]
[null,13.575100000000001,13.6,"00:02:33.445","00:02:33.836",159,4.8499999999999996,10.49,51.42,141,null,null,4.8499999999999996,null,485]
[null,13.6051,13.63,"00:02:33.841","00:02:34.232",158,4.87,10.54,51.73,142,null,null,4.87,null,487]
[null,13.635100000000001,13.65,"00:02:34.237","00:02:34.628",157,4.8899999999999997,10.58,52.03,143,null,null,4.8899999999999997,null,489]
[null,13.655100000000001,13.68,"00:02:34.633","00:02:35.024",156,4.91,10.63,52.34,144,null,null,4.91,null,491]
[null,13.6851,13.71,"00:02:35.029","00:02:35.420",155,4.93,10.68,52.64,145,null,null,4.93,null,493]
[null,13.715100000000001,13.74,"00:02:35.425","00:02:35.816",154,4.95,10.73,52.94,146,null,null,4.95,null,495]
[null,13.745100000000001,13.77,"00:02:35.821","00:02:36.212",153,4.97,10.78,53.25,147,null,null,4.97,null,497]
[null,13.7751,13.79,"00:02:36.217","00:02:36.608",152,4.99,10.82,53.55,148,null,null,4.99,null,499]
[null,13.7951,13.82,"00:02:36.613","00:02:37.004",151,5.01,10.87,53.86,149,null,null,5.01,null,501]
[null,13.825100000000001,13.85,"00:02:37.009","00:02:37.400",150,5.03,10.92,54.16,150,null,null,5.03,null,503]
[null,13.8551,13.88,"00:02:37.405","00:02:37.840",149,5.05,10.96,54.43,151,null,null,5.05,null,505]
[null,13.885100000000001,13.91,"00:02:37.845","00:02:38.280",148,5.07,11.01,54.71,152,null,null,5.07,null,507]
[null,13.915100000000001,13.94,"00:02:38.285","00:02:38.720",147,5.08,11.05,54.98,153,null,null,5.08,null,508]
[null,13.9451,13.97,"00:02:38.725","00:02:39.160",146,5.0999999999999996,11.09,55.25,154,null,null,5.0999999999999996,null,510]
[null,13.975100000000001,14.01,"00:02:39.165","00:02:39.600",145,5.12,11.14,55.53,155,null,null,5.12,null,512]
[null,14.0151,14.04,"00:02:39.605","00:02:40.040",144,5.14,11.18,55.8,156,null,null,5.14,null,514]
[null,14.0451,14.07,"00:02:40.045","00:02:40.480",143,5.15,11.22,56.08,157,null,null,5.15,null,515]
[null,14.075100000000001,14.1,"00:02:40.485","00:02:40.920",142,5.17,11.27,56.35,158,null,null,5.17,null,517]
[null,14.1051,14.13,"00:02:40.925","00:02:41.360",141,5.19,11.31,56.62,159,null,null,5.19,null,519]
[null,14.135100000000001,14.16,"00:02:41.365","00:02:41.800",140,5.21,11.35,56.9,160,null,null,5.21,null,521]
[null,14.165100000000001,14.19,"00:02:41.805","00:02:42.240",139,5.22,11.4,57.17,161,null,null,5.22,null,522]
[null,14.1951,14.22,"00:02:42.245","00:02:42.680",138,5.24,11.44,57.44,162,null,null,5.24,null,524]
[null,14.225100000000001,14.26,"00:02:42.685","00:02:43.120",137,5.26,11.48,57.72,163,null,null,5.26,null,526]
[null,14.2651,14.29,"00:02:43.125","00:02:43.560",136,5.28,11.52,57.99,164,null,null,5.28,null,528]
[null,14.2951,14.32,"00:02:43.565","00:02:44",135,5.29,11.57,58.26,165,null,null,5.29,null,529]
[null,14.325100000000001,14.35,"00:02:44.005","00:02:44.440",134,5.31,11.61,58.54,166,null,null,5.31,null,531]
[null,14.3551,14.38,"00:02:44.445","00:02:44.880",133,5.33,11.65,58.81,167,null,null,5.33,null,533]
[null,14.385100000000001,14.41,"00:02:44.885","00:02:45.320",132,5.35,11.7,59.08,168,null,null,5.35,null,535]
[null,14.415100000000001,14.44,"00:02:45.325","00:02:45.760",131,5.36,11.74,59.36,169,null,null,5.36,null,536]
[null,14.4451,14.47,"00:02:45.765","00:02:46.200",130,5.38,11.78,59.63,170,null,null,5.38,null,538]
[null,14.475100000000001,14.51,"00:02:46.205","00:02:46.640",129,5.4,11.83,59.91,171,null,null,5.4,null,540]
[null,14.5151,14.54,"00:02:46.645","00:02:47.080",128,5.42,11.87,60.18,172,null,null,5.42,null,542]
[null,14.5451,14.57,"00:02:47.085","00:02:47.520",127,5.43,11.91,60.45,173,null,null,5.43,null,543]
[null,14.575100000000001,14.6,"00:02:47.525","00:02:47.960",126,5.45,11.96,60.73,174,null,null,5.45,null,545]
[null,14.6051,14.63,"00:02:47.965","00:02:48.400",125,5.47,12,61,175,null,null,5.47,null,547]
[null,14.635100000000001,14.66,"00:02:48.405","00:02:48.840",124,5.49,12.04,61.27,176,null,null,5.49,null,549]
[null,14.665100000000001,14.69,"00:02:48.845","00:02:49.280",123,5.51,12.09,61.55,177,null,null,5.51,null,551]
[null,14.6951,14.72,"00:02:49.285","00:02:49.720",122,5.52,12.13,61.82,178,null,null,5.52,null,552]
[null,14.725100000000001,14.75,"00:02:49.725","00:02:50.160",121,5.54,12.17,62.09,179,null,null,5.54,null,554]
[null,14.755100000000001,14.79,"00:02:50.165","00:02:50.600",120,5.56,12.22,62.37,180,null,null,5.56,null,556]
[null,14.7951,14.82,"00:02:50.605","00:02:51.040",119,5.58,12.26,62.64,181,null,null,5.58,null,558]
[null,14.825100000000001,14.85,"00:02:51.045","00:02:51.480",118,5.59,12.3,62.92,182,null,null,5.59,null,559]
[null,14.8551,14.88,"00:02:51.485","00:02:51.920",117,5.61,12.35,63.19,183,null,null,5.61,null,561]
[null,14.885100000000001,14.91,"00:02:51.925","00:02:52.360",116,5.63,12.39,63.46,184,null,null,5.63,null,563]
[null,14.915100000000001,14.94,"00:02:52.365","00:02:52.800",115,5.65,12.43,63.74,185,null,null,5.65,null,565]
[null,14.9451,14.97,"00:02:52.805","00:02:53.240",114,5.66,12.48,64.010000000000005,186,null,null,5.66,null,566]
[null,14.975100000000001,15,"00:02:53.245","00:02:53.680",113,5.68,12.52,64.28,187,null,null,5.68,null,568]
[null,15.005100000000001,15.04,"00:02:53.685","00:02:54.120",112,5.7,12.56,64.56,188,null,null,5.7,null,570]
[null,15.0451,15.07,"00:02:54.125","00:02:54.560",111,5.72,12.6,64.83,189,null,null,5.72,null,572]
[null,15.075100000000001,15.1,"00:02:54.565","00:02:55",110,5.73,12.65,65.099999999999994,190,null,null,5.73,null,573]
[null,15.1051,15.13,"00:02:55.005","00:02:55.440",109,5.75,12.69,65.38,191,null,null,5.75,null,575]
[null,15.135100000000001,15.16,"00:02:55.445","00:02:55.880",108,5.77,12.73,65.650000000000006,192,null,null,5.77,null,577]
[null,15.165100000000001,15.19,"00:02:55.885","00:02:56.320",107,5.79,12.78,65.92,193,null,null,5.79,null,579]
[null,15.1951,15.22,"00:02:56.325","00:02:56.760",106,5.8,12.82,66.2,194,null,null,5.8,null,580]
[null,15.225100000000001,15.25,"00:02:56.765","00:02:57.200",105,5.82,12.86,66.47,195,null,null,5.82,null,582]
[null,15.255100000000001,15.29,"00:02:57.205","00:02:57.640",104,5.84,12.91,66.75,196,null,null,5.84,null,584]
[null,15.2951,15.32,"00:02:57.645","00:02:58.080",103,5.86,12.95,67.02,197,null,null,5.86,null,586]
[null,15.325100000000001,15.35,"00:02:58.085","00:02:58.520",102,5.87,12.99,67.290000000000006,198,null,null,5.87,null,587]
[null,15.3551,15.38,"00:02:58.525","00:02:58.960",101,5.89,13.04,67.569999999999993,199,null,null,5.89,null,589]
[null,15.385100000000001,15.41,"00:02:58.965","00:02:59.400",100,5.91,13.08,67.84,200,null,null,5.91,null,591]
[null,15.415100000000001,15.44,"00:02:59.405","00:02:59.884",99,5.93,13.12,68.08,201,null,null,5.93,null,593]
[null,15.4451,15.48,"00:02:59.889","00:03:00.368",98,5.94,13.16,68.33,202,null,null,5.94,null,594]
[null,15.485100000000001,15.51,"00:03:00.373","00:03:00.852",97,5.96,13.2,68.569999999999993,203,null,null,5.96,null,596]
[null,15.5151,15.55,"00:03:00.857","00:03:01.336",96,5.97,13.23,68.81,204,null,null,5.97,null,597]
[null,15.555100000000001,15.58,"00:03:01.341","00:03:01.820",95,5.99,13.27,69.06,205,null,null,5.99,null,599]
[null,15.585100000000001,15.62,"00:03:01.825","00:03:02.304",94,6,13.31,69.3,206,null,null,6,null,600]
[null,15.6251,15.65,"00:03:02.309","00:03:02.788",93,6.02,13.35,69.540000000000006,207,null,null,6.02,null,602]
[null,15.655100000000001,15.69,"00:03:02.793","00:03:03.272",92,6.04,13.39,69.790000000000006,208,null,null,6.04,null,604]
[null,15.6951,15.72,"00:03:03.277","00:03:03.756",91,6.05,13.43,70.03,209,null,null,6.05,null,605]
[null,15.725100000000001,15.75,"00:03:03.761","00:03:04.240",90,6.07,13.46,70.27,210,null,null,6.07,null,607]
[null,15.755100000000001,15.79,"00:03:04.245","00:03:04.724",89,6.08,13.5,70.52,211,null,null,6.08,null,608]
[null,15.7951,15.82,"00:03:04.729","00:03:05.208",88,6.1,13.54,70.760000000000005,212,null,null,6.1,null,610]
[null,15.825100000000001,15.86,"00:03:05.213","00:03:05.692",87,6.12,13.58,71,213,null,null,6.12,null,612]
[null,15.8651,15.89,"00:03:05.697","00:03:06.176",86,6.13,13.62,71.239999999999995,214,null,null,6.13,null,613]
[null,15.895100000000001,15.93,"00:03:06.181","00:03:06.660",85,6.15,13.66,71.489999999999995,215,null,null,6.15,null,615]
[null,15.9351,15.96,"00:03:06.665","00:03:07.144",84,6.16,13.69,71.73,216,null,null,6.16,null,616]
[null,15.965100000000001,15.99,"00:03:07.149","00:03:07.628",83,6.18,13.73,71.97,217,null,null,6.18,null,618]
[null,15.995100000000001,16.03,"00:03:07.633","00:03:08.112",82,6.19,13.77,72.22,218,null,null,6.19,null,619]
[null,16.0351,16.059999999999999,"00:03:08.117","00:03:08.596",81,6.21,13.81,72.459999999999994,219,null,null,6.21,null,621]
[null,16.065099999999997,16.100000000000001,"00:03:08.601","00:03:09.080",80,6.23,13.85,72.7,220,null,null,6.23,null,623]
[null,16.1051,16.13,"00:03:09.085","00:03:09.564",79,6.24,13.89,72.95,221,null,null,6.24,null,624]
[null,16.135099999999998,16.170000000000002,"00:03:09.569","00:03:10.048",78,6.26,13.92,73.19,222,null,null,6.26,null,626]
[null,16.1751,16.2,"00:03:10.053","00:03:10.532",77,6.27,13.96,73.430000000000007,223,null,null,6.27,null,627]
[null,16.205099999999998,16.239999999999998,"00:03:10.537","00:03:11.016",76,6.29,14,73.680000000000007,224,null,null,6.29,null,629]
[null,16.245099999999997,16.27,"00:03:11.021","00:03:11.500",75,6.31,14.04,73.92,225,null,null,6.31,null,631]
[null,16.275099999999998,16.3,"00:03:11.505","00:03:11.984",74,6.32,14.08,74.16,226,null,null,6.32,null,632]
[null,16.305099999999999,16.34,"00:03:11.989","00:03:12.468",73,6.34,14.12,74.41,227,null,null,6.34,null,634]
[null,16.345099999999999,16.37,"00:03:12.473","00:03:12.952",72,6.35,14.16,74.650000000000006,228,null,null,6.35,null,635]
[null,16.3751,16.41,"00:03:12.957","00:03:13.436",71,6.37,14.19,74.89,229,null,null,6.37,null,637]
[null,16.415099999999999,16.440000000000001,"00:03:13.441","00:03:13.920",70,6.38,14.23,75.14,230,null,null,6.38,null,638]
[null,16.4451,16.48,"00:03:13.925","00:03:14.404",69,6.4,14.27,75.38,231,null,null,6.4,null,640]
[null,16.485099999999999,16.510000000000002,"00:03:14.409","00:03:14.888",68,6.42,14.31,75.62,232,null,null,6.42,null,642]
[null,16.5151,16.55,"00:03:14.893","00:03:15.372",67,6.43,14.35,75.87,233,null,null,6.43,null,643]
[null,16.555099999999999,16.579999999999998,"00:03:15.377","00:03:15.856",66,6.45,14.39,76.11,234,null,null,6.45,null,645]
[null,16.585099999999997,16.61,"00:03:15.861","00:03:16.340",65,6.46,14.42,76.349999999999994,235,null,null,6.46,null,646]
[null,16.615099999999998,16.649999999999999,"00:03:16.345","00:03:16.824",64,6.48,14.46,76.599999999999994,236,null,null,6.48,null,648]
[null,16.655099999999997,16.68,"00:03:16.829","00:03:17.308",63,6.49,14.5,76.84,237,null,null,6.49,null,649]
[null,16.685099999999998,16.72,"00:03:17.313","00:03:17.792",62,6.51,14.54,77.08,238,null,null,6.51,null,651]
[null,16.725099999999998,16.75,"00:03:17.797","00:03:18.276",61,6.53,14.58,77.319999999999993,239,null,null,6.53,null,653]
[null,16.755099999999999,16.79,"00:03:18.281","00:03:18.760",60,6.54,14.62,77.569999999999993,240,null,null,6.54,null,654]
[null,16.795099999999998,16.82,"00:03:18.765","00:03:19.244",59,6.56,14.65,77.81,241,null,null,6.56,null,656]
[null,16.825099999999999,16.850000000000001,"00:03:19.249","00:03:19.728",58,6.57,14.69,78.05,242,null,null,6.57,null,657]
[null,16.8551,16.89,"00:03:19.733","00:03:20.212",57,6.59,14.73,78.3,243,null,null,6.59,null,659]
[null,16.895099999999999,16.920000000000002,"00:03:20.217","00:03:20.696",56,6.61,14.77,78.540000000000006,244,null,null,6.61,null,661]
[null,16.9251,16.96,"00:03:20.701","00:03:21.180",55,6.62,14.81,78.78,245,null,null,6.62,null,662]
[null,16.9651,16.989999999999998,"00:03:21.185","00:03:21.664",54,6.64,14.85,79.03,246,null,null,6.64,null,664]
[null,16.995099999999997,17.03,"00:03:21.669","00:03:22.148",53,6.65,14.88,79.27,247,null,null,6.65,null,665]
[null,17.0351,17.059999999999999,"00:03:22.153","00:03:22.632",52,6.67,14.92,79.510000000000005,248,null,null,6.67,null,667]
[null,17.065099999999997,17.100000000000001,"00:03:22.637","00:03:23.116",51,6.68,14.96,79.760000000000005,249,null,null,6.68,null,668]
[null,17.1051,17.13,"00:03:23.121","00:03:23.600",50,6.7,15,80,250,null,null,6.7,null,670]
[null,17.135099999999998,17.170000000000002,"00:03:23.605","00:03:24.128",49,6.72,15.04,80.239999999999995,251,null,null,6.72,null,672]
[null,17.1751,17.2,"00:03:24.133","00:03:24.656",48,6.73,15.08,80.48,252,null,null,6.73,null,673]
[null,17.205099999999998,17.239999999999998,"00:03:24.661","00:03:25.184",47,6.75,15.12,80.72,253,null,null,6.75,null,675]
[null,17.245099999999997,17.28,"00:03:25.189","00:03:25.712",46,6.76,15.16,80.959999999999994,254,null,null,6.76,null,676]
[null,17.2851,17.32,"00:03:25.717","00:03:26.240",45,6.78,15.2,81.2,255,null,null,6.78,null,678]
[null,17.325099999999999,17.350000000000001,"00:03:26.245","00:03:26.768",44,6.79,15.24,81.44,256,null,null,6.79,null,679]
[null,17.3551,17.39,"00:03:26.773","00:03:27.296",43,6.81,15.28,81.680000000000007,257,null,null,6.81,null,681]
[null,17.395099999999999,17.43,"00:03:27.301","00:03:27.824",42,6.83,15.32,81.92,258,null,null,6.83,null,683]
[null,17.435099999999998,17.47,"00:03:27.829","00:03:28.352",41,6.84,15.36,82.159999999999954,259,null,null,6.84,null,684]
[null,17.475099999999998,17.5,"00:03:28.357","00:03:28.880",40,6.86,15.4,82.4,260,null,null,6.86,null,686]
[null,17.505099999999999,17.54,"00:03:28.885","00:03:29.408",39,6.87,15.44,82.64,261,null,null,6.87,null,687]
[null,17.545099999999998,17.579999999999998,"00:03:29.413","00:03:29.936",38,6.89,15.48,82.88,262,null,null,6.89,null,689]
[null,17.585099999999997,17.62,"00:03:29.941","00:03:30.464",37,6.91,15.52,83.12,263,null,null,6.91,null,691]
[null,17.6251,17.649999999999999,"00:03:30.469","00:03:30.992",36,6.92,15.56,83.36,264,null,null,6.92,null,692]
[null,17.655099999999997,17.690000000000001,"00:03:30.997","00:03:31.520",35,6.94,15.6,83.6,265,null,null,6.94,null,694]
[null,17.6951,17.73,"00:03:31.525","00:03:32.048",34,6.95,15.64,83.84,266,null,null,6.95,null,695]
[null,17.735099999999999,17.77,"00:03:32.053","00:03:32.576",33,6.97,15.68,84.08,267,null,null,6.97,null,697]
[null,17.775099999999998,17.8,"00:03:32.581","00:03:33.104",32,6.98,15.72,84.32,268,null,null,6.98,null,698]
[null,17.805099999999999,17.84,"00:03:33.109","00:03:33.632",31,7,15.76,84.56,269,null,null,7,null,700]
[null,17.845099999999999,17.88,"00:03:33.637","00:03:34.160",30,7.02,15.8,84.8,270,null,null,7.02,null,702]
[null,17.885099999999998,17.920000000000002,"00:03:34.165","00:03:34.688",29,7.03,15.84,85.04,271,null,null,7.03,null,703]
[null,17.9251,17.95,"00:03:34.693","00:03:35.216",28,7.05,15.88,85.28,272,null,null,7.05,null,705]
[null,17.955099999999998,17.989999999999998,"00:03:35.221","00:03:35.744",27,7.06,15.92,85.52,273,null,null,7.06,null,706]
[null,17.995099999999997,18.03,"00:03:35.749","00:03:36.272",26,7.08,15.96,85.76,274,null,null,7.08,null,708]
[null,18.0351,18.07,"00:03:36.277","00:03:36.800",25,7.1,16,86,275,null,null,7.1,null,710]
[null,18.075099999999999,18.100000000000001,"00:03:36.805","00:03:37.328",24,7.11,16.04,86.24,276,null,null,7.11,null,711]
[null,18.1051,18.14,"00:03:37.333","00:03:37.856",23,7.13,16.079999999999998,86.48,277,null,null,7.13,null,713]
[null,18.145099999999999,18.18,"00:03:37.861","00:03:38.384",22,7.14,16.12,86.72,278,null,null,7.14,null,714]
[null,18.185099999999998,18.21,"00:03:38.389","00:03:38.912",21,7.16,16.16,86.96,279,null,null,7.16,null,716]
[null,18.2151,18.25,"00:03:38.917","00:03:39.440",20,7.17,16.2,87.2,280,null,null,7.17,null,717]
[null,18.255099999999999,18.29,"00:03:39.445","00:03:39.968",19,7.19,16.239999999999998,87.44,281,null,null,7.19,null,719]
[null,18.295099999999998,18.329999999999998,"00:03:39.973","00:03:40.496",18,7.21,16.28,87.68,282,null,null,7.21,null,721]
[null,18.335099999999997,18.36,"00:03:40.501","00:03:41.024",17,7.22,16.32,87.92,283,null,null,7.22,null,722]
[null,18.365099999999998,18.399999999999999,"00:03:41.029","00:03:41.552",16,7.24,16.36,88.16,284,null,null,7.24,null,724]
[null,18.405099999999997,18.440000000000001,"00:03:41.557","00:03:42.080",15,7.25,16.399999999999999,88.4,285,null,null,7.25,null,725]
[null,18.4451,18.48,"00:03:42.085","00:03:42.608",14,7.27,16.440000000000001,88.64,286,null,null,7.27,null,727]
[null,18.485099999999999,18.510000000000002,"00:03:42.613","00:03:43.136",13,7.28,16.48,88.88,287,null,null,7.28,null,728]
[null,18.5151,18.55,"00:03:43.141","00:03:43.664",12,7.3,16.52,89.12,288,null,null,7.3,null,730]
[null,18.555099999999999,18.59,"00:03:43.669","00:03:44.192",11,7.32,16.559999999999999,89.36,289,null,null,7.32,null,732]
[null,18.595099999999999,18.63,"00:03:44.197","00:03:44.720",10,7.33,16.600000000000001,89.6,290,null,null,7.33,null,733]
[null,18.635099999999998,18.66,"00:03:44.725","00:03:45.248",9,7.35,16.64,89.84,291,null,null,7.35,null,735]
[null,18.665099999999999,18.7,"00:03:45.253","00:03:45.776",8,7.36,16.68,90.08,292,null,null,7.36,null,736]
[null,18.705099999999998,18.739999999999998,"00:03:45.781","00:03:46.304",7,7.38,16.72,90.32,293,null,null,7.38,null,738]
[null,18.745099999999997,18.78,"00:03:46.309","00:03:46.832",6,7.4,16.760000000000002,90.56,294,null,null,7.4,null,740]
[null,18.7851,18.809999999999999,"00:03:46.837","00:03:47.360",5,7.41,16.8,90.8,295,null,null,7.41,null,741]
[null,18.815099999999997,18.850000000000001,"00:03:47.365","00:03:47.888",4,7.43,16.84,91.04,296,null,null,7.43,null,743]
[null,18.8551,18.89,"00:03:47.893","00:03:48.416",3,7.44,16.88,91.28,297,null,null,7.44,null,744]
[null,18.895099999999999,18.93,"00:03:48.421","00:03:48.944",2,7.46,16.920000000000002,91.52,298,null,null,7.46,null,746]
[null,18.935099999999998,18.96,"00:03:48.949","00:03:49.472",1,7.47,16.96,91.76,299,null,null,7.47,null,747]
[null,18.9651,19,"00:03:49.477","00:03:50",0,7.49,17,92,300,null,null,7.49,null,749]

{"sheet":"Be","index":1,"n_rows":244,"n_cols":15,"rows_kept":244,"cut":false,"hidden":false,"merged":[[27,2,27,3],[27,4,27,5],[27,6,27,7],[26,0,26,13],[27,10,27,11],[26,14,27,15],[33,14,33,15],[28,14,31,15],[36,0,36,13],[36,14,37,15],[37,2,37,3],[37,4,37,5],[37,6,37,7],[37,10,37,11],[27,8,27,9],[37,8,37,9],[48,14,51,15],[53,14,53,15],[56,0,56,13],[56,14,57,15],[57,2,57,3],[57,4,57,5],[57,6,57,7],[57,10,57,11],[38,14,41,15],[43,14,43,15],[46,0,46,13],[46,14,47,15],[47,2,47,3],[47,4,47,5],[47,6,47,7],[47,10,47,11],[47,8,47,9],[57,8,57,9],[68,14,71,15],[73,14,73,15],[76,0,76,13],[76,14,77,15],[77,2,77,3],[77,4,77,5],[77,6,77,7],[77,10,77,11],[58,14,61,15],[63,14,63,15],[66,0,66,13],[66,14,67,15],[67,2,67,3],[67,4,67,5],[67,6,67,7],[67,10,67,11],[67,8,67,9],[77,8,77,9],[88,14,91,15],[93,14,93,15],[96,0,96,13],[96,14,97,15],[97,2,97,3],[97,4,97,5],[97,6,97,7],[97,10,97,11],[78,14,81,15],[83,14,83,15],[86,0,86,13],[86,14,87,15],[87,2,87,3],[87,4,87,5],[87,6,87,7],[87,10,87,11],[87,8,87,9],[97,8,97,9],[108,14,111,15],[113,14,113,15],[116,0,116,13],[116,14,117,15],[117,2,117,3],[117,4,117,5],[117,6,117,7],[117,10,117,11],[98,14,101,15],[103,14,103,15],[106,0,106,13],[106,14,107,15],[107,2,107,3],[107,4,107,5],[107,6,107,7],[107,10,107,11],[107,8,107,9],[117,8,117,9],[128,14,131,15],[133,14,133,15],[136,0,136,13],[136,14,137,15],[137,2,137,3],[137,4,137,5],[137,6,137,7],[137,10,137,11],[118,14,121,15],[123,14,123,15],[126,0,126,13],[126,14,127,15],[127,2,127,3],[127,4,127,5],[127,6,127,7],[127,10,127,11],[127,8,127,9],[137,8,137,9],[148,14,151,15],[153,14,153,15],[156,0,156,13],[156,14,157,15],[157,2,157,3],[157,4,157,5],[157,6,157,7],[157,10,157,11],[138,14,141,15],[143,14,143,15],[146,0,146,13],[146,14,147,15],[147,2,147,3],[147,4,147,5],[147,6,147,7],[147,10,147,11],[147,8,147,9],[157,8,157,9],[176,0,176,13],[176,14,177,15],[177,2,177,3],[177,4,177,5],[177,6,177,7],[177,10,177,11],[158,14,161,15],[163,14,163,15],[166,0,166,13],[166,14,167,15],[167,2,167,3],[167,4,167,5],[167,6,167,7],[167,10,167,11],[167,8,167,9],[177,8,177,9],[196,0,196,13],[196,14,197,15],[197,2,197,3],[197,4,197,5],[197,6,197,7],[197,10,197,11],[178,14,181,15],[183,14,183,15],[186,0,186,13],[186,14,187,15],[187,2,187,3],[187,4,187,5],[187,6,187,7],[187,10,187,11],[187,8,187,9],[197,8,197,9],[216,0,216,13],[216,14,217,15],[217,2,217,3],[217,4,217,5],[217,6,217,7],[217,10,217,11],[198,14,201,15],[203,14,203,15],[206,0,206,13],[206,14,207,15],[207,2,207,3],[207,4,207,5],[207,6,207,7],[207,10,207,11],[207,8,207,9],[217,8,217,9],[236,0,236,13],[236,14,237,15],[237,2,237,3],[237,4,237,5],[237,6,237,7],[237,10,237,11],[218,14,221,15],[223,14,223,15],[226,0,226,13],[226,14,227,15],[227,2,227,3],[227,4,227,5],[227,6,227,7],[227,10,227,11],[227,8,227,9],[237,8,237,9],[238,14,241,15],[243,14,243,15],[3,14,3,15],[4,14,4,15],[5,14,5,15],[6,14,6,15],[7,14,7,15],[8,14,8,15],[9,14,9,15],[10,14,10,15],[11,14,11,15],[12,14,12,15],[13,14,13,15],[14,14,14,15],[15,14,15,15],[16,14,16,15],[228,14,231,15],[233,14,233,15],[208,14,211,15],[213,14,213,15],[188,14,191,15],[193,14,193,15],[168,14,171,15],[173,14,173,15],[22,14,22,15],[23,14,23,15],[24,14,24,15],[2,14,2,15],[0,0,0,15],[2,10,2,11],[17,14,17,15],[18,14,18,15],[19,14,19,15],[20,14,20,15],[21,14,21,15],[2,2,2,3],[2,4,2,5],[2,6,2,7],[2,8,2,9]]}
["IV. korcsoport FIÚ Összetett verseny "]
[]
["Név","Sz.év","100 m",null,"Távolugrás",null,"Klabdahajítás",null,"Súlylökés",null,"800 m",null,"Összpont","helyezés","Iskola"]
["Kiss Bendegúz",2009,12.4,{"$f":"IF(C4<6.19,0,VLOOKUP(C4,rfut,5,TRUE))","v":202},5.85,{"$f":"IF(E4<1.79,0,VLOOKUP(E4,távol,4,TRUE))","v":196},41.41,{"$f":"IF(G4<4,0,VLOOKUP(G4,kisl,2,TRUE))","v":108},10.33,{"$f":"IF(I4<3,0,VLOOKUP(I4,súly,3,TRUE))","v":137},"00:02:26.100",{"$f":"IF(K4<fiú!$D$2,0,VLOOKUP(K4,hfut,3,TRUE))","v":178},{"$f":"SUM(D4,F4,H4,L4,J4)","v":821},{"$f":"RANK(M4,Egyéni!$N$3:$N$156,0)","v":2},"PTE Gyakorló Ált. Isk."]
["Tojzán Zádor",2008,12.4,202,5.65,185,48.48,131,11.79,170,"00:02:28.100",{"$f":"IF(K5<fiú!$D$2,0,VLOOKUP(K5,hfut,3,TRUE))","v":173},{"$f":"SUM(D5,F5,H5,L5,J5)","v":861},{"$f":"RANK(M5,Egyéni!$N$3:$N$156,0)","v":1},"Szekszárd, Garay"]
["Lakatos-Lamm Bence",2009,12.4,202,5.78,192,48.92,132,7.78,86,"00:02:39",{"$f":"IF(K6<fiú!$D$2,0,VLOOKUP(K6,hfut,3,TRUE))","v":146},758,{"$f":"RANK(M6,Egyéni!$N$3:$N$156,0)","v":6},"Dombóvári Illyés Gy. Gimn."]
[null,null,null,0,null,0,null,0,null,0,null,{"$f":"IF(K7<fiú!$D$2,0,VLOOKUP(K7,hfut,3,TRUE))","v":0},0,{"$f":"RANK(M7,Egyéni!$N$3:$N$156,0)","v":44}]
[null,null,null,0,null,0,null,0,null,0,null,{"$f":"IF(K8<fiú!$D$2,0,VLOOKUP(K8,hfut,3,TRUE))","v":0},0,{"$f":"RANK(M8,Egyéni!$N$3:$N$156,0)","v":44}]
[null,null,null,0,null,0,null,0,null,0,null,{"$f":"IF(K9<fiú!$D$2,0,VLOOKUP(K9,hfut,3,TRUE))","v":0},0,{"$f":"RANK(M9,Egyéni!$N$3:$N$156,0)","v":44}]
[null,null,null,0,null,0,null,0,null,0,null,{"$f":"IF(K10<fiú!$D$2,0,VLOOKUP(K10,hfut,3,TRUE))","v":0},0,{"$f":"RANK(M10,Egyéni!$N$3:$N$156,0)","v":44}]
[null,null,null,0,null,0,null,0,null,0,null,{"$f":"IF(K11<fiú!$D$2,0,VLOOKUP(K11,hfut,3,TRUE))","v":0},0,{"$f":"RANK(M11,Egyéni!$N$3:$N$156,0)","v":44}]
[null,null,null,0,null,0,null,0,null,0,null,{"$f":"IF(K12<fiú!$D$2,0,VLOOKUP(K12,hfut,3,TRUE))","v":0},0,{"$f":"RANK(M12,Egyéni!$N$3:$N$156,0)","v":44}]
[null,null,null,0,null,0,null,0,null,0,null,{"$f":"IF(K13<fiú!$D$2,0,VLOOKUP(K13,hfut,3,TRUE))","v":0},0,{"$f":"RANK(M13,Egyéni!$N$3:$N$156,0)","v":44}]
[null,null,null,0,null,0,null,0,null,0,null,{"$f":"IF(K14<fiú!$D$2,0,VLOOKUP(K14,hfut,3,TRUE))","v":0},0,{"$f":"RANK(M14,Egyéni!$N$3:$N$156,0)","v":44}]
[null,null,null,0,null,0,null,0,null,0,null,{"$f":"IF(K15<fiú!$D$2,0,VLOOKUP(K15,hfut,3,TRUE))","v":0},0,{"$f":"RANK(M15,Egyéni!$N$3:$N$156,0)","v":44}]
[null,null,null,0,null,0,null,0,null,0,null,{"$f":"IF(K16<fiú!$D$2,0,VLOOKUP(K16,hfut,3,TRUE))","v":0},0,{"$f":"RANK(M16,Egyéni!$N$3:$N$156,0)","v":44}]
[null,null,null,0,null,0,null,0,null,0,null,{"$f":"IF(K17<fiú!$D$2,0,VLOOKUP(K17,hfut,3,TRUE))","v":0},0,{"$f":"RANK(M17,Egyéni!$N$3:$N$156,0)","v":44}]
[null,null,null,0,null,0,null,0,null,0,null,{"$f":"IF(K18<fiú!$D$2,0,VLOOKUP(K18,hfut,3,TRUE))","v":0},0,{"$f":"RANK(M18,Egyéni!$N$3:$N$156,0)","v":44}]
[null,null,null,0,null,0,null,0,null,0,null,{"$f":"IF(K19<fiú!$D$2,0,VLOOKUP(K19,hfut,3,TRUE))","v":0},0,{"$f":"RANK(M19,Egyéni!$N$3:$N$156,0)","v":44}]
[null,null,null,0,null,0,null,0,null,0,null,{"$f":"IF(K20<fiú!$D$2,0,VLOOKUP(K20,hfut,3,TRUE))","v":0},0,{"$f":"RANK(M20,Egyéni!$N$3:$N$156,0)","v":44}]
[null,null,null,0,null,0,null,0,null,0,null,{"$f":"IF(K21<fiú!$D$2,0,VLOOKUP(K21,hfut,3,TRUE))","v":0},0,{"$f":"RANK(M21,Egyéni!$N$3:$N$156,0)","v":44}]
[null,null,null,0,null,0,null,0,null,0,null,{"$f":"IF(K22<fiú!$D$2,0,VLOOKUP(K22,hfut,3,TRUE))","v":0},0,{"$f":"RANK(M22,Egyéni!$N$3:$N$156,0)","v":44}]
[null,null,null,0,null,0,null,0,null,0,null,{"$f":"IF(K23<fiú!$D$2,0,VLOOKUP(K23,hfut,3,TRUE))","v":0},0,{"$f":"RANK(M23,Egyéni!$N$3:$N$156,0)","v":44}]
[null,null,null,0,null,0,null,0,null,0,null,{"$f":"IF(K24<fiú!$D$2,0,VLOOKUP(K24,hfut,3,TRUE))","v":0},0,{"$f":"RANK(M24,Egyéni!$N$3:$N$156,0)","v":44}]
[null,null,null,0,null,0,null,0,null,0,null,{"$f":"IF(K25<fiú!$D$2,0,VLOOKUP(K25,hfut,3,TRUE))","v":0},0,{"$f":"RANK(M25,Egyéni!$N$3:$N$156,0)","v":44}]
[]
["Szekszárdi Dienes V. Ált. Isk.",null,null,null,null,null,null,null,null,null,null,null,null,null,{"$f":"RANK(O29,Csapat!$C$3:P30,0)","v":1}]
["Név","Sz.év","100 m",null,"Távolugrás",null,"Klabdahajítás",null,"Súlylökés",null,"800 m",null,"Összpont","Helyezés"]
["Loe Dávid",2009,14.4,{"$f":"IF(C29<6.19,0,VLOOKUP(C29,rfut,5,TRUE))","v":132},4.3899999999999997,{"$f":"IF(E29<1.79,0,VLOOKUP(E29,távol,4,TRUE))","v":117},46.56,{"$f":"IF(G29<4,0,VLOOKUP(G29,kisl,2,TRUE))","v":125},6.91,{"$f":"IF(I29<3,0,VLOOKUP(I29,súly,3,TRUE))","v":69},"00:02:54.100",{"$f":"IF(K29<fiú!$D$2,0,VLOOKUP(K29,hfut,3,TRUE))","v":112},{"$f":"SUM(D29,F29,H29,L29,J29)","v":555},{"$f":"RANK(M29,Egyéni!$N$3:$N$156,0)","v":29},{"$f":"SUM(M29:M34)-MIN(M29:M34)","v":3554}]
["Füle Richárd",2008,13.1,176,4.72,134,44.85,119,9.81,126,"00:02:44.700",{"$f":"IF(K30<fiú!$D$2,0,VLOOKUP(K30,hfut,3,TRUE))","v":133},688,{"$f":"RANK(M30,Egyéni!$N$3:$N$156,0)","v":13}]
["Kocsis Martin",2008,12.7,191,5.07,152,43.52,115,10.5,141,"00:02:46.300",{"$f":"IF(K31<fiú!$D$2,0,VLOOKUP(K31,hfut,3,TRUE))","v":129},728,{"$f":"RANK(M31,Egyéni!$N$3:$N$156,0)","v":9}]
["Könyves László Lorenzó",2009,13.2,173,5.0199999999999996,149,48.07,129,9.4700000000000006,119,"00:02:27.400",{"$f":"IF(K32<fiú!$D$2,0,VLOOKUP(K32,hfut,3,TRUE))","v":175},745,{"$f":"RANK(M32,Egyéni!$N$3:$N$156,0)","v":7}]
["Radnóti Gergely Attila",2008,12.5,198,5.31,166,40.75,105,13.75,217,"00:02:46.900",{"$f":"IF(K33<fiú!$D$2,0,VLOOKUP(K33,hfut,3,TRUE))","v":128},814,{"$f":"RANK(M33,Egyéni!$N$3:$N$156,0)","v":3}]
["Szoboszlai Máté",2008,13.1,176,4.08,101,39,100,9.34,117,"00:03:06.300",{"$f":"IF(K34<fiú!$D$2,0,VLOOKUP(K34,hfut,3,TRUE))","v":85},579,{"$f":"RANK(M34,Egyéni!$N$3:$N$156,0)","v":27}]
[]
[]
[null,null,null,null,null,null,null,null,null,null,null,null,null,null,{"$f":"RANK(O39,Csapat!$C$3:P40,0)","v":8}]
["Név","Sz.év","100 m",null,"Távolugrás",null,"Klabdahajítás",null,"Súlylökés",null,"800 m",null,"Összpont","Helyezés"]
[null,null,null,{"$f":"IF(C39<6.19,0,VLOOKUP(C39,rfut,5,TRUE))","v":0},null,{"$f":"IF(E39<1.79,0,VLOOKUP(E39,távol,4,TRUE))","v":0},null,{"$f":"IF(G39<4,0,VLOOKUP(G39,kisl,2,TRUE))","v":0},null,{"$f":"IF(I39<3,0,VLOOKUP(I39,súly,3,TRUE))","v":0},null,{"$f":"IF(K39<fiú!$D$2,0,VLOOKUP(K39,hfut,3,TRUE))","v":0},{"$f":"SUM(D39,F39,H39,L39,J39)","v":0},{"$f":"RANK(M39,Egyéni!$N$3:$N$156,0)","v":44},{"$f":"SUM(M39:M44)-MIN(M39:M44)","v":0}]
[null,null,null,0,null,0,null,0,null,0,null,{"$f":"IF(K40<fiú!$D$2,0,VLOOKUP(K40,hfut,3,TRUE))","v":0},0,{"$f":"RANK(M40,Egyéni!$N$3:$N$156,0)","v":44}]
[null,null,null,0,null,0,null,0,null,0,null,{"$f":"IF(K41<fiú!$D$2,0,VLOOKUP(K41,hfut,3,TRUE))","v":0},0,{"$f":"RANK(M41,Egyéni!$N$3:$N$156,0)","v":44}]
[null,null,null,0,null,0,null,0,null,0,null,{"$f":"IF(K42<fiú!$D$2,0,VLOOKUP(K42,hfut,3,TRUE))","v":0},0,{"$f":"RANK(M42,Egyéni!$N$3:$N$156,0)","v":44}]
[null,null,null,0,null,0,null,0,null,0,null,{"$f":"IF(K43<fiú!$D$2,0,VLOOKUP(K43,hfut,3,TRUE))","v":0},0,{"$f":"RANK(M43,Egyéni!$N$3:$N$156,0)","v":44}]
[null,null,null,0,null,0,null,0,null,0,null,{"$f":"IF(K44<fiú!$D$2,0,VLOOKUP(K44,hfut,3,TRUE))","v":0},0,{"$f":"RANK(M44,Egyéni!$N$3:$N$156,0)","v":44}]
[]
[]
["Bonyhádi Petőfi S.E.Gimn. Ált. Isk.",null,null,null,null,null,null,null,null,null,null,null,null,null,{"$f":"RANK(O49,Csapat!$C$3:P50,0)","v":6}]
["Név","Sz.év","100 m",null,"Távolugrás",null,"Klabdahajítás",null,"Súlylökés",null,"800 m",null,"Összpont","Helyezés"]
["Garay Gergő",2008,13.4,{"$f":"IF(C49<6.19,0,VLOOKUP(C49,rfut,5,TRUE))","v":166},4.22,{"$f":"IF(E49<1.79,0,VLOOKUP(E49,távol,4,TRUE))","v":108},38.049999999999997,{"$f":"IF(G49<4,0,VLOOKUP(G49,kisl,2,TRUE))","v":97},7.83,{"$f":"IF(I49<3,0,VLOOKUP(I49,súly,3,TRUE))","v":87},"00:03:05.100",{"$f":"IF(K49<fiú!$D$2,0,VLOOKUP(K49,hfut,3,TRUE))","v":88},{"$f":"SUM(D49,F49,H49,L49,J49)","v":546},{"$f":"RANK(M49,Egyéni!$N$3:$N$156,0)","v":30},{"$f":"SUM(M49:M54)-MIN(M49:M54)","v":2686}]
["Hucker Olivér",2009,14.2,138,3.35,67,31.09,76,8.51,99,"00:03:00.600",{"$f":"IF(K50<fiú!$D$2,0,VLOOKUP(K50,hfut,3,TRUE))","v":97},477,{"$f":"RANK(M50,Egyéni!$N$3:$N$156,0)","v":40}]
["Németh Kolos",2008,13.7,155,0,0,39.56,101,9.34,117,"00:02:45.200",{"$f":"IF(K51<fiú!$D$2,0,VLOOKUP(K51,hfut,3,TRUE))","v":132},505,{"$f":"RANK(M51,Egyéni!$N$3:$N$156,0)","v":35}]
["Schiszler Ádám",2008,13.9,148,4.07,101,36.049999999999997,91,7.5,80,"00:03:16.400",{"$f":"IF(K52<fiú!$D$2,0,VLOOKUP(K52,hfut,3,TRUE))","v":64},484,{"$f":"RANK(M52,Egyéni!$N$3:$N$156,0)","v":38}]
["Sánta Balázs",2008,13.9,148,4.16,105,42.38,111,6.96,70,"00:03:02",{"$f":"IF(K53<fiú!$D$2,0,VLOOKUP(K53,hfut,3,TRUE))","v":94},528,{"$f":"RANK(M53,Egyéni!$N$3:$N$156,0)","v":32}]
["Vukálovics Ákos",2008,13.4,166,4.3,113,40.44,104,8.1300000000000008,92,"00:02:38.200",{"$f":"IF(K54<fiú!$D$2,0,VLOOKUP(K54,hfut,3,TRUE))","v":148},623,{"$f":"RANK(M54,Egyéni!$N$3:$N$156,0)","v":24}]
[]
[]
["Szekszárdi Babits M. Ált. Isk.",null,null,null,null,null,null,null,null,null,null,null,null,null,{"$f":"RANK(O59,Csapat!$C$3:P60,0)","v":2}]
["Név","Sz.év","100 m",null,"Távolugrás",null,"Klabdahajítás",null,"Súlylökés",null,"800 m",null,"Összpont","Helyezés"]
["Bíró Botond",2008,13.2,{"$f":"IF(C59<6.19,0,VLOOKUP(C59,rfut,5,TRUE))","v":173},4.83,{"$f":"IF(E59<1.79,0,VLOOKUP(E59,távol,4,TRUE))","v":140},41.87,{"$f":"IF(G59<4,0,VLOOKUP(G59,kisl,2,TRUE))","v":109},8.49,{"$f":"IF(I59<3,0,VLOOKUP(I59,súly,3,TRUE))","v":99},"00:02:25.300",{"$f":"IF(K59<fiú!$D$2,0,VLOOKUP(K59,hfut,3,TRUE))","v":180},{"$f":"SUM(D59,F59,H59,L59,J59)","v":701},{"$f":"RANK(M59,Egyéni!$N$3:$N$156,0)","v":11},{"$f":"SUM(M59:M64)-MIN(M59:M64)","v":3446}]
["Fodor Zalán",2009,13.4,166,4.6399999999999997,130,34.18,{"$f":"IF(G60<4,0,VLOOKUP(G60,kisl,2,TRUE))","v":85},6.64,64,"00:02:42.100",{"$f":"IF(K60<fiú!$D$2,0,VLOOKUP(K60,hfut,3,TRUE))","v":139},584,{"$f":"RANK(M60,Egyéni!$N$3:$N$156,0)","v":26}]
["Gréczy Bálint",2009,13.3,169,4.8099999999999996,139,47.15,{"$f":"IF(G61<4,0,VLOOKUP(G61,kisl,2,TRUE))","v":126},11.59,165,"00:02:32.500",{"$f":"IF(K61<fiú!$D$2,0,VLOOKUP(K61,hfut,3,TRUE))","v":162},761,{"$f":"RANK(M61,Egyéni!$N$3:$N$156,0)","v":5}]
["Kappel Márton",2009,13.2,173,4.33,114,40.89,{"$f":"IF(G62<4,0,VLOOKUP(G62,kisl,2,TRUE))","v":106},9.9600000000000009,130,"00:02:48.600",{"$f":"IF(K62<fiú!$D$2,0,VLOOKUP(K62,hfut,3,TRUE))","v":124},647,{"$f":"RANK(M62,Egyéni!$N$3:$N$156,0)","v":19}]
["Palkó Boldizsár",2008,13.5,162,4.47,121,47.17,{"$f":"IF(G63<4,0,VLOOKUP(G63,kisl,2,TRUE))","v":127},10.08,132,"00:02:46.600",{"$f":"IF(K63<fiú!$D$2,0,VLOOKUP(K63,hfut,3,TRUE))","v":129},671,{"$f":"RANK(M63,Egyéni!$N$3:$N$156,0)","v":14}]
["Gréczy Dániel",2009,13.5,162,4.46,121,43.76,{"$f":"IF(G64<4,0,VLOOKUP(G64,kisl,2,TRUE))","v":115},10.050000000000001,131,"00:02:42.800",{"$f":"IF(K64<fiú!$D$2,0,VLOOKUP(K64,hfut,3,TRUE))","v":137},666,{"$f":"RANK(M64,Egyéni!$N$3:$N$156,0)","v":16}]
[]
[]
["Szt. Orsolya Bencés Ált. Isk.",null,null,null,null,null,null,null,null,null,null,null,null,null,{"$f":"RANK(O69,Csapat!$C$3:P70,0)","v":3}]
["Név","Sz.év","100 m",null,"Távolugrás",null,"Klabdahajítás",null,"Súlylökés",null,"800 m",null,"Összpont","Helyezés"]
["Halmai Zsombor",2008,13.3,{"$f":"IF(C69<6.19,0,VLOOKUP(C69,rfut,5,TRUE))","v":169},4.53,{"$f":"IF(E69<1.79,0,VLOOKUP(E69,távol,4,TRUE))","v":124},60.37,{"$f":"IF(G69<4,0,VLOOKUP(G69,kisl,2,TRUE))","v":172},10.95,{"$f":"IF(I69<3,0,VLOOKUP(I69,súly,3,TRUE))","v":150},"00:02:49.900",{"$f":"IF(K69<fiú!$D$2,0,VLOOKUP(K69,hfut,3,TRUE))","v":121},{"$f":"SUM(D69,F69,H69,L69,J69)","v":736},{"$f":"RANK(M69,Egyéni!$N$3:$N$156,0)","v":8},{"$f":"SUM(M69:M74)-MIN(M69:M74)","v":3421}]
["Kapinya Péter",2008,13.2,173,4.76,136,55,153,8.56,100,"00:02:38.500",{"$f":"IF(K70<fiú!$D$2,0,VLOOKUP(K70,hfut,3,TRUE))","v":147},709,{"$f":"RANK(M70,Egyéni!$N$3:$N$156,0)","v":10}]
["Kovács Barnabás",2008,12.6,194,4.92,144,48.88,132,10.07,132,"00:03:01.400",{"$f":"IF(K71<fiú!$D$2,0,VLOOKUP(K71,hfut,3,TRUE))","v":95},697,{"$f":"RANK(M71,Egyéni!$N$3:$N$156,0)","v":12}]
["Szabó Dominik",2008,13.6,159,4.62,129,52.4,144,8.27,95,"00:02:39.700",{"$f":"IF(K72<fiú!$D$2,0,VLOOKUP(K72,hfut,3,TRUE))","v":144},671,{"$f":"RANK(M72,Egyéni!$N$3:$N$156,0)","v":14}]
["Vida Bence",2009,14.6,126,4.21,108,48.08,130,7.99,90,"00:03:06.600",{"$f":"IF(K73<fiú!$D$2,0,VLOOKUP(K73,hfut,3,TRUE))","v":85},539,{"$f":"RANK(M73,Egyéni!$N$3:$N$156,0)","v":31}]
["Tobler Péter",2009,13.8,151,4.8899999999999997,143,39.57,102,6.92,69,"00:02:40.300",{"$f":"IF(K74<fiú!$D$2,0,VLOOKUP(K74,hfut,3,TRUE))","v":143},608,{"$f":"RANK(M74,Egyéni!$N$3:$N$156,0)","v":25}]
[]
[]
["Zombai Általános Iskola",null,null,null,null,null,null,null,null,null,null,null,null,null,{"$f":"RANK(O79,Csapat!$C$3:P80,0)","v":5}]
["Név","Sz.év","100 m",null,"Távolugrás",null,"Klabdahajítás",null,"Súlylökés",null,"800 m",null,"Összpont","Helyezés"]
["Csibi Olivér",2009,13.2,{"$f":"IF(C79<6.19,0,VLOOKUP(C79,rfut,5,TRUE))","v":173},4.4000000000000004,{"$f":"IF(E79<1.79,0,VLOOKUP(E79,távol,4,TRUE))","v":118},45.19,{"$f":"IF(G79<4,0,VLOOKUP(G79,kisl,2,TRUE))","v":120},9.5,{"$f":"IF(I79<3,0,VLOOKUP(I79,súly,3,TRUE))","v":120},"00:02:45.800",{"$f":"IF(K79<fiú!$D$2,0,VLOOKUP(K79,hfut,3,TRUE))","v":130},{"$f":"SUM(D79,F79,H79,L79,J79)","v":661},{"$f":"RANK(M79,Egyéni!$N$3:$N$156,0)","v":18},{"$f":"SUM(M79:M84)-MIN(M79:M84)","v":2957}]
["Marázi Archilles",2009,13.8,151,3.96,96,37.14,94,7.15,74,"00:03:08.800",{"$f":"IF(K80<fiú!$D$2,0,VLOOKUP(K80,hfut,3,TRUE))","v":80},495,{"$f":"RANK(M80,Egyéni!$N$3:$N$156,0)","v":37}]
["Orsós Kevin Zsolt",2008,13.1,176,4.63,129,46.16,123,10.47,140,"00:03:10.700",{"$f":"IF(K81<fiú!$D$2,0,VLOOKUP(K81,hfut,3,TRUE))","v":76},644,{"$f":"RANK(M81,Egyéni!$N$3:$N$156,0)","v":20}]
["Szemes Márk",2008,13.3,169,4.5999999999999996,128,34.57,86,8.49,99,"00:02:36.300",{"$f":"IF(K82<fiú!$D$2,0,VLOOKUP(K82,hfut,3,TRUE))","v":152},634,{"$f":"RANK(M82,Egyéni!$N$3:$N$156,0)","v":22}]
["Häckl Ábel",2009,13.6,159,4.16,105,33.07,82,6.41,60,"00:02:51.800",{"$f":"IF(K83<fiú!$D$2,0,VLOOKUP(K83,hfut,3,TRUE))","v":117},523,{"$f":"RANK(M83,Egyéni!$N$3:$N$156,0)","v":33}]
[null,null,null,0,null,0,null,0,null,0,null,{"$f":"IF(K84<fiú!$D$2,0,VLOOKUP(K84,hfut,3,TRUE))","v":0},0,{"$f":"RANK(M84,Egyéni!$N$3:$N$156,0)","v":44}]
[]
[]
["Nagydorogi Széchényi Sándor Ált. Isk.",null,null,null,null,null,null,null,null,null,null,null,null,null,{"$f":"RANK(O89,Csapat!$C$3:P90,0)","v":4}]
["Név","Sz.év","100 m",null,"Távolugrás",null,"Klabdahajítás",null,"Súlylökés",null,"800 m",null,"Összpont","Helyezés"]
["Csonka Ármin Milán",2009,13.3,{"$f":"IF(C89<6.19,0,VLOOKUP(C89,rfut,5,TRUE))","v":169},4.1900000000000004,{"$f":"IF(E89<1.79,0,VLOOKUP(E89,távol,4,TRUE))","v":107},47.7,{"$f":"IF(G89<4,0,VLOOKUP(G89,kisl,2,TRUE))","v":128},8.06,{"$f":"IF(I89<3,0,VLOOKUP(I89,súly,3,TRUE))","v":91},"00:02:43.400",{"$f":"IF(K89<fiú!$D$2,0,VLOOKUP(K89,hfut,3,TRUE))","v":136},{"$f":"SUM(D89,F89,H89,L89,J89)","v":631},{"$f":"RANK(M89,Egyéni!$N$3:$N$156,0)","v":23},{"$f":"SUM(M89:M94)-MIN(M89:M94)","v":3304}]
["Kocsis Damáz",2009,15.2,106,3.97,96,39.729999999999997,102,7.07,72,"00:02:47.400",{"$f":"IF(K90<fiú!$D$2,0,VLOOKUP(K90,hfut,3,TRUE))","v":127},503,{"$f":"RANK(M90,Egyéni!$N$3:$N$156,0)","v":36}]
["Kovács Tibor",2008,13.5,162,4.78,137,50.81,138,8.25,94,"00:02:53.500",{"$f":"IF(K91<fiú!$D$2,0,VLOOKUP(K91,hfut,3,TRUE))","v":113},644,{"$f":"RANK(M91,Egyéni!$N$3:$N$156,0)","v":20}]
["Molnár Milán Marcell",2008,13,180,4.5599999999999996,126,41.2,107,9.02,110,"00:02:41.200",{"$f":"IF(K92<fiú!$D$2,0,VLOOKUP(K92,hfut,3,TRUE))","v":141},664,{"$f":"RANK(M92,Egyéni!$N$3:$N$156,0)","v":17}]
["Nyári László András",2009,13.6,159,4.46,121,48.28,130,8.9,108,"00:03:23.500",{"$f":"IF(K93<fiú!$D$2,0,VLOOKUP(K93,hfut,3,TRUE))","v":50},568,{"$f":"RANK(M93,Egyéni!$N$3:$N$156,0)","v":28}]
["Sáfrány Dominik Ferenc",2008,12.6,194,5.54,179,47.08,126,9.34,117,"00:02:25",{"$f":"IF(K94<fiú!$D$2,0,VLOOKUP(K94,hfut,3,TRUE))","v":181},797,{"$f":"RANK(M94,Egyéni!$N$3:$N$156,0)","v":4}]
[]
[]
["Tolnai Wosinsky M. Ált. Isk.",null,null,null,null,null,null,null,null,null,null,null,null,null,{"$f":"RANK(O99,Csapat!$C$3:P100,0)","v":7}]
["Név","Sz.év","100 m",null,"Távolugrás",null,"Klabdahajítás",null,"Súlylökés",null,"800 m",null,"Összpont","Helyezés"]
["Janthó Márk",2008,14,{"$f":"IF(C99<6.19,0,VLOOKUP(C99,rfut,5,TRUE))","v":145},4.26,{"$f":"IF(E99<1.79,0,VLOOKUP(E99,távol,4,TRUE))","v":110},33.1,{"$f":"IF(G99<4,0,VLOOKUP(G99,kisl,2,TRUE))","v":82},7.63,{"$f":"IF(I99<3,0,VLOOKUP(I99,súly,3,TRUE))","v":83},"00:03:00.300",{"$f":"IF(K99<fiú!$D$2,0,VLOOKUP(K99,hfut,3,TRUE))","v":98},{"$f":"SUM(D99,F99,H99,L99,J99)","v":518},{"$f":"RANK(M99,Egyéni!$N$3:$N$156,0)","v":34},{"$f":"SUM(M99:M104)-MIN(M99:M104)","v":2270}]
["Novák Dávid Ferenc",2009,15.2,106,3.76,86,51.38,140,9.48,120,"00:03:34.300",{"$f":"IF(K100<fiú!$D$2,0,VLOOKUP(K100,hfut,3,TRUE))","v":29},481,{"$f":"RANK(M100,Egyéni!$N$3:$N$156,0)","v":39}]
["Potyondi Botond",2009,15.1,110,3.5,74,33.53,83,4.75,30,"00:03:16.700",{"$f":"IF(K101<fiú!$D$2,0,VLOOKUP(K101,hfut,3,TRUE))","v":64},361,{"$f":"RANK(M101,Egyéni!$N$3:$N$156,0)","v":43}]
["Straubinger Marcell",2008,15,113,4.01,98,43.86,116,7.88,87,"00:03:25.700",{"$f":"IF(K102<fiú!$D$2,0,VLOOKUP(K102,hfut,3,TRUE))","v":46},460,{"$f":"RANK(M102,Egyéni!$N$3:$N$156,0)","v":41}]
["Tóth Richárd",2008,14.1,142,3.88,92,40.1,103,7.05,72,"00:03:27.900",{"$f":"IF(K103<fiú!$D$2,0,VLOOKUP(K103,hfut,3,TRUE))","v":41},450,{"$f":"RANK(M103,Egyéni!$N$3:$N$156,0)","v":42}]
[null,null,null,0,null,0,null,0,null,0,null,{"$f":"IF(K104<fiú!$D$2,0,VLOOKUP(K104,hfut,3,TRUE))","v":0},0,{"$f":"RANK(M104,Egyéni!$N$3:$N$156,0)","v":44}]
[]
[]
[null,null,null,null,null,null,null,null,null,null,null,null,null,null,{"$f":"RANK(O109,Csapat!$C$3:P110,0)","v":8}]
["Név","Sz.év","100 m",null,"Távolugrás",null,"Klabdahajítás",null,"Súlylökés",null,"800 m",null,"Összpont","Helyezés"]
[null,null,null,{"$f":"IF(C109<6.19,0,VLOOKUP(C109,rfut,5,TRUE))","v":0},null,{"$f":"IF(E109<1.79,0,VLOOKUP(E109,távol,4,TRUE))","v":0},null,{"$f":"IF(G109<4,0,VLOOKUP(G109,kisl,2,TRUE))","v":0},null,{"$f":"IF(I109<3,0,VLOOKUP(I109,súly,3,TRUE))","v":0},null,{"$f":"IF(K109<fiú!$D$2,0,VLOOKUP(K109,hfut,3,TRUE))","v":0},{"$f":"SUM(D109,F109,H109,L109,J109)","v":0},{"$f":"RANK(M109,Egyéni!$N$3:$N$156,0)","v":44},{"$f":"SUM(M109:M114)-MIN(M109:M114)","v":0}]
[null,null,null,0,null,0,null,0,null,0,null,{"$f":"IF(K110<fiú!$D$2,0,VLOOKUP(K110,hfut,3,TRUE))","v":0},0,{"$f":"RANK(M110,Egyéni!$N$3:$N$156,0)","v":44}]
[null,null,null,0,null,0,null,0,null,0,null,{"$f":"IF(K111<fiú!$D$2,0,VLOOKUP(K111,hfut,3,TRUE))","v":0},0,{"$f":"RANK(M111,Egyéni!$N$3:$N$156,0)","v":44}]
[null,null,null,0,null,0,null,0,null,0,null,{"$f":"IF(K112<fiú!$D$2,0,VLOOKUP(K112,hfut,3,TRUE))","v":0},0,{"$f":"RANK(M112,Egyéni!$N$3:$N$156,0)","v":44}]
[null,null,null,0,null,0,null,0,null,0,null,{"$f":"IF(K113<fiú!$D$2,0,VLOOKUP(K113,hfut,3,TRUE))","v":0},0,{"$f":"RANK(M113,Egyéni!$N$3:$N$156,0)","v":44}]
[null,null,null,0,null,0,null,0,null,0,null,{"$f":"IF(K114<fiú!$D$2,0,VLOOKUP(K114,hfut,3,TRUE))","v":0},0,{"$f":"RANK(M114,Egyéni!$N$3:$N$156,0)","v":44}]
[]
[]
[null,null,null,null,null,null,null,null,null,null,null,null,null,null,{"$f":"RANK(O119,Csapat!$C$3:P120,0)","v":8}]
["Név","Sz.év","100 m",null,"Távolugrás",null,"Klabdahajítás",null,"Súlylökés",null,"800 m",null,"Összpont","Helyezés"]
[null,null,null,{"$f":"IF(C119<6.19,0,VLOOKUP(C119,rfut,5,TRUE))","v":0},null,{"$f":"IF(E119<1.79,0,VLOOKUP(E119,távol,4,TRUE))","v":0},null,{"$f":"IF(G119<4,0,VLOOKUP(G119,kisl,2,TRUE))","v":0},null,{"$f":"IF(I119<3,0,VLOOKUP(I119,súly,3,TRUE))","v":0},null,{"$f":"IF(K119<fiú!$D$2,0,VLOOKUP(K119,hfut,3,TRUE))","v":0},{"$f":"SUM(D119,F119,H119,L119,J119)","v":0},{"$f":"RANK(M119,Egyéni!$N$3:$N$156,0)","v":44},{"$f":"SUM(M119:M124)-MIN(M119:M124)","v":0}]
[null,null,null,0,null,0,null,0,null,0,null,{"$f":"IF(K120<fiú!$D$2,0,VLOOKUP(K120,hfut,3,TRUE))","v":0},0,{"$f":"RANK(M120,Egyéni!$N$3:$N$156,0)","v":44}]
[null,null,null,0,null,0,null,0,null,0,null,{"$f":"IF(K121<fiú!$D$2,0,VLOOKUP(K121,hfut,3,TRUE))","v":0},0,{"$f":"RANK(M121,Egyéni!$N$3:$N$156,0)","v":44}]
[null,null,null,0,null,0,null,0,null,0,null,{"$f":"IF(K122<fiú!$D$2,0,VLOOKUP(K122,hfut,3,TRUE))","v":0},0,{"$f":"RANK(M122,Egyéni!$N$3:$N$156,0)","v":44}]
[null,null,null,0,null,0,null,0,null,0,null,{"$f":"IF(K123<fiú!$D$2,0,VLOOKUP(K123,hfut,3,TRUE))","v":0},0,{"$f":"RANK(M123,Egyéni!$N$3:$N$156,0)","v":44}]
[null,null,null,0,null,0,null,0,null,0,null,{"$f":"IF(K124<fiú!$D$2,0,VLOOKUP(K124,hfut,3,TRUE))","v":0},0,{"$f":"RANK(M124,Egyéni!$N$3:$N$156,0)","v":44}]
[]
[]
[null,null,null,null,null,null,null,null,null,null,null,null,null,null,{"$f":"RANK(O129,Csapat!$C$3:P130,0)","v":8}]
["Név","Sz.év","100 m",null,"Távolugrás",null,"Klabdahajítás",null,"Súlylökés",null,"800 m",null,"Összpont","Helyezés"]
[null,null,null,{"$f":"IF(C129<6.19,0,VLOOKUP(C129,rfut,5,TRUE))","v":0},null,{"$f":"IF(E129<1.79,0,VLOOKUP(E129,távol,4,TRUE))","v":0},null,{"$f":"IF(G129<4,0,VLOOKUP(G129,kisl,2,TRUE))","v":0},null,{"$f":"IF(I129<3,0,VLOOKUP(I129,súly,3,TRUE))","v":0},null,{"$f":"IF(K129<fiú!$D$2,0,VLOOKUP(K129,hfut,3,TRUE))","v":0},{"$f":"SUM(D129,F129,H129,L129,J129)","v":0},{"$f":"RANK(M129,Egyéni!$N$3:$N$156,0)","v":44},{"$f":"SUM(M129:M134)-MIN(M129:M134)","v":0}]
[null,null,null,0,null,0,null,0,null,0,null,{"$f":"IF(K130<fiú!$D$2,0,VLOOKUP(K130,hfut,3,TRUE))","v":0},0,{"$f":"RANK(M130,Egyéni!$N$3:$N$156,0)","v":44}]
[null,null,null,0,null,0,null,0,null,0,null,{"$f":"IF(K131<fiú!$D$2,0,VLOOKUP(K131,hfut,3,TRUE))","v":0},0,{"$f":"RANK(M131,Egyéni!$N$3:$N$156,0)","v":44}]
[null,null,null,0,null,0,null,0,null,0,null,{"$f":"IF(K132<fiú!$D$2,0,VLOOKUP(K132,hfut,3,TRUE))","v":0},0,{"$f":"RANK(M132,Egyéni!$N$3:$N$156,0)","v":44}]
[null,null,null,0,null,0,null,0,null,0,null,{"$f":"IF(K133<fiú!$D$2,0,VLOOKUP(K133,hfut,3,TRUE))","v":0},0,{"$f":"RANK(M133,Egyéni!$N$3:$N$156,0)","v":44}]
[null,null,null,0,null,0,null,0,null,0,null,{"$f":"IF(K134<fiú!$D$2,0,VLOOKUP(K134,hfut,3,TRUE))","v":0},0,{"$f":"RANK(M134,Egyéni!$N$3:$N$156,0)","v":44}]
[]
[]
[null,null,null,null,null,null,null,null,null,null,null,null,null,null,{"$f":"RANK(O139,Csapat!$C$3:P140,0)","v":8}]
["Név","Sz.év","100 m",null,"Távolugrás",null,"Klabdahajítás",null,"Súlylökés",null,"800 m",null,"Összpont","Helyezés"]
[null,null,null,{"$f":"IF(C139<6.19,0,VLOOKUP(C139,rfut,5,TRUE))","v":0},null,{"$f":"IF(E139<1.79,0,VLOOKUP(E139,távol,4,TRUE))","v":0},null,{"$f":"IF(G139<4,0,VLOOKUP(G139,kisl,2,TRUE))","v":0},null,{"$f":"IF(I139<3,0,VLOOKUP(I139,súly,3,TRUE))","v":0},null,{"$f":"IF(K139<fiú!$D$2,0,VLOOKUP(K139,hfut,3,TRUE))","v":0},{"$f":"SUM(D139,F139,H139,L139,J139)","v":0},{"$f":"RANK(M139,Egyéni!$N$3:$N$156,0)","v":44},{"$f":"SUM(M139:M144)-MIN(M139:M144)","v":0}]
[null,null,null,0,null,0,null,0,null,0,null,{"$f":"IF(K140<fiú!$D$2,0,VLOOKUP(K140,hfut,3,TRUE))","v":0},0,{"$f":"RANK(M140,Egyéni!$N$3:$N$156,0)","v":44}]
[null,null,null,0,null,0,null,0,null,0,null,{"$f":"IF(K141<fiú!$D$2,0,VLOOKUP(K141,hfut,3,TRUE))","v":0},0,{"$f":"RANK(M141,Egyéni!$N$3:$N$156,0)","v":44}]
[null,null,null,0,null,0,null,0,null,0,null,{"$f":"IF(K142<fiú!$D$2,0,VLOOKUP(K142,hfut,3,TRUE))","v":0},0,{"$f":"RANK(M142,Egyéni!$N$3:$N$156,0)","v":44}]
[null,null,null,0,null,0,null,0,null,0,null,{"$f":"IF(K143<fiú!$D$2,0,VLOOKUP(K143,hfut,3,TRUE))","v":0},0,{"$f":"RANK(M143,Egyéni!$N$3:$N$156,0)","v":44}]
[null,null,null,0,null,0,null,0,null,0,null,{"$f":"IF(K144<fiú!$D$2,0,VLOOKUP(K144,hfut,3,TRUE))","v":0},0,{"$f":"RANK(M144,Egyéni!$N$3:$N$156,0)","v":44}]
[]
[]
[null,null,null,null,null,null,null,null,null,null,null,null,null,null,{"$f":"RANK(O149,Csapat!$C$3:P150,0)","v":8}]
["Név","Sz.év","100 m",null,"Távolugrás",null,"Klabdahajítás",null,"Súlylökés",null,"800 m",null,"Összpont","Helyezés"]
[null,null,null,{"$f":"IF(C149<6.19,0,VLOOKUP(C149,rfut,5,TRUE))","v":0},null,{"$f":"IF(E149<1.79,0,VLOOKUP(E149,távol,4,TRUE))","v":0},null,{"$f":"IF(G149<4,0,VLOOKUP(G149,kisl,2,TRUE))","v":0},null,{"$f":"IF(I149<3,0,VLOOKUP(I149,súly,3,TRUE))","v":0},null,{"$f":"IF(K149<fiú!$D$2,0,VLOOKUP(K149,hfut,3,TRUE))","v":0},{"$f":"SUM(D149,F149,H149,L149,J149)","v":0},{"$f":"RANK(M149,Egyéni!$N$3:$N$156,0)","v":44},{"$f":"SUM(M149:M154)-MIN(M149:M154)","v":0}]
[null,null,null,0,null,0,null,0,null,0,null,{"$f":"IF(K150<fiú!$D$2,0,VLOOKUP(K150,hfut,3,TRUE))","v":0},0,{"$f":"RANK(M150,Egyéni!$N$3:$N$156,0)","v":44}]
[null,null,null,0,null,0,null,0,null,0,null,{"$f":"IF(K151<fiú!$D$2,0,VLOOKUP(K151,hfut,3,TRUE))","v":0},0,{"$f":"RANK(M151,Egyéni!$N$3:$N$156,0)","v":44}]
[null,null,null,0,null,0,null,0,null,0,null,{"$f":"IF(K152<fiú!$D$2,0,VLOOKUP(K152,hfut,3,TRUE))","v":0},0,{"$f":"RANK(M152,Egyéni!$N$3:$N$156,0)","v":44}]
[null,null,null,0,null,0,null,0,null,0,null,{"$f":"IF(K153<fiú!$D$2,0,VLOOKUP(K153,hfut,3,TRUE))","v":0},0,{"$f":"RANK(M153,Egyéni!$N$3:$N$156,0)","v":44}]
[null,null,null,0,null,0,null,0,null,0,null,{"$f":"IF(K154<fiú!$D$2,0,VLOOKUP(K154,hfut,3,TRUE))","v":0},0,{"$f":"RANK(M154,Egyéni!$N$3:$N$156,0)","v":44}]
[]
[]
[null,null,null,null,null,null,null,null,null,null,null,null,null,null,{"$f":"RANK(O159,Csapat!$C$3:P160,0)","v":8}]
["Név","Sz.év","100 m",null,"Távolugrás",null,"Klabdahajítás",null,"Súlylökés",null,"800 m",null,"Összpont","Helyezés"]
[null,null,null,{"$f":"IF(C159<6.19,0,VLOOKUP(C159,rfut,5,TRUE))","v":0},null,{"$f":"IF(E159<1.79,0,VLOOKUP(E159,távol,4,TRUE))","v":0},null,{"$f":"IF(G159<4,0,VLOOKUP(G159,kisl,2,TRUE))","v":0},null,{"$f":"IF(I159<3,0,VLOOKUP(I159,súly,3,TRUE))","v":0},null,{"$f":"IF(K159<fiú!$D$2,0,VLOOKUP(K159,hfut,3,TRUE))","v":0},{"$f":"SUM(D159,F159,H159,L159,J159)","v":0},{"$f":"RANK(M159,Egyéni!$N$3:$N$156,0)","v":44},{"$f":"SUM(M159:M164)-MIN(M159:M164)","v":0}]
[null,null,null,0,null,0,null,0,null,0,null,{"$f":"IF(K160<fiú!$D$2,0,VLOOKUP(K160,hfut,3,TRUE))","v":0},0,{"$f":"RANK(M160,Egyéni!$N$3:$N$156,0)","v":44}]
[null,null,null,0,null,0,null,0,null,0,null,{"$f":"IF(K161<fiú!$D$2,0,VLOOKUP(K161,hfut,3,TRUE))","v":0},0,{"$f":"RANK(M161,Egyéni!$N$3:$N$156,0)","v":44}]
[null,null,null,0,null,0,null,0,null,0,null,{"$f":"IF(K162<fiú!$D$2,0,VLOOKUP(K162,hfut,3,TRUE))","v":0},0,{"$f":"RANK(M162,Egyéni!$N$3:$N$156,0)","v":44}]
[null,null,null,0,null,0,null,0,null,0,null,{"$f":"IF(K163<fiú!$D$2,0,VLOOKUP(K163,hfut,3,TRUE))","v":0},0,{"$f":"RANK(M163,Egyéni!$N$3:$N$156,0)","v":44}]
[null,null,null,0,null,0,null,0,null,0,null,{"$f":"IF(K164<fiú!$D$2,0,VLOOKUP(K164,hfut,3,TRUE))","v":0},0,{"$f":"RANK(M164,Egyéni!$N$3:$N$156,0)","v":44}]
[]
[]
[null,null,null,null,null,null,null,null,null,null,null,null,null,null,{"$f":"RANK(O169,Csapat!$C$3:P170,0)","v":8}]
["Név","Sz.év","100 m",null,"Távolugrás",null,"Klabdahajítás",null,"Súlylökés",null,"800 m",null,"Összpont","Helyezés"]
[null,null,null,{"$f":"IF(C169<6.19,0,VLOOKUP(C169,rfut,5,TRUE))","v":0},null,{"$f":"IF(E169<1.79,0,VLOOKUP(E169,távol,4,TRUE))","v":0},null,{"$f":"IF(G169<4,0,VLOOKUP(G169,kisl,2,TRUE))","v":0},null,{"$f":"IF(I169<3,0,VLOOKUP(I169,súly,3,TRUE))","v":0},null,{"$f":"IF(K169<fiú!$D$2,0,VLOOKUP(K169,hfut,3,TRUE))","v":0},{"$f":"SUM(D169,F169,H169,L169,J169)","v":0},{"$f":"RANK(M169,Egyéni!$N$3:$N$156,0)","v":44},{"$f":"SUM(M169:M174)-MIN(M169:M174)","v":0}]
[null,null,null,0,null,0,null,0,null,0,null,{"$f":"IF(K170<fiú!$D$2,0,VLOOKUP(K170,hfut,3,TRUE))","v":0},0,{"$f":"RANK(M170,Egyéni!$N$3:$N$156,0)","v":44}]
[null,null,null,0,null,0,null,0,null,0,null,{"$f":"IF(K171<fiú!$D$2,0,VLOOKUP(K171,hfut,3,TRUE))","v":0},0,{"$f":"RANK(M171,Egyéni!$N$3:$N$156,0)","v":44}]
[null,null,null,0,null,0,null,0,null,0,null,{"$f":"IF(K172<fiú!$D$2,0,VLOOKUP(K172,hfut,3,TRUE))","v":0},0,{"$f":"RANK(M172,Egyéni!$N$3:$N$156,0)","v":44}]
[null,null,null,0,null,0,null,0,null,0,null,{"$f":"IF(K173<fiú!$D$2,0,VLOOKUP(K173,hfut,3,TRUE))","v":0},0,{"$f":"RANK(M173,Egyéni!$N$3:$N$156,0)","v":44}]
[null,null,null,0,null,0,null,0,null,0,null,{"$f":"IF(K174<fiú!$D$2,0,VLOOKUP(K174,hfut,3,TRUE))","v":0},0,{"$f":"RANK(M174,Egyéni!$N$3:$N$156,0)","v":44}]
[]
[]
[null,null,null,null,null,null,null,null,null,null,null,null,null,null,{"$f":"RANK(O179,Csapat!$C$3:P180,0)","v":8}]
["Név","Sz.év","100 m",null,"Távolugrás",null,"Klabdahajítás",null,"Súlylökés",null,"800 m",null,"Összpont","Helyezés"]
[null,null,null,{"$f":"IF(C179<6.19,0,VLOOKUP(C179,rfut,5,TRUE))","v":0},null,{"$f":"IF(E179<1.79,0,VLOOKUP(E179,távol,4,TRUE))","v":0},null,{"$f":"IF(G179<4,0,VLOOKUP(G179,kisl,2,TRUE))","v":0},null,{"$f":"IF(I179<3,0,VLOOKUP(I179,súly,3,TRUE))","v":0},null,{"$f":"IF(K179<fiú!$D$2,0,VLOOKUP(K179,hfut,3,TRUE))","v":0},{"$f":"SUM(D179,F179,H179,L179,J179)","v":0},{"$f":"RANK(M179,Egyéni!$N$3:$N$156,0)","v":44},{"$f":"SUM(M179:M184)-MIN(M179:M184)","v":0}]
[null,null,null,0,null,0,null,0,null,0,null,{"$f":"IF(K180<fiú!$D$2,0,VLOOKUP(K180,hfut,3,TRUE))","v":0},0,{"$f":"RANK(M180,Egyéni!$N$3:$N$156,0)","v":44}]
[null,null,null,0,null,0,null,0,null,0,null,{"$f":"IF(K181<fiú!$D$2,0,VLOOKUP(K181,hfut,3,TRUE))","v":0},0,{"$f":"RANK(M181,Egyéni!$N$3:$N$156,0)","v":44}]
[null,null,null,0,null,0,null,0,null,0,null,{"$f":"IF(K182<fiú!$D$2,0,VLOOKUP(K182,hfut,3,TRUE))","v":0},0,{"$f":"RANK(M182,Egyéni!$N$3:$N$156,0)","v":44}]
[null,null,null,0,null,0,null,0,null,0,null,{"$f":"IF(K183<fiú!$D$2,0,VLOOKUP(K183,hfut,3,TRUE))","v":0},0,{"$f":"RANK(M183,Egyéni!$N$3:$N$156,0)","v":44}]
[null,null,null,0,null,0,null,0,null,0,null,{"$f":"IF(K184<fiú!$D$2,0,VLOOKUP(K184,hfut,3,TRUE))","v":0},0,{"$f":"RANK(M184,Egyéni!$N$3:$N$156,0)","v":44}]
[]
[]
[null,null,null,null,null,null,null,null,null,null,null,null,null,null,{"$f":"RANK(O189,Csapat!$C$3:P190,0)","v":8}]
["Név","Sz.év","100 m",null,"Távolugrás",null,"Klabdahajítás",null,"Súlylökés",null,"800 m",null,"Összpont","Helyezés"]
[null,null,null,{"$f":"IF(C189<6.19,0,VLOOKUP(C189,rfut,5,TRUE))","v":0},null,{"$f":"IF(E189<1.79,0,VLOOKUP(E189,távol,4,TRUE))","v":0},null,{"$f":"IF(G189<4,0,VLOOKUP(G189,kisl,2,TRUE))","v":0},null,{"$f":"IF(I189<3,0,VLOOKUP(I189,súly,3,TRUE))","v":0},null,{"$f":"IF(K189<fiú!$D$2,0,VLOOKUP(K189,hfut,3,TRUE))","v":0},{"$f":"SUM(D189,F189,H189,L189,J189)","v":0},{"$f":"RANK(M189,Egyéni!$N$3:$N$156,0)","v":44},{"$f":"SUM(M189:M194)-MIN(M189:M194)","v":0}]
[null,null,null,0,null,0,null,0,null,0,null,{"$f":"IF(K190<fiú!$D$2,0,VLOOKUP(K190,hfut,3,TRUE))","v":0},0,{"$f":"RANK(M190,Egyéni!$N$3:$N$156,0)","v":44}]
[null,null,null,0,null,0,null,0,null,0,null,{"$f":"IF(K191<fiú!$D$2,0,VLOOKUP(K191,hfut,3,TRUE))","v":0},0,{"$f":"RANK(M191,Egyéni!$N$3:$N$156,0)","v":44}]
[null,null,null,0,null,0,null,0,null,0,null,{"$f":"IF(K192<fiú!$D$2,0,VLOOKUP(K192,hfut,3,TRUE))","v":0},0,{"$f":"RANK(M192,Egyéni!$N$3:$N$156,0)","v":44}]
[null,null,null,0,null,0,null,0,null,0,null,{"$f":"IF(K193<fiú!$D$2,0,VLOOKUP(K193,hfut,3,TRUE))","v":0},0,{"$f":"RANK(M193,Egyéni!$N$3:$N$156,0)","v":44}]
[null,null,null,0,null,0,null,0,null,0,null,{"$f":"IF(K194<fiú!$D$2,0,VLOOKUP(K194,hfut,3,TRUE))","v":0},0,{"$f":"RANK(M194,Egyéni!$N$3:$N$156,0)","v":44}]
[]
[]
[null,null,null,null,null,null,null,null,null,null,null,null,null,null,{"$f":"RANK(O199,Csapat!$C$3:P200,0)","v":8}]
["Név","Sz.év","100 m",null,"Távolugrás",null,"Klabdahajítás",null,"Súlylökés",null,"800 m",null,"Összpont","Helyezés"]
[null,null,null,{"$f":"IF(C199<6.19,0,VLOOKUP(C199,rfut,5,TRUE))","v":0},null,{"$f":"IF(E199<1.79,0,VLOOKUP(E199,távol,4,TRUE))","v":0},null,{"$f":"IF(G199<4,0,VLOOKUP(G199,kisl,2,TRUE))","v":0},null,{"$f":"IF(I199<3,0,VLOOKUP(I199,súly,3,TRUE))","v":0},null,{"$f":"IF(K199<fiú!$D$2,0,VLOOKUP(K199,hfut,3,TRUE))","v":0},{"$f":"SUM(D199,F199,H199,L199,J199)","v":0},{"$f":"RANK(M199,Egyéni!$N$3:$N$156,0)","v":44},{"$f":"SUM(M199:M204)-MIN(M199:M204)","v":0}]
[null,null,null,0,null,0,null,0,null,0,null,{"$f":"IF(K200<fiú!$D$2,0,VLOOKUP(K200,hfut,3,TRUE))","v":0},0,{"$f":"RANK(M200,Egyéni!$N$3:$N$156,0)","v":44}]
[null,null,null,0,null,0,null,0,null,0,null,{"$f":"IF(K201<fiú!$D$2,0,VLOOKUP(K201,hfut,3,TRUE))","v":0},0,{"$f":"RANK(M201,Egyéni!$N$3:$N$156,0)","v":44}]
[null,null,null,0,null,0,null,0,null,0,null,{"$f":"IF(K202<fiú!$D$2,0,VLOOKUP(K202,hfut,3,TRUE))","v":0},0,{"$f":"RANK(M202,Egyéni!$N$3:$N$156,0)","v":44}]
[null,null,null,0,null,0,null,0,null,0,null,{"$f":"IF(K203<fiú!$D$2,0,VLOOKUP(K203,hfut,3,TRUE))","v":0},0,{"$f":"RANK(M203,Egyéni!$N$3:$N$156,0)","v":44}]
[null,null,null,0,null,0,null,0,null,0,null,{"$f":"IF(K204<fiú!$D$2,0,VLOOKUP(K204,hfut,3,TRUE))","v":0},0,{"$f":"RANK(M204,Egyéni!$N$3:$N$156,0)","v":44}]
[]
[]
[null,null,null,null,null,null,null,null,null,null,null,null,null,null,{"$f":"RANK(O209,Csapat!$C$3:P210,0)","v":8}]
["Név","Sz.év","100 m",null,"Távolugrás",null,"Klabdahajítás",null,"Súlylökés",null,"800 m",null,"Összpont","Helyezés"]
[null,null,null,{"$f":"IF(C209<6.19,0,VLOOKUP(C209,rfut,5,TRUE))","v":0},null,{"$f":"IF(E209<1.79,0,VLOOKUP(E209,távol,4,TRUE))","v":0},null,{"$f":"IF(G209<4,0,VLOOKUP(G209,kisl,2,TRUE))","v":0},null,{"$f":"IF(I209<3,0,VLOOKUP(I209,súly,3,TRUE))","v":0},null,{"$f":"IF(K209<fiú!$D$2,0,VLOOKUP(K209,hfut,3,TRUE))","v":0},{"$f":"SUM(D209,F209,H209,L209,J209)","v":0},{"$f":"RANK(M209,Egyéni!$N$3:$N$156,0)","v":44},{"$f":"SUM(M209:M214)-MIN(M209:M214)","v":0}]
[null,null,null,0,null,0,null,0,null,0,null,{"$f":"IF(K210<fiú!$D$2,0,VLOOKUP(K210,hfut,3,TRUE))","v":0},0,{"$f":"RANK(M210,Egyéni!$N$3:$N$156,0)","v":44}]
[null,null,null,0,null,0,null,0,null,0,null,{"$f":"IF(K211<fiú!$D$2,0,VLOOKUP(K211,hfut,3,TRUE))","v":0},0,{"$f":"RANK(M211,Egyéni!$N$3:$N$156,0)","v":44}]
[null,null,null,0,null,0,null,0,null,0,null,{"$f":"IF(K212<fiú!$D$2,0,VLOOKUP(K212,hfut,3,TRUE))","v":0},0,{"$f":"RANK(M212,Egyéni!$N$3:$N$156,0)","v":44}]
[null,null,null,0,null,0,null,0,null,0,null,{"$f":"IF(K213<fiú!$D$2,0,VLOOKUP(K213,hfut,3,TRUE))","v":0},0,{"$f":"RANK(M213,Egyéni!$N$3:$N$156,0)","v":44}]
[null,null,null,0,null,0,null,0,null,0,null,{"$f":"IF(K214<fiú!$D$2,0,VLOOKUP(K214,hfut,3,TRUE))","v":0},0,{"$f":"RANK(M214,Egyéni!$N$3:$N$156,0)","v":44}]
[]
[]
[null,null,null,null,null,null,null,null,null,null,null,null,null,null,{"$f":"RANK(O219,Csapat!$C$3:P220,0)","v":8}]
["Név","Sz.év","100 m",null,"Távolugrás",null,"Klabdahajítás",null,"Súlylökés",null,"800 m",null,"Összpont","Helyezés"]
[null,null,null,{"$f":"IF(C219<6.19,0,VLOOKUP(C219,rfut,5,TRUE))","v":0},null,{"$f":"IF(E219<1.79,0,VLOOKUP(E219,távol,4,TRUE))","v":0},null,{"$f":"IF(G219<4,0,VLOOKUP(G219,kisl,2,TRUE))","v":0},null,{"$f":"IF(I219<3,0,VLOOKUP(I219,súly,3,TRUE))","v":0},null,{"$f":"IF(K219<fiú!$D$2,0,VLOOKUP(K219,hfut,3,TRUE))","v":0},{"$f":"SUM(D219,F219,H219,L219,J219)","v":0},{"$f":"RANK(M219,Egyéni!$N$3:$N$156,0)","v":44},{"$f":"SUM(M219:M224)-MIN(M219:M224)","v":0}]
[null,null,null,0,null,0,null,0,null,0,null,{"$f":"IF(K220<fiú!$D$2,0,VLOOKUP(K220,hfut,3,TRUE))","v":0},0,{"$f":"RANK(M220,Egyéni!$N$3:$N$156,0)","v":44}]
[null,null,null,0,null,0,null,0,null,0,null,{"$f":"IF(K221<fiú!$D$2,0,VLOOKUP(K221,hfut,3,TRUE))","v":0},0,{"$f":"RANK(M221,Egyéni!$N$3:$N$156,0)","v":44}]
[null,null,null,0,null,0,null,0,null,0,null,{"$f":"IF(K222<fiú!$D$2,0,VLOOKUP(K222,hfut,3,TRUE))","v":0},0,{"$f":"RANK(M222,Egyéni!$N$3:$N$156,0)","v":44}]
[null,null,null,0,null,0,null,0,null,0,null,{"$f":"IF(K223<fiú!$D$2,0,VLOOKUP(K223,hfut,3,TRUE))","v":0},0,{"$f":"RANK(M223,Egyéni!$N$3:$N$156,0)","v":44}]
[null,null,null,0,null,0,null,0,null,0,null,{"$f":"IF(K224<fiú!$D$2,0,VLOOKUP(K224,hfut,3,TRUE))","v":0},0,{"$f":"RANK(M224,Egyéni!$N$3:$N$156,0)","v":44}]
[]
[]
[null,null,null,null,null,null,null,null,null,null,null,null,null,null,{"$f":"RANK(O229,Csapat!$C$3:P230,0)","v":8}]
["Név","Sz.év","100 m",null,"Távolugrás",null,"Klabdahajítás",null,"Súlylökés",null,"800 m",null,"Összpont","Helyezés"]
[null,null,null,{"$f":"IF(C229<6.19,0,VLOOKUP(C229,rfut,5,TRUE))","v":0},null,{"$f":"IF(E229<1.79,0,VLOOKUP(E229,távol,4,TRUE))","v":0},null,{"$f":"IF(G229<4,0,VLOOKUP(G229,kisl,2,TRUE))","v":0},null,{"$f":"IF(I229<3,0,VLOOKUP(I229,súly,3,TRUE))","v":0},null,{"$f":"IF(K229<fiú!$D$2,0,VLOOKUP(K229,hfut,3,TRUE))","v":0},{"$f":"SUM(D229,F229,H229,L229,J229)","v":0},{"$f":"RANK(M229,Egyéni!$N$3:$N$156,0)","v":44},{"$f":"SUM(M229:M234)-MIN(M229:M234)","v":0}]
[null,null,null,0,null,0,null,0,null,0,null,{"$f":"IF(K230<fiú!$D$2,0,VLOOKUP(K230,hfut,3,TRUE))","v":0},0,{"$f":"RANK(M230,Egyéni!$N$3:$N$156,0)","v":44}]
[null,null,null,0,null,0,null,0,null,0,null,{"$f":"IF(K231<fiú!$D$2,0,VLOOKUP(K231,hfut,3,TRUE))","v":0},0,{"$f":"RANK(M231,Egyéni!$N$3:$N$156,0)","v":44}]
[null,null,null,0,null,0,null,0,null,0,null,{"$f":"IF(K232<fiú!$D$2,0,VLOOKUP(K232,hfut,3,TRUE))","v":0},0,{"$f":"RANK(M232,Egyéni!$N$3:$N$156,0)","v":44}]
[null,null,null,0,null,0,null,0,null,0,null,{"$f":"IF(K233<fiú!$D$2,0,VLOOKUP(K233,hfut,3,TRUE))","v":0},0,{"$f":"RANK(M233,Egyéni!$N$3:$N$156,0)","v":44}]
[null,null,null,0,null,0,null,0,null,0,null,{"$f":"IF(K234<fiú!$D$2,0,VLOOKUP(K234,hfut,3,TRUE))","v":0},0,{"$f":"RANK(M234,Egyéni!$N$3:$N$156,0)","v":44}]
[]
[]
[null,null,null,null,null,null,null,null,null,null,null,null,null,null,{"$f":"RANK(O239,Csapat!$C$3:P240,0)","v":8}]
["Név","Sz.év","100 m",null,"Távolugrás",null,"Klabdahajítás",null,"Súlylökés",null,"800 m",null,"Összpont","Helyezés"]
[null,null,null,{"$f":"IF(C239<6.19,0,VLOOKUP(C239,rfut,5,TRUE))","v":0},null,{"$f":"IF(E239<1.79,0,VLOOKUP(E239,távol,4,TRUE))","v":0},null,{"$f":"IF(G239<4,0,VLOOKUP(G239,kisl,2,TRUE))","v":0},null,{"$f":"IF(I239<3,0,VLOOKUP(I239,súly,3,TRUE))","v":0},null,{"$f":"IF(K239<fiú!$D$2,0,VLOOKUP(K239,hfut,3,TRUE))","v":0},{"$f":"SUM(D239,F239,H239,L239,J239)","v":0},{"$f":"RANK(M239,Egyéni!$N$3:$N$156,0)","v":44},{"$f":"SUM(M239:M244)-MIN(M239:M244)","v":0}]
[null,null,null,0,null,0,null,0,null,0,null,{"$f":"IF(K240<fiú!$D$2,0,VLOOKUP(K240,hfut,3,TRUE))","v":0},0,{"$f":"RANK(M240,Egyéni!$N$3:$N$156,0)","v":44}]
[null,null,null,0,null,0,null,0,null,0,null,{"$f":"IF(K241<fiú!$D$2,0,VLOOKUP(K241,hfut,3,TRUE))","v":0},0,{"$f":"RANK(M241,Egyéni!$N$3:$N$156,0)","v":44}]
[null,null,null,0,null,0,null,0,null,0,null,{"$f":"IF(K242<fiú!$D$2,0,VLOOKUP(K242,hfut,3,TRUE))","v":0},0,{"$f":"RANK(M242,Egyéni!$N$3:$N$156,0)","v":44}]
[null,null,null,0,null,0,null,0,null,0,null,{"$f":"IF(K243<fiú!$D$2,0,VLOOKUP(K243,hfut,3,TRUE))","v":0},0,{"$f":"RANK(M243,Egyéni!$N$3:$N$156,0)","v":44}]
[null,null,null,0,null,0,null,0,null,0,null,{"$f":"IF(K244<fiú!$D$2,0,VLOOKUP(K244,hfut,3,TRUE))","v":0},0,{"$f":"RANK(M244,Egyéni!$N$3:$N$156,0)","v":44}]

{"sheet":"Egyéni","index":2,"n_rows":156,"n_cols":16,"rows_kept":156,"cut":false,"hidden":false,"merged":[[0,0,0,15]]}
["IV. korcsoport FIÚ EGYÉNI végeredmény ( Rendezés Ctrl + e )"]
["Ssz","Név","Szév","100 m","p","Távol","p","Kisl","p","Súly","p","800 m","p","Összp",null,"Iskola"]
["1.",{"$f":"Be!A5","v":"Tojzán Zádor"},{"$f":"Be!B5","v":2008},{"$f":"Be!C5","v":12.4},{"$f":"Be!D5","v":202},{"$f":"Be!E5","v":5.65},{"$f":"Be!F5","v":185},{"$f":"Be!G5","v":48.48},{"$f":"Be!H5","v":131},{"$f":"Be!I5","v":11.79},{"$f":"Be!J5","v":170},{"$f":"Be!K5","v":"00:02:28.100"},{"$f":"Be!L5","v":173},{"$f":"Be!M5","v":861},null,{"$f":"Be!O5","v":"Szekszárd, Garay"}]
["2.",{"$f":"Be!A4","v":"Kiss Bendegúz"},{"$f":"Be!B4","v":2009},{"$f":"Be!C4","v":12.4},{"$f":"Be!D4","v":202},{"$f":"Be!E4","v":5.85},{"$f":"Be!F4","v":196},{"$f":"Be!G4","v":41.41},{"$f":"Be!H4","v":108},{"$f":"Be!I4","v":10.33},{"$f":"Be!J4","v":137},{"$f":"Be!K4","v":"00:02:26.100"},{"$f":"Be!L4","v":178},{"$f":"Be!M4","v":821},null,{"$f":"Be!O4","v":"PTE Gyakorló Ált. Isk."}]
["3.",{"$f":"Be!A33","v":"Radnóti Gergely Attila"},{"$f":"Be!B33","v":2008},{"$f":"Be!C33","v":12.5},{"$f":"Be!D33","v":198},{"$f":"Be!E33","v":5.31},{"$f":"Be!F33","v":166},{"$f":"Be!G33","v":40.75},{"$f":"Be!H33","v":105},{"$f":"Be!I33","v":13.75},{"$f":"Be!J33","v":217},{"$f":"Be!K33","v":"00:02:46.900"},{"$f":"Be!L33","v":128},{"$f":"Be!M33","v":814},null,{"$f":"Be!A27","v":"Szekszárdi Dienes V. Ált. Isk."}]
["4.",{"$f":"Be!A94","v":"Sáfrány Dominik Ferenc"},{"$f":"Be!B94","v":2008},{"$f":"Be!C94","v":12.6},{"$f":"Be!D94","v":194},{"$f":"Be!E94","v":5.54},{"$f":"Be!F94","v":179},{"$f":"Be!G94","v":47.08},{"$f":"Be!H94","v":126},{"$f":"Be!I94","v":9.34},{"$f":"Be!J94","v":117},{"$f":"Be!K94","v":"00:02:25"},{"$f":"Be!L94","v":181},{"$f":"Be!M94","v":797},null,{"$f":"Be!A87","v":"Nagydorogi Széchényi Sándor Ált. Isk."}]
["5.",{"$f":"Be!A61","v":"Gréczy Bálint"},{"$f":"Be!B61","v":2009},{"$f":"Be!C61","v":13.3},{"$f":"Be!D61","v":169},{"$f":"Be!E61","v":4.8099999999999996},{"$f":"Be!F61","v":139},{"$f":"Be!G61","v":47.15},{"$f":"Be!H61","v":126},{"$f":"Be!I61","v":11.59},{"$f":"Be!J61","v":165},{"$f":"Be!K61","v":"00:02:32.500"},{"$f":"Be!L61","v":162},{"$f":"Be!M61","v":761},null,{"$f":"Be!A57","v":"Szekszárdi Babits M. Ált. Isk."}]
["6.",{"$f":"Be!A6","v":"Lakatos-Lamm Bence"},{"$f":"Be!B6","v":2009},{"$f":"Be!C6","v":12.4},{"$f":"Be!D6","v":202},{"$f":"Be!E6","v":5.78},{"$f":"Be!F6","v":192},{"$f":"Be!G6","v":48.92},{"$f":"Be!H6","v":132},{"$f":"Be!I6","v":7.78},{"$f":"Be!J6","v":86},{"$f":"Be!K6","v":"00:02:39"},{"$f":"Be!L6","v":146},{"$f":"Be!M6","v":758},null,{"$f":"Be!O6","v":"Dombóvári Illyés Gy. Gimn."}]
["7.",{"$f":"Be!A32","v":"Könyves László Lorenzó"},{"$f":"Be!B32","v":2009},{"$f":"Be!C32","v":13.2},{"$f":"Be!D32","v":173},{"$f":"Be!E32","v":5.0199999999999996},{"$f":"Be!F32","v":149},{"$f":"Be!G32","v":48.07},{"$f":"Be!H32","v":129},{"$f":"Be!I32","v":9.4700000000000006},{"$f":"Be!J32","v":119},{"$f":"Be!K32","v":"00:02:27.400"},{"$f":"Be!L32","v":175},{"$f":"Be!M32","v":745},null,{"$f":"Be!A27","v":"Szekszárdi Dienes V. Ált. Isk."}]
["8.",{"$f":"Be!A69","v":"Halmai Zsombor"},{"$f":"Be!B69","v":2008},{"$f":"Be!C69","v":13.3},{"$f":"Be!D69","v":169},{"$f":"Be!E69","v":4.53},{"$f":"Be!F69","v":124},{"$f":"Be!G69","v":60.37},{"$f":"Be!H69","v":172},{"$f":"Be!I69","v":10.95},{"$f":"Be!J69","v":150},{"$f":"Be!K69","v":"00:02:49.900"},{"$f":"Be!L69","v":121},{"$f":"Be!M69","v":736},null,{"$f":"Be!A67","v":"Szt. Orsolya Bencés Ált. Isk."}]
["9.",{"$f":"Be!A31","v":"Kocsis Martin"},{"$f":"Be!B31","v":2008},{"$f":"Be!C31","v":12.7},{"$f":"Be!D31","v":191},{"$f":"Be!E31","v":5.07},{"$f":"Be!F31","v":152},{"$f":"Be!G31","v":43.52},{"$f":"Be!H31","v":115},{"$f":"Be!I31","v":10.5},{"$f":"Be!J31","v":141},{"$f":"Be!K31","v":"00:02:46.300"},{"$f":"Be!L31","v":129},{"$f":"Be!M31","v":728},null,{"$f":"Be!A27","v":"Szekszárdi Dienes V. Ált. Isk."}]
["10.",{"$f":"Be!A70","v":"Kapinya Péter"},{"$f":"Be!B70","v":2008},{"$f":"Be!C70","v":13.2},{"$f":"Be!D70","v":173},{"$f":"Be!E70","v":4.76},{"$f":"Be!F70","v":136},{"$f":"Be!G70","v":55},{"$f":"Be!H70","v":153},{"$f":"Be!I70","v":8.56},{"$f":"Be!J70","v":100},{"$f":"Be!K70","v":"00:02:38.500"},{"$f":"Be!L70","v":147},{"$f":"Be!M70","v":709},null,{"$f":"Be!A67","v":"Szt. Orsolya Bencés Ált. Isk."}]
["11.",{"$f":"Be!A59","v":"Bíró Botond"},{"$f":"Be!B59","v":2008},{"$f":"Be!C59","v":13.2},{"$f":"Be!D59","v":173},{"$f":"Be!E59","v":4.83},{"$f":"Be!F59","v":140},{"$f":"Be!G59","v":41.87},{"$f":"Be!H59","v":109},{"$f":"Be!I59","v":8.49},{"$f":"Be!J59","v":99},{"$f":"Be!K59","v":"00:02:25.300"},{"$f":"Be!L59","v":180},{"$f":"Be!M59","v":701},null,{"$f":"Be!A57","v":"Szekszárdi Babits M. Ált. Isk."}]
["12.",{"$f":"Be!A71","v":"Kovács Barnabás"},{"$f":"Be!B71","v":2008},{"$f":"Be!C71","v":12.6},{"$f":"Be!D71","v":194},{"$f":"Be!E71","v":4.92},{"$f":"Be!F71","v":144},{"$f":"Be!G71","v":48.88},{"$f":"Be!H71","v":132},{"$f":"Be!I71","v":10.07},{"$f":"Be!J71","v":132},{"$f":"Be!K71","v":"00:03:01.400"},{"$f":"Be!L71","v":95},{"$f":"Be!M71","v":697},null,{"$f":"Be!A67","v":"Szt. Orsolya Bencés Ált. Isk."}]
["13.",{"$f":"Be!A30","v":"Füle Richárd"},{"$f":"Be!B30","v":2008},{"$f":"Be!C30","v":13.1},{"$f":"Be!D30","v":176},{"$f":"Be!E30","v":4.72},{"$f":"Be!F30","v":134},{"$f":"Be!G30","v":44.85},{"$f":"Be!H30","v":119},{"$f":"Be!I30","v":9.81},{"$f":"Be!J30","v":126},{"$f":"Be!K30","v":"00:02:44.700"},{"$f":"Be!L30","v":133},{"$f":"Be!M30","v":688},null,{"$f":"Be!A27","v":"Szekszárdi Dienes V. Ált. Isk."}]
["14.",{"$f":"Be!A72","v":"Szabó Dominik"},{"$f":"Be!B72","v":2008},{"$f":"Be!C72","v":13.6},{"$f":"Be!D72","v":159},{"$f":"Be!E72","v":4.62},{"$f":"Be!F72","v":129},{"$f":"Be!G72","v":52.4},{"$f":"Be!H72","v":144},{"$f":"Be!I72","v":8.27},{"$f":"Be!J72","v":95},{"$f":"Be!K72","v":"00:02:39.700"},{"$f":"Be!L72","v":144},{"$f":"Be!M72","v":671},null,{"$f":"Be!A67","v":"Szt. Orsolya Bencés Ált. Isk."}]
["15.",{"$f":"Be!A63","v":"Palkó Boldizsár"},{"$f":"Be!B63","v":2008},{"$f":"Be!C63","v":13.5},{"$f":"Be!D63","v":162},{"$f":"Be!E63","v":4.47},{"$f":"Be!F63","v":121},{"$f":"Be!G63","v":47.17},{"$f":"Be!H63","v":127},{"$f":"Be!I63","v":10.08},{"$f":"Be!J63","v":132},{"$f":"Be!K63","v":"00:02:46.600"},{"$f":"Be!L63","v":129},{"$f":"Be!M63","v":671},null,{"$f":"Be!A57","v":"Szekszárdi Babits M. Ált. Isk."}]
["16.",{"$f":"Be!A64","v":"Gréczy Dániel"},{"$f":"Be!B64","v":2009},{"$f":"Be!C64","v":13.5},{"$f":"Be!D64","v":162},{"$f":"Be!E64","v":4.46},{"$f":"Be!F64","v":121},{"$f":"Be!G64","v":43.76},{"$f":"Be!H64","v":115},{"$f":"Be!I64","v":10.050000000000001},{"$f":"Be!J64","v":131},{"$f":"Be!K64","v":"00:02:42.800"},{"$f":"Be!L64","v":137},{"$f":"Be!M64","v":666},null,{"$f":"Be!A57","v":"Szekszárdi Babits M. Ált. Isk."}]
["17.",{"$f":"Be!A92","v":"Molnár Milán Marcell"},{"$f":"Be!B92","v":2008},{"$f":"Be!C92","v":13},{"$f":"Be!D92","v":180},{"$f":"Be!E92","v":4.5599999999999996},{"$f":"Be!F92","v":126},{"$f":"Be!G92","v":41.2},{"$f":"Be!H92","v":107},{"$f":"Be!I92","v":9.02},{"$f":"Be!J92","v":110},{"$f":"Be!K92","v":"00:02:41.200"},{"$f":"Be!L92","v":141},{"$f":"Be!M92","v":664},null,{"$f":"Be!A87","v":"Nagydorogi Széchényi Sándor Ált. Isk."}]
["18.",{"$f":"Be!A79","v":"Csibi Olivér"},{"$f":"Be!B79","v":2009},{"$f":"Be!C79","v":13.2},{"$f":"Be!D79","v":173},{"$f":"Be!E79","v":4.4000000000000004},{"$f":"Be!F79","v":118},{"$f":"Be!G79","v":45.19},{"$f":"Be!H79","v":120},{"$f":"Be!I79","v":9.5},{"$f":"Be!J79","v":120},{"$f":"Be!K79","v":"00:02:45.800"},{"$f":"Be!L79","v":130},{"$f":"Be!M79","v":661},null,{"$f":"Be!A77","v":"Zombai Általános Iskola"}]
["19.",{"$f":"Be!A62","v":"Kappel Márton"},{"$f":"Be!B62","v":2009},{"$f":"Be!C62","v":13.2},{"$f":"Be!D62","v":173},{"$f":"Be!E62","v":4.33},{"$f":"Be!F62","v":114},{"$f":"Be!G62","v":40.89},{"$f":"Be!H62","v":106},{"$f":"Be!I62","v":9.9600000000000009},{"$f":"Be!J62","v":130},{"$f":"Be!K62","v":"00:02:48.600"},{"$f":"Be!L62","v":124},{"$f":"Be!M62","v":647},null,{"$f":"Be!A57","v":"Szekszárdi Babits M. Ált. Isk."}]
["20.",{"$f":"Be!A81","v":"Orsós Kevin Zsolt"},{"$f":"Be!B81","v":2008},{"$f":"Be!C81","v":13.1},{"$f":"Be!D81","v":176},{"$f":"Be!E81","v":4.63},{"$f":"Be!F81","v":129},{"$f":"Be!G81","v":46.16},{"$f":"Be!H81","v":123},{"$f":"Be!I81","v":10.47},{"$f":"Be!J81","v":140},{"$f":"Be!K81","v":"00:03:10.700"},{"$f":"Be!L81","v":76},{"$f":"Be!M81","v":644},null,{"$f":"Be!A77","v":"Zombai Általános Iskola"}]
["21.",{"$f":"Be!A91","v":"Kovács Tibor"},{"$f":"Be!B91","v":2008},{"$f":"Be!C91","v":13.5},{"$f":"Be!D91","v":162},{"$f":"Be!E91","v":4.78},{"$f":"Be!F91","v":137},{"$f":"Be!G91","v":50.81},{"$f":"Be!H91","v":138},{"$f":"Be!I91","v":8.25},{"$f":"Be!J91","v":94},{"$f":"Be!K91","v":"00:02:53.500"},{"$f":"Be!L91","v":113},{"$f":"Be!M91","v":644},null,{"$f":"Be!A87","v":"Nagydorogi Széchényi Sándor Ált. Isk."}]
["22.",{"$f":"Be!A82","v":"Szemes Márk"},{"$f":"Be!B82","v":2008},{"$f":"Be!C82","v":13.3},{"$f":"Be!D82","v":169},{"$f":"Be!E82","v":4.5999999999999996},{"$f":"Be!F82","v":128},{"$f":"Be!G82","v":34.57},{"$f":"Be!H82","v":86},{"$f":"Be!I82","v":8.49},{"$f":"Be!J82","v":99},{"$f":"Be!K82","v":"00:02:36.300"},{"$f":"Be!L82","v":152},{"$f":"Be!M82","v":634},null,{"$f":"Be!A77","v":"Zombai Általános Iskola"}]
["23.",{"$f":"Be!A89","v":"Csonka Ármin Milán"},{"$f":"Be!B89","v":2009},{"$f":"Be!C89","v":13.3},{"$f":"Be!D89","v":169},{"$f":"Be!E89","v":4.1900000000000004},{"$f":"Be!F89","v":107},{"$f":"Be!G89","v":47.7},{"$f":"Be!H89","v":128},{"$f":"Be!I89","v":8.06},{"$f":"Be!J89","v":91},{"$f":"Be!K89","v":"00:02:43.400"},{"$f":"Be!L89","v":136},{"$f":"Be!M89","v":631},null,{"$f":"Be!A87","v":"Nagydorogi Széchényi Sándor Ált. Isk."}]
["24.",{"$f":"Be!A54","v":"Vukálovics Ákos"},{"$f":"Be!B54","v":2008},{"$f":"Be!C54","v":13.4},{"$f":"Be!D54","v":166},{"$f":"Be!E54","v":4.3},{"$f":"Be!F54","v":113},{"$f":"Be!G54","v":40.44},{"$f":"Be!H54","v":104},{"$f":"Be!I54","v":8.1300000000000008},{"$f":"Be!J54","v":92},{"$f":"Be!K54","v":"00:02:38.200"},{"$f":"Be!L54","v":148},{"$f":"Be!M54","v":623},null,{"$f":"Be!A47","v":"Bonyhádi Petőfi S.E.Gimn. Ált. Isk."}]
["25.",{"$f":"Be!A74","v":"Tobler Péter"},{"$f":"Be!B74","v":2009},{"$f":"Be!C74","v":13.8},{"$f":"Be!D74","v":151},{"$f":"Be!E74","v":4.8899999999999997},{"$f":"Be!F74","v":143},{"$f":"Be!G74","v":39.57},{"$f":"Be!H74","v":102},{"$f":"Be!I74","v":6.92},{"$f":"Be!J74","v":69},{"$f":"Be!K74","v":"00:02:40.300"},{"$f":"Be!L74","v":143},{"$f":"Be!M74","v":608},null,{"$f":"Be!A67","v":"Szt. Orsolya Bencés Ált. Isk."}]
["26.",{"$f":"Be!A60","v":"Fodor Zalán"},{"$f":"Be!B60","v":2009},{"$f":"Be!C60","v":13.4},{"$f":"Be!D60","v":166},{"$f":"Be!E60","v":4.6399999999999997},{"$f":"Be!F60","v":130},{"$f":"Be!G60","v":34.18},{"$f":"Be!H60","v":85},{"$f":"Be!I60","v":6.64},{"$f":"Be!J60","v":64},{"$f":"Be!K60","v":"00:02:42.100"},{"$f":"Be!L60","v":139},{"$f":"Be!M60","v":584},null,{"$f":"Be!A57","v":"Szekszárdi Babits M. Ált. Isk."}]
["27.",{"$f":"Be!A34","v":"Szoboszlai Máté"},{"$f":"Be!B34","v":2008},{"$f":"Be!C34","v":13.1},{"$f":"Be!D34","v":176},{"$f":"Be!E34","v":4.08},{"$f":"Be!F34","v":101},{"$f":"Be!G34","v":39},{"$f":"Be!H34","v":100},{"$f":"Be!I34","v":9.34},{"$f":"Be!J34","v":117},{"$f":"Be!K34","v":"00:03:06.300"},{"$f":"Be!L34","v":85},{"$f":"Be!M34","v":579},null,{"$f":"Be!A27","v":"Szekszárdi Dienes V. Ált. Isk."}]
["28.",{"$f":"Be!A93","v":"Nyári László András"},{"$f":"Be!B93","v":2009},{"$f":"Be!C93","v":13.6},{"$f":"Be!D93","v":159},{"$f":"Be!E93","v":4.46},{"$f":"Be!F93","v":121},{"$f":"Be!G93","v":48.28},{"$f":"Be!H93","v":130},{"$f":"Be!I93","v":8.9},{"$f":"Be!J93","v":108},{"$f":"Be!K93","v":"00:03:23.500"},{"$f":"Be!L93","v":50},{"$f":"Be!M93","v":568},null,{"$f":"Be!A87","v":"Nagydorogi Széchényi Sándor Ált. Isk."}]
["29.",{"$f":"Be!A29","v":"Loe Dávid"},{"$f":"Be!B29","v":2009},{"$f":"Be!C29","v":14.4},{"$f":"Be!D29","v":132},{"$f":"Be!E29","v":4.3899999999999997},{"$f":"Be!F29","v":117},{"$f":"Be!G29","v":46.56},{"$f":"Be!H29","v":125},{"$f":"Be!I29","v":6.91},{"$f":"Be!J29","v":69},{"$f":"Be!K29","v":"00:02:54.100"},{"$f":"Be!L29","v":112},{"$f":"Be!M29","v":555},null,{"$f":"Be!A27","v":"Szekszárdi Dienes V. Ált. Isk."}]
["30.",{"$f":"Be!A49","v":"Garay Gergő"},{"$f":"Be!B49","v":2008},{"$f":"Be!C49","v":13.4},{"$f":"Be!D49","v":166},{"$f":"Be!E49","v":4.22},{"$f":"Be!F49","v":108},{"$f":"Be!G49","v":38.049999999999997},{"$f":"Be!H49","v":97},{"$f":"Be!I49","v":7.83},{"$f":"Be!J49","v":87},{"$f":"Be!K49","v":"00:03:05.100"},{"$f":"Be!L49","v":88},{"$f":"Be!M49","v":546},null,{"$f":"Be!A47","v":"Bonyhádi Petőfi S.E.Gimn. Ált. Isk."}]
["31.",{"$f":"Be!A73","v":"Vida Bence"},{"$f":"Be!B73","v":2009},{"$f":"Be!C73","v":14.6},{"$f":"Be!D73","v":126},{"$f":"Be!E73","v":4.21},{"$f":"Be!F73","v":108},{"$f":"Be!G73","v":48.08},{"$f":"Be!H73","v":130},{"$f":"Be!I73","v":7.99},{"$f":"Be!J73","v":90},{"$f":"Be!K73","v":"00:03:06.600"},{"$f":"Be!L73","v":85},{"$f":"Be!M73","v":539},null,{"$f":"Be!A67","v":"Szt. Orsolya Bencés Ált. Isk."}]
["32.",{"$f":"Be!A53","v":"Sánta Balázs"},{"$f":"Be!B53","v":2008},{"$f":"Be!C53","v":13.9},{"$f":"Be!D53","v":148},{"$f":"Be!E53","v":4.16},{"$f":"Be!F53","v":105},{"$f":"Be!G53","v":42.38},{"$f":"Be!H53","v":111},{"$f":"Be!I53","v":6.96},{"$f":"Be!J53","v":70},{"$f":"Be!K53","v":"00:03:02"},{"$f":"Be!L53","v":94},{"$f":"Be!M53","v":528},null,{"$f":"Be!A47","v":"Bonyhádi Petőfi S.E.Gimn. Ált. Isk."}]
["33.",{"$f":"Be!A83","v":"Häckl Ábel"},{"$f":"Be!B83","v":2009},{"$f":"Be!C83","v":13.6},{"$f":"Be!D83","v":159},{"$f":"Be!E83","v":4.16},{"$f":"Be!F83","v":105},{"$f":"Be!G83","v":33.07},{"$f":"Be!H83","v":82},{"$f":"Be!I83","v":6.41},{"$f":"Be!J83","v":60},{"$f":"Be!K83","v":"00:02:51.800"},{"$f":"Be!L83","v":117},{"$f":"Be!M83","v":523},null,{"$f":"Be!A77","v":"Zombai Általános Iskola"}]
["34.",{"$f":"Be!A99","v":"Janthó Márk"},{"$f":"Be!B99","v":2008},{"$f":"Be!C99","v":14},{"$f":"Be!D99","v":145},{"$f":"Be!E99","v":4.26},{"$f":"Be!F99","v":110},{"$f":"Be!G99","v":33.1},{"$f":"Be!H99","v":82},{"$f":"Be!I99","v":7.63},{"$f":"Be!J99","v":83},{"$f":"Be!K99","v":"00:03:00.300"},{"$f":"Be!L99","v":98},{"$f":"Be!M99","v":518},null,{"$f":"Be!A97","v":"Tolnai Wosinsky M. Ált. Isk."}]
["35.",{"$f":"Be!A51","v":"Németh Kolos"},{"$f":"Be!B51","v":2008},{"$f":"Be!C51","v":13.7},{"$f":"Be!D51","v":155},{"$f":"Be!E51","v":0},{"$f":"Be!F51","v":0},{"$f":"Be!G51","v":39.56},{"$f":"Be!H51","v":101},{"$f":"Be!I51","v":9.34},{"$f":"Be!J51","v":117},{"$f":"Be!K51","v":"00:02:45.200"},{"$f":"Be!L51","v":132},{"$f":"Be!M51","v":505},null,{"$f":"Be!A47","v":"Bonyhádi Petőfi S.E.Gimn. Ált. Isk."}]
["36.",{"$f":"Be!A90","v":"Kocsis Damáz"},{"$f":"Be!B90","v":2009},{"$f":"Be!C90","v":15.2},{"$f":"Be!D90","v":106},{"$f":"Be!E90","v":3.97},{"$f":"Be!F90","v":96},{"$f":"Be!G90","v":39.729999999999997},{"$f":"Be!H90","v":102},{"$f":"Be!I90","v":7.07},{"$f":"Be!J90","v":72},{"$f":"Be!K90","v":"00:02:47.400"},{"$f":"Be!L90","v":127},{"$f":"Be!M90","v":503},null,{"$f":"Be!A87","v":"Nagydorogi Széchényi Sándor Ált. Isk."}]
["37.",{"$f":"Be!A80","v":"Marázi Archilles"},{"$f":"Be!B80","v":2009},{"$f":"Be!C80","v":13.8},{"$f":"Be!D80","v":151},{"$f":"Be!E80","v":3.96},{"$f":"Be!F80","v":96},{"$f":"Be!G80","v":37.14},{"$f":"Be!H80","v":94},{"$f":"Be!I80","v":7.15},{"$f":"Be!J80","v":74},{"$f":"Be!K80","v":"00:03:08.800"},{"$f":"Be!L80","v":80},{"$f":"Be!M80","v":495},null,{"$f":"Be!A77","v":"Zombai Általános Iskola"}]
["38.",{"$f":"Be!A52","v":"Schiszler Ádám"},{"$f":"Be!B52","v":2008},{"$f":"Be!C52","v":13.9},{"$f":"Be!D52","v":148},{"$f":"Be!E52","v":4.07},{"$f":"Be!F52","v":101},{"$f":"Be!G52","v":36.049999999999997},{"$f":"Be!H52","v":91},{"$f":"Be!I52","v":7.5},{"$f":"Be!J52","v":80},{"$f":"Be!K52","v":"00:03:16.400"},{"$f":"Be!L52","v":64},{"$f":"Be!M52","v":484},null,{"$f":"Be!A47","v":"Bonyhádi Petőfi S.E.Gimn. Ált. Isk."}]
["39.",{"$f":"Be!A100","v":"Novák Dávid Ferenc"},{"$f":"Be!B100","v":2009},{"$f":"Be!C100","v":15.2},{"$f":"Be!D100","v":106},{"$f":"Be!E100","v":3.76},{"$f":"Be!F100","v":86},{"$f":"Be!G100","v":51.38},{"$f":"Be!H100","v":140},{"$f":"Be!I100","v":9.48},{"$f":"Be!J100","v":120},{"$f":"Be!K100","v":"00:03:34.300"},{"$f":"Be!L100","v":29},{"$f":"Be!M100","v":481},null,{"$f":"Be!A97","v":"Tolnai Wosinsky M. Ált. Isk."}]
["40.",{"$f":"Be!A50","v":"Hucker Olivér"},{"$f":"Be!B50","v":2009},{"$f":"Be!C50","v":14.2},{"$f":"Be!D50","v":138},{"$f":"Be!E50","v":3.35},{"$f":"Be!F50","v":67},{"$f":"Be!G50","v":31.09},{"$f":"Be!H50","v":76},{"$f":"Be!I50","v":8.51},{"$f":"Be!J50","v":99},{"$f":"Be!K50","v":"00:03:00.600"},{"$f":"Be!L50","v":97},{"$f":"Be!M50","v":477},null,{"$f":"Be!A47","v":"Bonyhádi Petőfi S.E.Gimn. Ált. Isk."}]
["41.",{"$f":"Be!A102","v":"Straubinger Marcell"},{"$f":"Be!B102","v":2008},{"$f":"Be!C102","v":15},{"$f":"Be!D102","v":113},{"$f":"Be!E102","v":4.01},{"$f":"Be!F102","v":98},{"$f":"Be!G102","v":43.86},{"$f":"Be!H102","v":116},{"$f":"Be!I102","v":7.88},{"$f":"Be!J102","v":87},{"$f":"Be!K102","v":"00:03:25.700"},{"$f":"Be!L102","v":46},{"$f":"Be!M102","v":460},null,{"$f":"Be!A97","v":"Tolnai Wosinsky M. Ált. Isk."}]
["42.",{"$f":"Be!A103","v":"Tóth Richárd"},{"$f":"Be!B103","v":2008},{"$f":"Be!C103","v":14.1},{"$f":"Be!D103","v":142},{"$f":"Be!E103","v":3.88},{"$f":"Be!F103","v":92},{"$f":"Be!G103","v":40.1},{"$f":"Be!H103","v":103},{"$f":"Be!I103","v":7.05},{"$f":"Be!J103","v":72},{"$f":"Be!K103","v":"00:03:27.900"},{"$f":"Be!L103","v":41},{"$f":"Be!M103","v":450},null,{"$f":"Be!A97","v":"Tolnai Wosinsky M. Ált. Isk."}]
["43.",{"$f":"Be!A101","v":"Potyondi Botond"},{"$f":"Be!B101","v":2009},{"$f":"Be!C101","v":15.1},{"$f":"Be!D101","v":110},{"$f":"Be!E101","v":3.5},{"$f":"Be!F101","v":74},{"$f":"Be!G101","v":33.53},{"$f":"Be!H101","v":83},{"$f":"Be!I101","v":4.75},{"$f":"Be!J101","v":30},{"$f":"Be!K101","v":"00:03:16.700"},{"$f":"Be!L101","v":64},{"$f":"Be!M101","v":361},null,{"$f":"Be!A97","v":"Tolnai Wosinsky M. Ált. Isk."}]
["44.",{"$f":"Be!A41","v":0},{"$f":"Be!B41","v":0},{"$f":"Be!C41","v":0},{"$f":"Be!D41","v":0},{"$f":"Be!E41","v":0},{"$f":"Be!F41","v":0},{"$f":"Be!G41","v":0},{"$f":"Be!H41","v":0},{"$f":"Be!I41","v":0},{"$f":"Be!J41","v":0},{"$f":"Be!K41","v":"00:00:00"},{"$f":"Be!L41","v":0},{"$f":"Be!M41","v":0},null,{"$f":"Be!A37","v":0}]
["45.",{"$f":"Be!A39","v":0},{"$f":"Be!B39","v":0},{"$f":"Be!C39","v":0},{"$f":"Be!D39","v":0},{"$f":"Be!E39","v":0},{"$f":"Be!F39","v":0},{"$f":"Be!G39","v":0},{"$f":"Be!H39","v":0},{"$f":"Be!I39","v":0},{"$f":"Be!J39","v":0},{"$f":"Be!K39","v":"00:00:00"},{"$f":"Be!L39","v":0},{"$f":"Be!M39","v":0},null,{"$f":"Be!A37","v":0}]
["46.",{"$f":"Be!A43","v":0},{"$f":"Be!B43","v":0},{"$f":"Be!C43","v":0},{"$f":"Be!D43","v":0},{"$f":"Be!E43","v":0},{"$f":"Be!F43","v":0},{"$f":"Be!G43","v":0},{"$f":"Be!H43","v":0},{"$f":"Be!I43","v":0},{"$f":"Be!J43","v":0},{"$f":"Be!K43","v":"00:00:00"},{"$f":"Be!L43","v":0},{"$f":"Be!M43","v":0},null,{"$f":"Be!A37","v":0}]
["47.",{"$f":"Be!A44","v":0},{"$f":"Be!B44","v":0},{"$f":"Be!C44","v":0},{"$f":"Be!D44","v":0},{"$f":"Be!E44","v":0},{"$f":"Be!F44","v":0},{"$f":"Be!G44","v":0},{"$f":"Be!H44","v":0},{"$f":"Be!I44","v":0},{"$f":"Be!J44","v":0},{"$f":"Be!K44","v":"00:00:00"},{"$f":"Be!L44","v":0},{"$f":"Be!M44","v":0},null,{"$f":"Be!A37","v":0}]
["48.",{"$f":"Be!A42","v":0},{"$f":"Be!B42","v":0},{"$f":"Be!C42","v":0},{"$f":"Be!D42","v":0},{"$f":"Be!E42","v":0},{"$f":"Be!F42","v":0},{"$f":"Be!G42","v":0},{"$f":"Be!H42","v":0},{"$f":"Be!I42","v":0},{"$f":"Be!J42","v":0},{"$f":"Be!K42","v":"00:00:00"},{"$f":"Be!L42","v":0},{"$f":"Be!M42","v":0},null,{"$f":"Be!A37","v":0}]
["49.",{"$f":"Be!A40","v":0},{"$f":"Be!B40","v":0},{"$f":"Be!C40","v":0},{"$f":"Be!D40","v":0},{"$f":"Be!E40","v":0},{"$f":"Be!F40","v":0},{"$f":"Be!G40","v":0},{"$f":"Be!H40","v":0},{"$f":"Be!I40","v":0},{"$f":"Be!J40","v":0},{"$f":"Be!K40","v":"00:00:00"},{"$f":"Be!L40","v":0},{"$f":"Be!M40","v":0},null,{"$f":"Be!A37","v":0}]
["50.",{"$f":"Be!A7","v":0},{"$f":"Be!B7","v":0},{"$f":"Be!C7","v":0},{"$f":"Be!D7","v":0},{"$f":"Be!E7","v":0},{"$f":"Be!F7","v":0},{"$f":"Be!G7","v":0},{"$f":"Be!H7","v":0},{"$f":"Be!I7","v":0},{"$f":"Be!J7","v":0},{"$f":"Be!K7","v":"00:00:00"},{"$f":"Be!L7","v":0},{"$f":"Be!M7","v":0},null,{"$f":"Be!O7","v":0}]
["51.",{"$f":"Be!A8","v":0},{"$f":"Be!B8","v":0},{"$f":"Be!C8","v":0},{"$f":"Be!D8","v":0},{"$f":"Be!E8","v":0},{"$f":"Be!F8","v":0},{"$f":"Be!G8","v":0},{"$f":"Be!H8","v":0},{"$f":"Be!I8","v":0},{"$f":"Be!J8","v":0},{"$f":"Be!K8","v":"00:00:00"},{"$f":"Be!L8","v":0},{"$f":"Be!M8","v":0},null,{"$f":"Be!O8","v":0}]
["52.",{"$f":"Be!A9","v":0},{"$f":"Be!B9","v":0},{"$f":"Be!C9","v":0},{"$f":"Be!D9","v":0},{"$f":"Be!E9","v":0},{"$f":"Be!F9","v":0},{"$f":"Be!G9","v":0},{"$f":"Be!H9","v":0},{"$f":"Be!I9","v":0},{"$f":"Be!J9","v":0},{"$f":"Be!K9","v":"00:00:00"},{"$f":"Be!L9","v":0},{"$f":"Be!M9","v":0},null,{"$f":"Be!O9","v":0}]
["53.",{"$f":"Be!A10","v":0},{"$f":"Be!B10","v":0},{"$f":"Be!C10","v":0},{"$f":"Be!D10","v":0},{"$f":"Be!E10","v":0},{"$f":"Be!F10","v":0},{"$f":"Be!G10","v":0},{"$f":"Be!H10","v":0},{"$f":"Be!I10","v":0},{"$f":"Be!J10","v":0},{"$f":"Be!K10","v":"00:00:00"},{"$f":"Be!L10","v":0},{"$f":"Be!M10","v":0},null,{"$f":"Be!O10","v":0}]
["54.",{"$f":"Be!A11","v":0},{"$f":"Be!B11","v":0},{"$f":"Be!C11","v":0},{"$f":"Be!D11","v":0},{"$f":"Be!E11","v":0},{"$f":"Be!F11","v":0},{"$f":"Be!G11","v":0},{"$f":"Be!H11","v":0},{"$f":"Be!I11","v":0},{"$f":"Be!J11","v":0},{"$f":"Be!K11","v":"00:00:00"},{"$f":"Be!L11","v":0},{"$f":"Be!M11","v":0},null,{"$f":"Be!O11","v":0}]
["55.",{"$f":"Be!A12","v":0},{"$f":"Be!B12","v":0},{"$f":"Be!C12","v":0},{"$f":"Be!D12","v":0},{"$f":"Be!E12","v":0},{"$f":"Be!F12","v":0},{"$f":"Be!G12","v":0},{"$f":"Be!H12","v":0},{"$f":"Be!I12","v":0},{"$f":"Be!J12","v":0},{"$f":"Be!K12","v":"00:00:00"},{"$f":"Be!L12","v":0},{"$f":"Be!M12","v":0},null,{"$f":"Be!O12","v":0}]
["56.",{"$f":"Be!A13","v":0},{"$f":"Be!B13","v":0},{"$f":"Be!C13","v":0},{"$f":"Be!D13","v":0},{"$f":"Be!E13","v":0},{"$f":"Be!F13","v":0},{"$f":"Be!G13","v":0},{"$f":"Be!H13","v":0},{"$f":"Be!I13","v":0},{"$f":"Be!J13","v":0},{"$f":"Be!K13","v":"00:00:00"},{"$f":"Be!L13","v":0},{"$f":"Be!M13","v":0},null,{"$f":"Be!O13","v":0}]
["57.",{"$f":"Be!A14","v":0},{"$f":"Be!B14","v":0},{"$f":"Be!C14","v":0},{"$f":"Be!D14","v":0},{"$f":"Be!E14","v":0},{"$f":"Be!F14","v":0},{"$f":"Be!G14","v":0},{"$f":"Be!H14","v":0},{"$f":"Be!I14","v":0},{"$f":"Be!J14","v":0},{"$f":"Be!K14","v":"00:00:00"},{"$f":"Be!L14","v":0},{"$f":"Be!M14","v":0},null,{"$f":"Be!O14","v":0}]
["58.",{"$f":"Be!A15","v":0},{"$f":"Be!B15","v":0},{"$f":"Be!C15","v":0},{"$f":"Be!D15","v":0},{"$f":"Be!E15","v":0},{"$f":"Be!F15","v":0},{"$f":"Be!G15","v":0},{"$f":"Be!H15","v":0},{"$f":"Be!I15","v":0},{"$f":"Be!J15","v":0},{"$f":"Be!K15","v":"00:00:00"},{"$f":"Be!L15","v":0},{"$f":"Be!M15","v":0},null,{"$f":"Be!O15","v":0}]
["59.",{"$f":"Be!A16","v":0},{"$f":"Be!B16","v":0},{"$f":"Be!C16","v":0},{"$f":"Be!D16","v":0},{"$f":"Be!E16","v":0},{"$f":"Be!F16","v":0},{"$f":"Be!G16","v":0},{"$f":"Be!H16","v":0},{"$f":"Be!I16","v":0},{"$f":"Be!J16","v":0},{"$f":"Be!K16","v":"00:00:00"},{"$f":"Be!L16","v":0},{"$f":"Be!M16","v":0},null,{"$f":"Be!O16","v":0}]
["60.",{"$f":"Be!A17","v":0},{"$f":"Be!B17","v":0},{"$f":"Be!C17","v":0},{"$f":"Be!D17","v":0},{"$f":"Be!E17","v":0},{"$f":"Be!F17","v":0},{"$f":"Be!G17","v":0},{"$f":"Be!H17","v":0},{"$f":"Be!I17","v":0},{"$f":"Be!J17","v":0},{"$f":"Be!K17","v":"00:00:00"},{"$f":"Be!L17","v":0},{"$f":"Be!M17","v":0},null,{"$f":"Be!O17","v":0}]
["61.",{"$f":"Be!A18","v":0},{"$f":"Be!B18","v":0},{"$f":"Be!C18","v":0},{"$f":"Be!D18","v":0},{"$f":"Be!E18","v":0},{"$f":"Be!F18","v":0},{"$f":"Be!G18","v":0},{"$f":"Be!H18","v":0},{"$f":"Be!I18","v":0},{"$f":"Be!J18","v":0},{"$f":"Be!K18","v":"00:00:00"},{"$f":"Be!L18","v":0},{"$f":"Be!M18","v":0},null,{"$f":"Be!O18","v":0}]
["62.",{"$f":"Be!A19","v":0},{"$f":"Be!B19","v":0},{"$f":"Be!C19","v":0},{"$f":"Be!D19","v":0},{"$f":"Be!E19","v":0},{"$f":"Be!F19","v":0},{"$f":"Be!G19","v":0},{"$f":"Be!H19","v":0},{"$f":"Be!I19","v":0},{"$f":"Be!J19","v":0},{"$f":"Be!K19","v":"00:00:00"},{"$f":"Be!L19","v":0},{"$f":"Be!M19","v":0},null,{"$f":"Be!O19","v":0}]
["63.",{"$f":"Be!A20","v":0},{"$f":"Be!B20","v":0},{"$f":"Be!C20","v":0},{"$f":"Be!D20","v":0},{"$f":"Be!E20","v":0},{"$f":"Be!F20","v":0},{"$f":"Be!G20","v":0},{"$f":"Be!H20","v":0},{"$f":"Be!I20","v":0},{"$f":"Be!J20","v":0},{"$f":"Be!K20","v":"00:00:00"},{"$f":"Be!L20","v":0},{"$f":"Be!M20","v":0},null,{"$f":"Be!O20","v":0}]
["64.",{"$f":"Be!A21","v":0},{"$f":"Be!B21","v":0},{"$f":"Be!C21","v":0},{"$f":"Be!D21","v":0},{"$f":"Be!E21","v":0},{"$f":"Be!F21","v":0},{"$f":"Be!G21","v":0},{"$f":"Be!H21","v":0},{"$f":"Be!I21","v":0},{"$f":"Be!J21","v":0},{"$f":"Be!K21","v":"00:00:00"},{"$f":"Be!L21","v":0},{"$f":"Be!M21","v":0},null,{"$f":"Be!O21","v":0}]
["65.",{"$f":"Be!A22","v":0},{"$f":"Be!B22","v":0},{"$f":"Be!C22","v":0},{"$f":"Be!D22","v":0},{"$f":"Be!E22","v":0},{"$f":"Be!F22","v":0},{"$f":"Be!G22","v":0},{"$f":"Be!H22","v":0},{"$f":"Be!I22","v":0},{"$f":"Be!J22","v":0},{"$f":"Be!K22","v":"00:00:00"},{"$f":"Be!L22","v":0},{"$f":"Be!M22","v":0},null,{"$f":"Be!O22","v":0}]
["66.",{"$f":"Be!A23","v":0},{"$f":"Be!B23","v":0},{"$f":"Be!C23","v":0},{"$f":"Be!D23","v":0},{"$f":"Be!E23","v":0},{"$f":"Be!F23","v":0},{"$f":"Be!G23","v":0},{"$f":"Be!H23","v":0},{"$f":"Be!I23","v":0},{"$f":"Be!J23","v":0},{"$f":"Be!K23","v":"00:00:00"},{"$f":"Be!L23","v":0},{"$f":"Be!M23","v":0},null,{"$f":"Be!O23","v":0}]
["67.",{"$f":"Be!A24","v":0},{"$f":"Be!B24","v":0},{"$f":"Be!C24","v":0},{"$f":"Be!D24","v":0},{"$f":"Be!E24","v":0},{"$f":"Be!F24","v":0},{"$f":"Be!G24","v":0},{"$f":"Be!H24","v":0},{"$f":"Be!I24","v":0},{"$f":"Be!J24","v":0},{"$f":"Be!K24","v":"00:00:00"},{"$f":"Be!L24","v":0},{"$f":"Be!M24","v":0},null,{"$f":"Be!O24","v":0}]
["68.",{"$f":"Be!A25","v":0},{"$f":"Be!B25","v":0},{"$f":"Be!C25","v":0},{"$f":"Be!D25","v":0},{"$f":"Be!E25","v":0},{"$f":"Be!F25","v":0},{"$f":"Be!G25","v":0},{"$f":"Be!H25","v":0},{"$f":"Be!I25","v":0},{"$f":"Be!J25","v":0},{"$f":"Be!K25","v":"00:00:00"},{"$f":"Be!L25","v":0},{"$f":"Be!M25","v":0},null,{"$f":"Be!O25","v":0}]
["69.",{"$f":"Be!A84","v":0},{"$f":"Be!B84","v":0},{"$f":"Be!C84","v":0},{"$f":"Be!D84","v":0},{"$f":"Be!E84","v":0},{"$f":"Be!F84","v":0},{"$f":"Be!G84","v":0},{"$f":"Be!H84","v":0},{"$f":"Be!I84","v":0},{"$f":"Be!J84","v":0},{"$f":"Be!K84","v":"00:00:00"},{"$f":"Be!L84","v":0},{"$f":"Be!M84","v":0},null,{"$f":"Be!A77","v":"Zombai Általános Iskola"}]
["70.",{"$f":"Be!A104","v":0},{"$f":"Be!B104","v":0},{"$f":"Be!C104","v":0},{"$f":"Be!D104","v":0},{"$f":"Be!E104","v":0},{"$f":"Be!F104","v":0},{"$f":"Be!G104","v":0},{"$f":"Be!H104","v":0},{"$f":"Be!I104","v":0},{"$f":"Be!J104","v":0},{"$f":"Be!K104","v":"00:00:00"},{"$f":"Be!L104","v":0},{"$f":"Be!M104","v":0},null,{"$f":"Be!A97","v":"Tolnai Wosinsky M. Ált. Isk."}]
["71.",{"$f":"Be!A109","v":0},{"$f":"Be!B109","v":0},{"$f":"Be!C109","v":0},{"$f":"Be!D109","v":0},{"$f":"Be!E109","v":0},{"$f":"Be!F109","v":0},{"$f":"Be!G109","v":0},{"$f":"Be!H109","v":0},{"$f":"Be!I109","v":0},{"$f":"Be!J109","v":0},{"$f":"Be!K109","v":"00:00:00"},{"$f":"Be!L109","v":0},{"$f":"Be!M109","v":0},null,{"$f":"Be!A107","v":0}]
["72.",{"$f":"Be!A110","v":0},{"$f":"Be!B110","v":0},{"$f":"Be!C110","v":0},{"$f":"Be!D110","v":0},{"$f":"Be!E110","v":0},{"$f":"Be!F110","v":0},{"$f":"Be!G110","v":0},{"$f":"Be!H110","v":0},{"$f":"Be!I110","v":0},{"$f":"Be!J110","v":0},{"$f":"Be!K110","v":"00:00:00"},{"$f":"Be!L110","v":0},{"$f":"Be!M110","v":0},null,{"$f":"Be!A107","v":0}]
["73.",{"$f":"Be!A111","v":0},{"$f":"Be!B111","v":0},{"$f":"Be!C111","v":0},{"$f":"Be!D111","v":0},{"$f":"Be!E111","v":0},{"$f":"Be!F111","v":0},{"$f":"Be!G111","v":0},{"$f":"Be!H111","v":0},{"$f":"Be!I111","v":0},{"$f":"Be!J111","v":0},{"$f":"Be!K111","v":"00:00:00"},{"$f":"Be!L111","v":0},{"$f":"Be!M111","v":0},null,{"$f":"Be!A107","v":0}]
["74.",{"$f":"Be!A112","v":0},{"$f":"Be!B112","v":0},{"$f":"Be!C112","v":0},{"$f":"Be!D112","v":0},{"$f":"Be!E112","v":0},{"$f":"Be!F112","v":0},{"$f":"Be!G112","v":0},{"$f":"Be!H112","v":0},{"$f":"Be!I112","v":0},{"$f":"Be!J112","v":0},{"$f":"Be!K112","v":"00:00:00"},{"$f":"Be!L112","v":0},{"$f":"Be!M112","v":0},null,{"$f":"Be!A107","v":0}]
["75.",{"$f":"Be!A113","v":0},{"$f":"Be!B113","v":0},{"$f":"Be!C113","v":0},{"$f":"Be!D113","v":0},{"$f":"Be!E113","v":0},{"$f":"Be!F113","v":0},{"$f":"Be!G113","v":0},{"$f":"Be!H113","v":0},{"$f":"Be!I113","v":0},{"$f":"Be!J113","v":0},{"$f":"Be!K113","v":"00:00:00"},{"$f":"Be!L113","v":0},{"$f":"Be!M113","v":0},null,{"$f":"Be!A107","v":0}]
["76.",{"$f":"Be!A114","v":0},{"$f":"Be!B114","v":0},{"$f":"Be!C114","v":0},{"$f":"Be!D114","v":0},{"$f":"Be!E114","v":0},{"$f":"Be!F114","v":0},{"$f":"Be!G114","v":0},{"$f":"Be!H114","v":0},{"$f":"Be!I114","v":0},{"$f":"Be!J114","v":0},{"$f":"Be!K114","v":"00:00:00"},{"$f":"Be!L114","v":0},{"$f":"Be!M114","v":0},null,{"$f":"Be!A107","v":0}]
["77.",{"$f":"Be!A119","v":0},{"$f":"Be!B119","v":0},{"$f":"Be!C119","v":0},{"$f":"Be!D119","v":0},{"$f":"Be!E119","v":0},{"$f":"Be!F119","v":0},{"$f":"Be!G119","v":0},{"$f":"Be!H119","v":0},{"$f":"Be!I119","v":0},{"$f":"Be!J119","v":0},{"$f":"Be!K119","v":"00:00:00"},{"$f":"Be!L119","v":0},{"$f":"Be!M119","v":0},null,{"$f":"Be!A117","v":0}]
["78.",{"$f":"Be!A120","v":0},{"$f":"Be!B120","v":0},{"$f":"Be!C120","v":0},{"$f":"Be!D120","v":0},{"$f":"Be!E120","v":0},{"$f":"Be!F120","v":0},{"$f":"Be!G120","v":0},{"$f":"Be!H120","v":0},{"$f":"Be!I120","v":0},{"$f":"Be!J120","v":0},{"$f":"Be!K120","v":"00:00:00"},{"$f":"Be!L120","v":0},{"$f":"Be!M120","v":0},null,{"$f":"Be!A117","v":0}]
["79.",{"$f":"Be!A121","v":0},{"$f":"Be!B121","v":0},{"$f":"Be!C121","v":0},{"$f":"Be!D121","v":0},{"$f":"Be!E121","v":0},{"$f":"Be!F121","v":0},{"$f":"Be!G121","v":0},{"$f":"Be!H121","v":0},{"$f":"Be!I121","v":0},{"$f":"Be!J121","v":0},{"$f":"Be!K121","v":"00:00:00"},{"$f":"Be!L121","v":0},{"$f":"Be!M121","v":0},null,{"$f":"Be!A117","v":0}]
["80.",{"$f":"Be!A122","v":0},{"$f":"Be!B122","v":0},{"$f":"Be!C122","v":0},{"$f":"Be!D122","v":0},{"$f":"Be!E122","v":0},{"$f":"Be!F122","v":0},{"$f":"Be!G122","v":0},{"$f":"Be!H122","v":0},{"$f":"Be!I122","v":0},{"$f":"Be!J122","v":0},{"$f":"Be!K122","v":"00:00:00"},{"$f":"Be!L122","v":0},{"$f":"Be!M122","v":0},null,{"$f":"Be!A117","v":0}]
["81.",{"$f":"Be!A123","v":0},{"$f":"Be!B123","v":0},{"$f":"Be!C123","v":0},{"$f":"Be!D123","v":0},{"$f":"Be!E123","v":0},{"$f":"Be!F123","v":0},{"$f":"Be!G123","v":0},{"$f":"Be!H123","v":0},{"$f":"Be!I123","v":0},{"$f":"Be!J123","v":0},{"$f":"Be!K123","v":"00:00:00"},{"$f":"Be!L123","v":0},{"$f":"Be!M123","v":0},null,{"$f":"Be!A117","v":0}]
["82.",{"$f":"Be!A124","v":0},{"$f":"Be!B124","v":0},{"$f":"Be!C124","v":0},{"$f":"Be!D124","v":0},{"$f":"Be!E124","v":0},{"$f":"Be!F124","v":0},{"$f":"Be!G124","v":0},{"$f":"Be!H124","v":0},{"$f":"Be!I124","v":0},{"$f":"Be!J124","v":0},{"$f":"Be!K124","v":"00:00:00"},{"$f":"Be!L124","v":0},{"$f":"Be!M124","v":0},null,{"$f":"Be!A117","v":0}]
["83.",{"$f":"Be!A129","v":0},{"$f":"Be!B129","v":0},{"$f":"Be!C129","v":0},{"$f":"Be!D129","v":0},{"$f":"Be!E129","v":0},{"$f":"Be!F129","v":0},{"$f":"Be!G129","v":0},{"$f":"Be!H129","v":0},{"$f":"Be!I129","v":0},{"$f":"Be!J129","v":0},{"$f":"Be!K129","v":"00:00:00"},{"$f":"Be!L129","v":0},{"$f":"Be!M129","v":0},null,{"$f":"Be!A127","v":0}]
["84.",{"$f":"Be!A130","v":0},{"$f":"Be!B130","v":0},{"$f":"Be!C130","v":0},{"$f":"Be!D130","v":0},{"$f":"Be!E130","v":0},{"$f":"Be!F130","v":0},{"$f":"Be!G130","v":0},{"$f":"Be!H130","v":0},{"$f":"Be!I130","v":0},{"$f":"Be!J130","v":0},{"$f":"Be!K130","v":"00:00:00"},{"$f":"Be!L130","v":0},{"$f":"Be!M130","v":0},null,{"$f":"Be!A127","v":0}]
["85.",{"$f":"Be!A131","v":0},{"$f":"Be!B131","v":0},{"$f":"Be!C131","v":0},{"$f":"Be!D131","v":0},{"$f":"Be!E131","v":0},{"$f":"Be!F131","v":0},{"$f":"Be!G131","v":0},{"$f":"Be!H131","v":0},{"$f":"Be!I131","v":0},{"$f":"Be!J131","v":0},{"$f":"Be!K131","v":"00:00:00"},{"$f":"Be!L131","v":0},{"$f":"Be!M131","v":0},null,{"$f":"Be!A127","v":0}]
["86.",{"$f":"Be!A132","v":0},{"$f":"Be!B132","v":0},{"$f":"Be!C132","v":0},{"$f":"Be!D132","v":0},{"$f":"Be!E132","v":0},{"$f":"Be!F132","v":0},{"$f":"Be!G132","v":0},{"$f":"Be!H132","v":0},{"$f":"Be!I132","v":0},{"$f":"Be!J132","v":0},{"$f":"Be!K132","v":"00:00:00"},{"$f":"Be!L132","v":0},{"$f":"Be!M132","v":0},null,{"$f":"Be!A127","v":0}]
["87.",{"$f":"Be!A133","v":0},{"$f":"Be!B133","v":0},{"$f":"Be!C133","v":0},{"$f":"Be!D133","v":0},{"$f":"Be!E133","v":0},{"$f":"Be!F133","v":0},{"$f":"Be!G133","v":0},{"$f":"Be!H133","v":0},{"$f":"Be!I133","v":0},{"$f":"Be!J133","v":0},{"$f":"Be!K133","v":"00:00:00"},{"$f":"Be!L133","v":0},{"$f":"Be!M133","v":0},null,{"$f":"Be!A127","v":0}]
["88.",{"$f":"Be!A134","v":0},{"$f":"Be!B134","v":0},{"$f":"Be!C134","v":0},{"$f":"Be!D134","v":0},{"$f":"Be!E134","v":0},{"$f":"Be!F134","v":0},{"$f":"Be!G134","v":0},{"$f":"Be!H134","v":0},{"$f":"Be!I134","v":0},{"$f":"Be!J134","v":0},{"$f":"Be!K134","v":"00:00:00"},{"$f":"Be!L134","v":0},{"$f":"Be!M134","v":0},null,{"$f":"Be!A127","v":0}]
["89.",{"$f":"Be!A139","v":0},{"$f":"Be!B139","v":0},{"$f":"Be!C139","v":0},{"$f":"Be!D139","v":0},{"$f":"Be!E139","v":0},{"$f":"Be!F139","v":0},{"$f":"Be!G139","v":0},{"$f":"Be!H139","v":0},{"$f":"Be!I139","v":0},{"$f":"Be!J139","v":0},{"$f":"Be!K139","v":"00:00:00"},{"$f":"Be!L139","v":0},{"$f":"Be!M139","v":0},null,{"$f":"Be!A137","v":0}]
["90.",{"$f":"Be!A140","v":0},{"$f":"Be!B140","v":0},{"$f":"Be!C140","v":0},{"$f":"Be!D140","v":0},{"$f":"Be!E140","v":0},{"$f":"Be!F140","v":0},{"$f":"Be!G140","v":0},{"$f":"Be!H140","v":0},{"$f":"Be!I140","v":0},{"$f":"Be!J140","v":0},{"$f":"Be!K140","v":"00:00:00"},{"$f":"Be!L140","v":0},{"$f":"Be!M140","v":0},null,{"$f":"Be!A137","v":0}]
["91.",{"$f":"Be!A141","v":0},{"$f":"Be!B141","v":0},{"$f":"Be!C141","v":0},{"$f":"Be!D141","v":0},{"$f":"Be!E141","v":0},{"$f":"Be!F141","v":0},{"$f":"Be!G141","v":0},{"$f":"Be!H141","v":0},{"$f":"Be!I141","v":0},{"$f":"Be!J141","v":0},{"$f":"Be!K141","v":"00:00:00"},{"$f":"Be!L141","v":0},{"$f":"Be!M141","v":0},null,{"$f":"Be!A137","v":0}]
["92.",{"$f":"Be!A142","v":0},{"$f":"Be!B142","v":0},{"$f":"Be!C142","v":0},{"$f":"Be!D142","v":0},{"$f":"Be!E142","v":0},{"$f":"Be!F142","v":0},{"$f":"Be!G142","v":0},{"$f":"Be!H142","v":0},{"$f":"Be!I142","v":0},{"$f":"Be!J142","v":0},{"$f":"Be!K142","v":"00:00:00"},{"$f":"Be!L142","v":0},{"$f":"Be!M142","v":0},null,{"$f":"Be!A137","v":0}]
["93.",{"$f":"Be!A143","v":0},{"$f":"Be!B143","v":0},{"$f":"Be!C143","v":0},{"$f":"Be!D143","v":0},{"$f":"Be!E143","v":0},{"$f":"Be!F143","v":0},{"$f":"Be!G143","v":0},{"$f":"Be!H143","v":0},{"$f":"Be!I143","v":0},{"$f":"Be!J143","v":0},{"$f":"Be!K143","v":"00:00:00"},{"$f":"Be!L143","v":0},{"$f":"Be!M143","v":0},null,{"$f":"Be!A137","v":0}]
["94.",{"$f":"Be!A144","v":0},{"$f":"Be!B144","v":0},{"$f":"Be!C144","v":0},{"$f":"Be!D144","v":0},{"$f":"Be!E144","v":0},{"$f":"Be!F144","v":0},{"$f":"Be!G144","v":0},{"$f":"Be!H144","v":0},{"$f":"Be!I144","v":0},{"$f":"Be!J144","v":0},{"$f":"Be!K144","v":"00:00:00"},{"$f":"Be!L144","v":0},{"$f":"Be!M144","v":0},null,{"$f":"Be!A137","v":0}]
["95.",{"$f":"Be!A149","v":0},{"$f":"Be!B149","v":0},{"$f":"Be!C149","v":0},{"$f":"Be!D149","v":0},{"$f":"Be!E149","v":0},{"$f":"Be!F149","v":0},{"$f":"Be!G149","v":0},{"$f":"Be!H149","v":0},{"$f":"Be!I149","v":0},{"$f":"Be!J149","v":0},{"$f":"Be!K149","v":"00:00:00"},{"$f":"Be!L149","v":0},{"$f":"Be!M149","v":0},null,{"$f":"Be!A147","v":0}]
["96.",{"$f":"Be!A150","v":0},{"$f":"Be!B150","v":0},{"$f":"Be!C150","v":0},{"$f":"Be!D150","v":0},{"$f":"Be!E150","v":0},{"$f":"Be!F150","v":0},{"$f":"Be!G150","v":0},{"$f":"Be!H150","v":0},{"$f":"Be!I150","v":0},{"$f":"Be!J150","v":0},{"$f":"Be!K150","v":"00:00:00"},{"$f":"Be!L150","v":0},{"$f":"Be!M150","v":0},null,{"$f":"Be!A147","v":0}]
["97.",{"$f":"Be!A151","v":0},{"$f":"Be!B151","v":0},{"$f":"Be!C151","v":0},{"$f":"Be!D151","v":0},{"$f":"Be!E151","v":0},{"$f":"Be!F151","v":0},{"$f":"Be!G151","v":0},{"$f":"Be!H151","v":0},{"$f":"Be!I151","v":0},{"$f":"Be!J151","v":0},{"$f":"Be!K151","v":"00:00:00"},{"$f":"Be!L151","v":0},{"$f":"Be!M151","v":0},null,{"$f":"Be!A147","v":0}]
["98.",{"$f":"Be!A152","v":0},{"$f":"Be!B152","v":0},{"$f":"Be!C152","v":0},{"$f":"Be!D152","v":0},{"$f":"Be!E152","v":0},{"$f":"Be!F152","v":0},{"$f":"Be!G152","v":0},{"$f":"Be!H152","v":0},{"$f":"Be!I152","v":0},{"$f":"Be!J152","v":0},{"$f":"Be!K152","v":"00:00:00"},{"$f":"Be!L152","v":0},{"$f":"Be!M152","v":0},null,{"$f":"Be!A147","v":0}]
["99.",{"$f":"Be!A153","v":0},{"$f":"Be!B153","v":0},{"$f":"Be!C153","v":0},{"$f":"Be!D153","v":0},{"$f":"Be!E153","v":0},{"$f":"Be!F153","v":0},{"$f":"Be!G153","v":0},{"$f":"Be!H153","v":0},{"$f":"Be!I153","v":0},{"$f":"Be!J153","v":0},{"$f":"Be!K153","v":"00:00:00"},{"$f":"Be!L153","v":0},{"$f":"Be!M153","v":0},null,{"$f":"Be!A147","v":0}]
["100.",{"$f":"Be!A154","v":0},{"$f":"Be!B154","v":0},{"$f":"Be!C154","v":0},{"$f":"Be!D154","v":0},{"$f":"Be!E154","v":0},{"$f":"Be!F154","v":0},{"$f":"Be!G154","v":0},{"$f":"Be!H154","v":0},{"$f":"Be!I154","v":0},{"$f":"Be!J154","v":0},{"$f":"Be!K154","v":"00:00:00"},{"$f":"Be!L154","v":0},{"$f":"Be!M154","v":0},null,{"$f":"Be!A147","v":0}]
["101.",{"$f":"Be!A159","v":0},{"$f":"Be!B159","v":0},{"$f":"Be!C159","v":0},{"$f":"Be!D159","v":0},{"$f":"Be!E159","v":0},{"$f":"Be!F159","v":0},{"$f":"Be!G159","v":0},{"$f":"Be!H159","v":0},{"$f":"Be!I159","v":0},{"$f":"Be!J159","v":0},{"$f":"Be!K159","v":"00:00:00"},{"$f":"Be!L159","v":0},{"$f":"Be!M159","v":0},null,{"$f":"Be!A157","v":0}]
["102.",{"$f":"Be!A160","v":0},{"$f":"Be!B160","v":0},{"$f":"Be!C160","v":0},{"$f":"Be!D160","v":0},{"$f":"Be!E160","v":0},{"$f":"Be!F160","v":0},{"$f":"Be!G160","v":0},{"$f":"Be!H160","v":0},{"$f":"Be!I160","v":0},{"$f":"Be!J160","v":0},{"$f":"Be!K160","v":"00:00:00"},{"$f":"Be!L160","v":0},{"$f":"Be!M160","v":0},null,{"$f":"Be!A157","v":0}]
["103.",{"$f":"Be!A161","v":0},{"$f":"Be!B161","v":0},{"$f":"Be!C161","v":0},{"$f":"Be!D161","v":0},{"$f":"Be!E161","v":0},{"$f":"Be!F161","v":0},{"$f":"Be!G161","v":0},{"$f":"Be!H161","v":0},{"$f":"Be!I161","v":0},{"$f":"Be!J161","v":0},{"$f":"Be!K161","v":"00:00:00"},{"$f":"Be!L161","v":0},{"$f":"Be!M161","v":0},null,{"$f":"Be!A157","v":0}]
["104.",{"$f":"Be!A162","v":0},{"$f":"Be!B162","v":0},{"$f":"Be!C162","v":0},{"$f":"Be!D162","v":0},{"$f":"Be!E162","v":0},{"$f":"Be!F162","v":0},{"$f":"Be!G162","v":0},{"$f":"Be!H162","v":0},{"$f":"Be!I162","v":0},{"$f":"Be!J162","v":0},{"$f":"Be!K162","v":"00:00:00"},{"$f":"Be!L162","v":0},{"$f":"Be!M162","v":0},null,{"$f":"Be!A157","v":0}]
["105.",{"$f":"Be!A163","v":0},{"$f":"Be!B163","v":0},{"$f":"Be!C163","v":0},{"$f":"Be!D163","v":0},{"$f":"Be!E163","v":0},{"$f":"Be!F163","v":0},{"$f":"Be!G163","v":0},{"$f":"Be!H163","v":0},{"$f":"Be!I163","v":0},{"$f":"Be!J163","v":0},{"$f":"Be!K163","v":"00:00:00"},{"$f":"Be!L163","v":0},{"$f":"Be!M163","v":0},null,{"$f":"Be!A157","v":0}]
["106.",{"$f":"Be!A164","v":0},{"$f":"Be!B164","v":0},{"$f":"Be!C164","v":0},{"$f":"Be!D164","v":0},{"$f":"Be!E164","v":0},{"$f":"Be!F164","v":0},{"$f":"Be!G164","v":0},{"$f":"Be!H164","v":0},{"$f":"Be!I164","v":0},{"$f":"Be!J164","v":0},{"$f":"Be!K164","v":"00:00:00"},{"$f":"Be!L164","v":0},{"$f":"Be!M164","v":0},null,{"$f":"Be!A157","v":0}]
["107.",{"$f":"Be!A169","v":0},{"$f":"Be!B169","v":0},{"$f":"Be!C169","v":0},{"$f":"Be!D169","v":0},{"$f":"Be!E169","v":0},{"$f":"Be!F169","v":0},{"$f":"Be!G169","v":0},{"$f":"Be!H169","v":0},{"$f":"Be!I169","v":0},{"$f":"Be!J169","v":0},{"$f":"Be!K169","v":"00:00:00"},{"$f":"Be!L169","v":0},{"$f":"Be!M169","v":0},null,{"$f":"Be!A167","v":0}]
["108.",{"$f":"Be!A170","v":0},{"$f":"Be!B170","v":0},{"$f":"Be!C170","v":0},{"$f":"Be!D170","v":0},{"$f":"Be!E170","v":0},{"$f":"Be!F170","v":0},{"$f":"Be!G170","v":0},{"$f":"Be!H170","v":0},{"$f":"Be!I170","v":0},{"$f":"Be!J170","v":0},{"$f":"Be!K170","v":"00:00:00"},{"$f":"Be!L170","v":0},{"$f":"Be!M170","v":0},null,{"$f":"Be!A167","v":0}]
["109.",{"$f":"Be!A171","v":0},{"$f":"Be!B171","v":0},{"$f":"Be!C171","v":0},{"$f":"Be!D171","v":0},{"$f":"Be!E171","v":0},{"$f":"Be!F171","v":0},{"$f":"Be!G171","v":0},{"$f":"Be!H171","v":0},{"$f":"Be!I171","v":0},{"$f":"Be!J171","v":0},{"$f":"Be!K171","v":"00:00:00"},{"$f":"Be!L171","v":0},{"$f":"Be!M171","v":0},null,{"$f":"Be!A167","v":0}]
["110.",{"$f":"Be!A172","v":0},{"$f":"Be!B172","v":0},{"$f":"Be!C172","v":0},{"$f":"Be!D172","v":0},{"$f":"Be!E172","v":0},{"$f":"Be!F172","v":0},{"$f":"Be!G172","v":0},{"$f":"Be!H172","v":0},{"$f":"Be!I172","v":0},{"$f":"Be!J172","v":0},{"$f":"Be!K172","v":"00:00:00"},{"$f":"Be!L172","v":0},{"$f":"Be!M172","v":0},null,{"$f":"Be!A167","v":0}]
["111.",{"$f":"Be!A173","v":0},{"$f":"Be!B173","v":0},{"$f":"Be!C173","v":0},{"$f":"Be!D173","v":0},{"$f":"Be!E173","v":0},{"$f":"Be!F173","v":0},{"$f":"Be!G173","v":0},{"$f":"Be!H173","v":0},{"$f":"Be!I173","v":0},{"$f":"Be!J173","v":0},{"$f":"Be!K173","v":"00:00:00"},{"$f":"Be!L173","v":0},{"$f":"Be!M173","v":0},null,{"$f":"Be!A167","v":0}]
["112.",{"$f":"Be!A174","v":0},{"$f":"Be!B174","v":0},{"$f":"Be!C174","v":0},{"$f":"Be!D174","v":0},{"$f":"Be!E174","v":0},{"$f":"Be!F174","v":0},{"$f":"Be!G174","v":0},{"$f":"Be!H174","v":0},{"$f":"Be!I174","v":0},{"$f":"Be!J174","v":0},{"$f":"Be!K174","v":"00:00:00"},{"$f":"Be!L174","v":0},{"$f":"Be!M174","v":0},null,{"$f":"Be!A167","v":0}]
["113.",{"$f":"Be!A179","v":0},{"$f":"Be!B179","v":0},{"$f":"Be!C179","v":0},{"$f":"Be!D179","v":0},{"$f":"Be!E179","v":0},{"$f":"Be!F179","v":0},{"$f":"Be!G179","v":0},{"$f":"Be!H179","v":0},{"$f":"Be!I179","v":0},{"$f":"Be!J179","v":0},{"$f":"Be!K179","v":"00:00:00"},{"$f":"Be!L179","v":0},{"$f":"Be!M179","v":0},null,{"$f":"Be!A177","v":0}]
["114.",{"$f":"Be!A180","v":0},{"$f":"Be!B180","v":0},{"$f":"Be!C180","v":0},{"$f":"Be!D180","v":0},{"$f":"Be!E180","v":0},{"$f":"Be!F180","v":0},{"$f":"Be!G180","v":0},{"$f":"Be!H180","v":0},{"$f":"Be!I180","v":0},{"$f":"Be!J180","v":0},{"$f":"Be!K180","v":"00:00:00"},{"$f":"Be!L180","v":0},{"$f":"Be!M180","v":0},null,{"$f":"Be!A177","v":0}]
["115.",{"$f":"Be!A181","v":0},{"$f":"Be!B181","v":0},{"$f":"Be!C181","v":0},{"$f":"Be!D181","v":0},{"$f":"Be!E181","v":0},{"$f":"Be!F181","v":0},{"$f":"Be!G181","v":0},{"$f":"Be!H181","v":0},{"$f":"Be!I181","v":0},{"$f":"Be!J181","v":0},{"$f":"Be!K181","v":"00:00:00"},{"$f":"Be!L181","v":0},{"$f":"Be!M181","v":0},null,{"$f":"Be!A177","v":0}]
["116.",{"$f":"Be!A182","v":0},{"$f":"Be!B182","v":0},{"$f":"Be!C182","v":0},{"$f":"Be!D182","v":0},{"$f":"Be!E182","v":0},{"$f":"Be!F182","v":0},{"$f":"Be!G182","v":0},{"$f":"Be!H182","v":0},{"$f":"Be!I182","v":0},{"$f":"Be!J182","v":0},{"$f":"Be!K182","v":"00:00:00"},{"$f":"Be!L182","v":0},{"$f":"Be!M182","v":0},null,{"$f":"Be!A177","v":0}]
["117.",{"$f":"Be!A183","v":0},{"$f":"Be!B183","v":0},{"$f":"Be!C183","v":0},{"$f":"Be!D183","v":0},{"$f":"Be!E183","v":0},{"$f":"Be!F183","v":0},{"$f":"Be!G183","v":0},{"$f":"Be!H183","v":0},{"$f":"Be!I183","v":0},{"$f":"Be!J183","v":0},{"$f":"Be!K183","v":"00:00:00"},{"$f":"Be!L183","v":0},{"$f":"Be!M183","v":0},null,{"$f":"Be!A177","v":0}]
["118.",{"$f":"Be!A184","v":0},{"$f":"Be!B184","v":0},{"$f":"Be!C184","v":0},{"$f":"Be!D184","v":0},{"$f":"Be!E184","v":0},{"$f":"Be!F184","v":0},{"$f":"Be!G184","v":0},{"$f":"Be!H184","v":0},{"$f":"Be!I184","v":0},{"$f":"Be!J184","v":0},{"$f":"Be!K184","v":"00:00:00"},{"$f":"Be!L184","v":0},{"$f":"Be!M184","v":0},null,{"$f":"Be!A177","v":0}]
["119.",{"$f":"Be!A189","v":0},{"$f":"Be!B189","v":0},{"$f":"Be!C189","v":0},{"$f":"Be!D189","v":0},{"$f":"Be!E189","v":0},{"$f":"Be!F189","v":0},{"$f":"Be!G189","v":0},{"$f":"Be!H189","v":0},{"$f":"Be!I189","v":0},{"$f":"Be!J189","v":0},{"$f":"Be!K189","v":"00:00:00"},{"$f":"Be!L189","v":0},{"$f":"Be!M189","v":0},null,{"$f":"Be!A187","v":0}]
["120.",{"$f":"Be!A190","v":0},{"$f":"Be!B190","v":0},{"$f":"Be!C190","v":0},{"$f":"Be!D190","v":0},{"$f":"Be!E190","v":0},{"$f":"Be!F190","v":0},{"$f":"Be!G190","v":0},{"$f":"Be!H190","v":0},{"$f":"Be!I190","v":0},{"$f":"Be!J190","v":0},{"$f":"Be!K190","v":"00:00:00"},{"$f":"Be!L190","v":0},{"$f":"Be!M190","v":0},null,{"$f":"Be!A187","v":0}]
["121.",{"$f":"Be!A191","v":0},{"$f":"Be!B191","v":0},{"$f":"Be!C191","v":0},{"$f":"Be!D191","v":0},{"$f":"Be!E191","v":0},{"$f":"Be!F191","v":0},{"$f":"Be!G191","v":0},{"$f":"Be!H191","v":0},{"$f":"Be!I191","v":0},{"$f":"Be!J191","v":0},{"$f":"Be!K191","v":"00:00:00"},{"$f":"Be!L191","v":0},{"$f":"Be!M191","v":0},null,{"$f":"Be!A187","v":0}]
["122.",{"$f":"Be!A192","v":0},{"$f":"Be!B192","v":0},{"$f":"Be!C192","v":0},{"$f":"Be!D192","v":0},{"$f":"Be!E192","v":0},{"$f":"Be!F192","v":0},{"$f":"Be!G192","v":0},{"$f":"Be!H192","v":0},{"$f":"Be!I192","v":0},{"$f":"Be!J192","v":0},{"$f":"Be!K192","v":"00:00:00"},{"$f":"Be!L192","v":0},{"$f":"Be!M192","v":0},null,{"$f":"Be!A187","v":0}]
["123.",{"$f":"Be!A193","v":0},{"$f":"Be!B193","v":0},{"$f":"Be!C193","v":0},{"$f":"Be!D193","v":0},{"$f":"Be!E193","v":0},{"$f":"Be!F193","v":0},{"$f":"Be!G193","v":0},{"$f":"Be!H193","v":0},{"$f":"Be!I193","v":0},{"$f":"Be!J193","v":0},{"$f":"Be!K193","v":"00:00:00"},{"$f":"Be!L193","v":0},{"$f":"Be!M193","v":0},null,{"$f":"Be!A187","v":0}]
["124.",{"$f":"Be!A194","v":0},{"$f":"Be!B194","v":0},{"$f":"Be!C194","v":0},{"$f":"Be!D194","v":0},{"$f":"Be!E194","v":0},{"$f":"Be!F194","v":0},{"$f":"Be!G194","v":0},{"$f":"Be!H194","v":0},{"$f":"Be!I194","v":0},{"$f":"Be!J194","v":0},{"$f":"Be!K194","v":"00:00:00"},{"$f":"Be!L194","v":0},{"$f":"Be!M194","v":0},null,{"$f":"Be!A187","v":0}]
["125.",{"$f":"Be!A199","v":0},{"$f":"Be!B199","v":0},{"$f":"Be!C199","v":0},{"$f":"Be!D199","v":0},{"$f":"Be!E199","v":0},{"$f":"Be!F199","v":0},{"$f":"Be!G199","v":0},{"$f":"Be!H199","v":0},{"$f":"Be!I199","v":0},{"$f":"Be!J199","v":0},{"$f":"Be!K199","v":"00:00:00"},{"$f":"Be!L199","v":0},{"$f":"Be!M199","v":0},null,{"$f":"Be!A197","v":0}]
["126.",{"$f":"Be!A200","v":0},{"$f":"Be!B200","v":0},{"$f":"Be!C200","v":0},{"$f":"Be!D200","v":0},{"$f":"Be!E200","v":0},{"$f":"Be!F200","v":0},{"$f":"Be!G200","v":0},{"$f":"Be!H200","v":0},{"$f":"Be!I200","v":0},{"$f":"Be!J200","v":0},{"$f":"Be!K200","v":"00:00:00"},{"$f":"Be!L200","v":0},{"$f":"Be!M200","v":0},null,{"$f":"Be!A197","v":0}]
["127.",{"$f":"Be!A201","v":0},{"$f":"Be!B201","v":0},{"$f":"Be!C201","v":0},{"$f":"Be!D201","v":0},{"$f":"Be!E201","v":0},{"$f":"Be!F201","v":0},{"$f":"Be!G201","v":0},{"$f":"Be!H201","v":0},{"$f":"Be!I201","v":0},{"$f":"Be!J201","v":0},{"$f":"Be!K201","v":"00:00:00"},{"$f":"Be!L201","v":0},{"$f":"Be!M201","v":0},null,{"$f":"Be!A197","v":0}]
["128.",{"$f":"Be!A202","v":0},{"$f":"Be!B202","v":0},{"$f":"Be!C202","v":0},{"$f":"Be!D202","v":0},{"$f":"Be!E202","v":0},{"$f":"Be!F202","v":0},{"$f":"Be!G202","v":0},{"$f":"Be!H202","v":0},{"$f":"Be!I202","v":0},{"$f":"Be!J202","v":0},{"$f":"Be!K202","v":"00:00:00"},{"$f":"Be!L202","v":0},{"$f":"Be!M202","v":0},null,{"$f":"Be!A197","v":0}]
["129.",{"$f":"Be!A203","v":0},{"$f":"Be!B203","v":0},{"$f":"Be!C203","v":0},{"$f":"Be!D203","v":0},{"$f":"Be!E203","v":0},{"$f":"Be!F203","v":0},{"$f":"Be!G203","v":0},{"$f":"Be!H203","v":0},{"$f":"Be!I203","v":0},{"$f":"Be!J203","v":0},{"$f":"Be!K203","v":"00:00:00"},{"$f":"Be!L203","v":0},{"$f":"Be!M203","v":0},null,{"$f":"Be!A197","v":0}]
["130.",{"$f":"Be!A204","v":0},{"$f":"Be!B204","v":0},{"$f":"Be!C204","v":0},{"$f":"Be!D204","v":0},{"$f":"Be!E204","v":0},{"$f":"Be!F204","v":0},{"$f":"Be!G204","v":0},{"$f":"Be!H204","v":0},{"$f":"Be!I204","v":0},{"$f":"Be!J204","v":0},{"$f":"Be!K204","v":"00:00:00"},{"$f":"Be!L204","v":0},{"$f":"Be!M204","v":0},null,{"$f":"Be!A197","v":0}]
["131.",{"$f":"Be!A209","v":0},{"$f":"Be!B209","v":0},{"$f":"Be!C209","v":0},{"$f":"Be!D209","v":0},{"$f":"Be!E209","v":0},{"$f":"Be!F209","v":0},{"$f":"Be!G209","v":0},{"$f":"Be!H209","v":0},{"$f":"Be!I209","v":0},{"$f":"Be!J209","v":0},{"$f":"Be!K209","v":"00:00:00"},{"$f":"Be!L209","v":0},{"$f":"Be!M209","v":0},null,{"$f":"Be!A207","v":0}]
["132.",{"$f":"Be!A210","v":0},{"$f":"Be!B210","v":0},{"$f":"Be!C210","v":0},{"$f":"Be!D210","v":0},{"$f":"Be!E210","v":0},{"$f":"Be!F210","v":0},{"$f":"Be!G210","v":0},{"$f":"Be!H210","v":0},{"$f":"Be!I210","v":0},{"$f":"Be!J210","v":0},{"$f":"Be!K210","v":"00:00:00"},{"$f":"Be!L210","v":0},{"$f":"Be!M210","v":0},null,{"$f":"Be!A207","v":0}]
["133.",{"$f":"Be!A211","v":0},{"$f":"Be!B211","v":0},{"$f":"Be!C211","v":0},{"$f":"Be!D211","v":0},{"$f":"Be!E211","v":0},{"$f":"Be!F211","v":0},{"$f":"Be!G211","v":0},{"$f":"Be!H211","v":0},{"$f":"Be!I211","v":0},{"$f":"Be!J211","v":0},{"$f":"Be!K211","v":"00:00:00"},{"$f":"Be!L211","v":0},{"$f":"Be!M211","v":0},null,{"$f":"Be!A207","v":0}]
["134.",{"$f":"Be!A212","v":0},{"$f":"Be!B212","v":0},{"$f":"Be!C212","v":0},{"$f":"Be!D212","v":0},{"$f":"Be!E212","v":0},{"$f":"Be!F212","v":0},{"$f":"Be!G212","v":0},{"$f":"Be!H212","v":0},{"$f":"Be!I212","v":0},{"$f":"Be!J212","v":0},{"$f":"Be!K212","v":"00:00:00"},{"$f":"Be!L212","v":0},{"$f":"Be!M212","v":0},null,{"$f":"Be!A207","v":0}]
["135.",{"$f":"Be!A213","v":0},{"$f":"Be!B213","v":0},{"$f":"Be!C213","v":0},{"$f":"Be!D213","v":0},{"$f":"Be!E213","v":0},{"$f":"Be!F213","v":0},{"$f":"Be!G213","v":0},{"$f":"Be!H213","v":0},{"$f":"Be!I213","v":0},{"$f":"Be!J213","v":0},{"$f":"Be!K213","v":"00:00:00"},{"$f":"Be!L213","v":0},{"$f":"Be!M213","v":0},null,{"$f":"Be!A207","v":0}]
["136.",{"$f":"Be!A214","v":0},{"$f":"Be!B214","v":0},{"$f":"Be!C214","v":0},{"$f":"Be!D214","v":0},{"$f":"Be!E214","v":0},{"$f":"Be!F214","v":0},{"$f":"Be!G214","v":0},{"$f":"Be!H214","v":0},{"$f":"Be!I214","v":0},{"$f":"Be!J214","v":0},{"$f":"Be!K214","v":"00:00:00"},{"$f":"Be!L214","v":0},{"$f":"Be!M214","v":0},null,{"$f":"Be!A207","v":0}]
["137.",{"$f":"Be!A219","v":0},{"$f":"Be!B219","v":0},{"$f":"Be!C219","v":0},{"$f":"Be!D219","v":0},{"$f":"Be!E219","v":0},{"$f":"Be!F219","v":0},{"$f":"Be!G219","v":0},{"$f":"Be!H219","v":0},{"$f":"Be!I219","v":0},{"$f":"Be!J219","v":0},{"$f":"Be!K219","v":"00:00:00"},{"$f":"Be!L219","v":0},{"$f":"Be!M219","v":0},null,{"$f":"Be!A217","v":0}]
["138.",{"$f":"Be!A220","v":0},{"$f":"Be!B220","v":0},{"$f":"Be!C220","v":0},{"$f":"Be!D220","v":0},{"$f":"Be!E220","v":0},{"$f":"Be!F220","v":0},{"$f":"Be!G220","v":0},{"$f":"Be!H220","v":0},{"$f":"Be!I220","v":0},{"$f":"Be!J220","v":0},{"$f":"Be!K220","v":"00:00:00"},{"$f":"Be!L220","v":0},{"$f":"Be!M220","v":0},null,{"$f":"Be!A217","v":0}]
["139.",{"$f":"Be!A221","v":0},{"$f":"Be!B221","v":0},{"$f":"Be!C221","v":0},{"$f":"Be!D221","v":0},{"$f":"Be!E221","v":0},{"$f":"Be!F221","v":0},{"$f":"Be!G221","v":0},{"$f":"Be!H221","v":0},{"$f":"Be!I221","v":0},{"$f":"Be!J221","v":0},{"$f":"Be!K221","v":"00:00:00"},{"$f":"Be!L221","v":0},{"$f":"Be!M221","v":0},null,{"$f":"Be!A217","v":0}]
["140.",{"$f":"Be!A222","v":0},{"$f":"Be!B222","v":0},{"$f":"Be!C222","v":0},{"$f":"Be!D222","v":0},{"$f":"Be!E222","v":0},{"$f":"Be!F222","v":0},{"$f":"Be!G222","v":0},{"$f":"Be!H222","v":0},{"$f":"Be!I222","v":0},{"$f":"Be!J222","v":0},{"$f":"Be!K222","v":"00:00:00"},{"$f":"Be!L222","v":0},{"$f":"Be!M222","v":0},null,{"$f":"Be!A217","v":0}]
["141.",{"$f":"Be!A223","v":0},{"$f":"Be!B223","v":0},{"$f":"Be!C223","v":0},{"$f":"Be!D223","v":0},{"$f":"Be!E223","v":0},{"$f":"Be!F223","v":0},{"$f":"Be!G223","v":0},{"$f":"Be!H223","v":0},{"$f":"Be!I223","v":0},{"$f":"Be!J223","v":0},{"$f":"Be!K223","v":"00:00:00"},{"$f":"Be!L223","v":0},{"$f":"Be!M223","v":0},null,{"$f":"Be!A217","v":0}]
["142.",{"$f":"Be!A224","v":0},{"$f":"Be!B224","v":0},{"$f":"Be!C224","v":0},{"$f":"Be!D224","v":0},{"$f":"Be!E224","v":0},{"$f":"Be!F224","v":0},{"$f":"Be!G224","v":0},{"$f":"Be!H224","v":0},{"$f":"Be!I224","v":0},{"$f":"Be!J224","v":0},{"$f":"Be!K224","v":"00:00:00"},{"$f":"Be!L224","v":0},{"$f":"Be!M224","v":0},null,{"$f":"Be!A217","v":0}]
["143.",{"$f":"Be!A229","v":0},{"$f":"Be!B229","v":0},{"$f":"Be!C229","v":0},{"$f":"Be!D229","v":0},{"$f":"Be!E229","v":0},{"$f":"Be!F229","v":0},{"$f":"Be!G229","v":0},{"$f":"Be!H229","v":0},{"$f":"Be!I229","v":0},{"$f":"Be!J229","v":0},{"$f":"Be!K229","v":"00:00:00"},{"$f":"Be!L229","v":0},{"$f":"Be!M229","v":0},null,{"$f":"Be!A227","v":0}]
["144.",{"$f":"Be!A230","v":0},{"$f":"Be!B230","v":0},{"$f":"Be!C230","v":0},{"$f":"Be!D230","v":0},{"$f":"Be!E230","v":0},{"$f":"Be!F230","v":0},{"$f":"Be!G230","v":0},{"$f":"Be!H230","v":0},{"$f":"Be!I230","v":0},{"$f":"Be!J230","v":0},{"$f":"Be!K230","v":"00:00:00"},{"$f":"Be!L230","v":0},{"$f":"Be!M230","v":0},null,{"$f":"Be!A227","v":0}]
["145.",{"$f":"Be!A231","v":0},{"$f":"Be!B231","v":0},{"$f":"Be!C231","v":0},{"$f":"Be!D231","v":0},{"$f":"Be!E231","v":0},{"$f":"Be!F231","v":0},{"$f":"Be!G231","v":0},{"$f":"Be!H231","v":0},{"$f":"Be!I231","v":0},{"$f":"Be!J231","v":0},{"$f":"Be!K231","v":"00:00:00"},{"$f":"Be!L231","v":0},{"$f":"Be!M231","v":0},null,{"$f":"Be!A227","v":0}]
["146.",{"$f":"Be!A232","v":0},{"$f":"Be!B232","v":0},{"$f":"Be!C232","v":0},{"$f":"Be!D232","v":0},{"$f":"Be!E232","v":0},{"$f":"Be!F232","v":0},{"$f":"Be!G232","v":0},{"$f":"Be!H232","v":0},{"$f":"Be!I232","v":0},{"$f":"Be!J232","v":0},{"$f":"Be!K232","v":"00:00:00"},{"$f":"Be!L232","v":0},{"$f":"Be!M232","v":0},null,{"$f":"Be!A227","v":0}]
["147.",{"$f":"Be!A233","v":0},{"$f":"Be!B233","v":0},{"$f":"Be!C233","v":0},{"$f":"Be!D233","v":0},{"$f":"Be!E233","v":0},{"$f":"Be!F233","v":0},{"$f":"Be!G233","v":0},{"$f":"Be!H233","v":0},{"$f":"Be!I233","v":0},{"$f":"Be!J233","v":0},{"$f":"Be!K233","v":"00:00:00"},{"$f":"Be!L233","v":0},{"$f":"Be!M233","v":0},null,{"$f":"Be!A227","v":0}]
["148.",{"$f":"Be!A234","v":0},{"$f":"Be!B234","v":0},{"$f":"Be!C234","v":0},{"$f":"Be!D234","v":0},{"$f":"Be!E234","v":0},{"$f":"Be!F234","v":0},{"$f":"Be!G234","v":0},{"$f":"Be!H234","v":0},{"$f":"Be!I234","v":0},{"$f":"Be!J234","v":0},{"$f":"Be!K234","v":"00:00:00"},{"$f":"Be!L234","v":0},{"$f":"Be!M234","v":0},null,{"$f":"Be!A227","v":0}]
["149.",{"$f":"Be!A239","v":0},{"$f":"Be!B239","v":0},{"$f":"Be!C239","v":0},{"$f":"Be!D239","v":0},{"$f":"Be!E239","v":0},{"$f":"Be!F239","v":0},{"$f":"Be!G239","v":0},{"$f":"Be!H239","v":0},{"$f":"Be!I239","v":0},{"$f":"Be!J239","v":0},{"$f":"Be!K239","v":"00:00:00"},{"$f":"Be!L239","v":0},{"$f":"Be!M239","v":0},null,{"$f":"Be!A237","v":0}]
["150.",{"$f":"Be!A240","v":0},{"$f":"Be!B240","v":0},{"$f":"Be!C240","v":0},{"$f":"Be!D240","v":0},{"$f":"Be!E240","v":0},{"$f":"Be!F240","v":0},{"$f":"Be!G240","v":0},{"$f":"Be!H240","v":0},{"$f":"Be!I240","v":0},{"$f":"Be!J240","v":0},{"$f":"Be!K240","v":"00:00:00"},{"$f":"Be!L240","v":0},{"$f":"Be!M240","v":0},null,{"$f":"Be!A237","v":0}]
["151.",{"$f":"Be!A241","v":0},{"$f":"Be!B241","v":0},{"$f":"Be!C241","v":0},{"$f":"Be!D241","v":0},{"$f":"Be!E241","v":0},{"$f":"Be!F241","v":0},{"$f":"Be!G241","v":0},{"$f":"Be!H241","v":0},{"$f":"Be!I241","v":0},{"$f":"Be!J241","v":0},{"$f":"Be!K241","v":"00:00:00"},{"$f":"Be!L241","v":0},{"$f":"Be!M241","v":0},null,{"$f":"Be!A237","v":0}]
["152.",{"$f":"Be!A242","v":0},{"$f":"Be!B242","v":0},{"$f":"Be!C242","v":0},{"$f":"Be!D242","v":0},{"$f":"Be!E242","v":0},{"$f":"Be!F242","v":0},{"$f":"Be!G242","v":0},{"$f":"Be!H242","v":0},{"$f":"Be!I242","v":0},{"$f":"Be!J242","v":0},{"$f":"Be!K242","v":"00:00:00"},{"$f":"Be!L242","v":0},{"$f":"Be!M242","v":0},null,{"$f":"Be!A237","v":0}]
["153.",{"$f":"Be!A243","v":0},{"$f":"Be!B243","v":0},{"$f":"Be!C243","v":0},{"$f":"Be!D243","v":0},{"$f":"Be!E243","v":0},{"$f":"Be!F243","v":0},{"$f":"Be!G243","v":0},{"$f":"Be!H243","v":0},{"$f":"Be!I243","v":0},{"$f":"Be!J243","v":0},{"$f":"Be!K243","v":"00:00:00"},{"$f":"Be!L243","v":0},{"$f":"Be!M243","v":0},null,{"$f":"Be!A237","v":0}]
["154.",{"$f":"Be!A244","v":0},{"$f":"Be!B244","v":0},{"$f":"Be!C244","v":0},{"$f":"Be!D244","v":0},{"$f":"Be!E244","v":0},{"$f":"Be!F244","v":0},{"$f":"Be!G244","v":0},{"$f":"Be!H244","v":0},{"$f":"Be!I244","v":0},{"$f":"Be!J244","v":0},{"$f":"Be!K244","v":"00:00:00"},{"$f":"Be!L244","v":0},{"$f":"Be!M244","v":0},null,{"$f":"Be!A237","v":0}]

{"sheet":"Csapat","index":3,"n_rows":24,"n_cols":3,"rows_kept":24,"cut":false,"hidden":false,"merged":[[0,0,0,2]]}
["IV. korcsoport FIÚ CSAPAT verseny (Rendezés Ctrl + r )"]
["Ssz","Iskola","Pont"]
["1.",{"$f":"Be!$A$27&CHAR(10)&Be!$A$29&\"   \"&Be!$M$29&\"      \"&Be!$A$30&\"   \"&Be!$M$30&CHAR(10)&Be!$A$31&\"   \"&Be!$M$31&\"      \"&Be!$A$32&\"   \"&Be!$M$32&CHAR(10)&Be!$A$33&\"   \"&Be!$M$33&\"      \"&Be!$A$34&\"   \"&Be!$M$34","v":"Szekszárdi Dienes V. Ált. Isk.\nLoe Dávid   555      Füle Richárd   688\nKocsis Martin   728      Könyves László Lorenzó   745\nRadnóti Gergely Attila   814      Szoboszlai Máté   579"},{"$f":"Be!$O$29","v":3554}]
["2.",{"$f":"Be!$A$57&CHAR(10)&Be!$A$59&\"   \"&Be!$M$59&\"      \"&Be!$A$60&\"   \"&Be!$M$60&CHAR(10)&Be!$A$61&\"   \"&Be!$M$61&\"      \"&Be!$A$62&\"   \"&Be!$M$62&CHAR(10)&Be!$A$63&\"   \"&Be!$M$63&\"      \"&Be!$A$64&\"   \"&Be!$M$64","v":"Szekszárdi Babits M. Ált. Isk.\nBíró Botond   701      Fodor Zalán   584\nGréczy Bálint   761      Kappel Márton   647\nPalkó Boldizsár   671      Gréczy Dániel   666"},{"$f":"Be!$O$59","v":3446}]
["3.",{"$f":"Be!$A$67&CHAR(10)&Be!$A$69&\"   \"&Be!$M$69&\"      \"&Be!$A$70&\"   \"&Be!$M$70&CHAR(10)&Be!$A$71&\"   \"&Be!$M$71&\"      \"&Be!$A$72&\"   \"&Be!$M$72&CHAR(10)&Be!$A$73&\"   \"&Be!$M$73&\"      \"&Be!$A$74&\"   \"&Be!$M$74","v":"Szt. Orsolya Bencés Ált. Isk.\nHalmai Zsombor   736      Kapinya Péter   709\nKovács Barnabás   697      Szabó Dominik   671\nVida Bence   539      Tobler Péter   608"},{"$f":"Be!$O$69","v":3421}]
["4.",{"$f":"Be!$A$87&CHAR(10)&Be!$A$89&\"   \"&Be!$M$89&\"      \"&Be!$A$90&\"   \"&Be!$M$90&CHAR(10)&Be!$A$91&\"   \"&Be!$M$91&\"      \"&Be!$A$92&\"   \"&Be!$M$92&CHAR(10)&Be!$A$93&\"   \"&Be!$M$93&\"      \"&Be!$A$94&\"   \"&Be!$M$94","v":"Nagydorogi Széchényi Sándor Ált. Isk.\nCsonka Ármin Milán   631      Kocsis Damáz   503\nKovács Tibor   644      Molnár Milán Marcell   664\nNyári László András   568      Sáfrány Dominik Ferenc   797"},{"$f":"Be!$O$89","v":3304}]
["5.",{"$f":"Be!$A$77&CHAR(10)&Be!$A$79&\"   \"&Be!$M$79&\"      \"&Be!$A$80&\"   \"&Be!$M$80&CHAR(10)&Be!$A$81&\"   \"&Be!$M$81&\"      \"&Be!$A$82&\"   \"&Be!$M$82&CHAR(10)&Be!$A$83&\"   \"&Be!$M$83&\"      \"&Be!$A$84&\"   \"&Be!$M$84","v":"Zombai Általános Iskola\nCsibi Olivér   661      Marázi Archilles   495\nOrsós Kevin Zsolt   644      Szemes Márk   634\nHäckl Ábel   523         0"},{"$f":"Be!$O$79","v":2957}]
["6.",{"$f":"Be!$A$47&CHAR(10)&Be!$A$49&\"   \"&Be!$M$49&\"      \"&Be!$A$50&\"   \"&Be!$M$50&CHAR(10)&Be!$A$51&\"   \"&Be!$M$51&\"      \"&Be!$A$52&\"   \"&Be!$M$52&CHAR(10)&Be!$A$53&\"   \"&Be!$M$53&\"      \"&Be!$A$54&\"   \"&Be!$M$54","v":"Bonyhádi Petőfi S.E.Gimn. Ált. Isk.\nGaray Gergő   546      Hucker Olivér   477\nNémeth Kolos   505      Schiszler Ádám   484\nSánta Balázs   528      Vukálovics Ákos   623"},{"$f":"Be!$O$49","v":2686}]
["7.",{"$f":"Be!$A$97&CHAR(10)&Be!$A$99&\"   \"&Be!$M$99&\"      \"&Be!$A$100&\"   \"&Be!$M$100&CHAR(10)&Be!$A$101&\"   \"&Be!$M$101&\"      \"&Be!$A$102&\"   \"&Be!$M$102&CHAR(10)&Be!$A$103&\"   \"&Be!$M$103&\"      \"&Be!$A$104&\"   \"&Be!$M$104","v":"Tolnai Wosinsky M. Ált. Isk.\nJanthó Márk   518      Novák Dávid Ferenc   481\nPotyondi Botond   361      Straubinger Marcell   460\nTóth Richárd   450         0"},{"$f":"Be!$O$99","v":2270}]
["8.",{"$f":"Csapat!C5","v":3421},{"$f":"Be!$O$39","v":0}]
["9.",{"$f":"Be!$A$107&CHAR(10)&Be!$A$109&\"   \"&Be!$M$109&\"      \"&Be!$A$110&\"   \"&Be!$M$110&CHAR(10)&Be!$A$111&\"   \"&Be!$M$111&\"      \"&Be!$A$112&\"   \"&Be!$M$112&CHAR(10)&Be!$A$113&\"   \"&Be!$M$113&\"      \"&Be!$A$114&\"   \"&Be!$M$114","v":"\n   0         0\n   0         0\n   0         0"},{"$f":"Be!$O$109","v":0}]
["10.",{"$f":"Be!$A$117&CHAR(10)&Be!$A$119&\"   \"&Be!$M$119&\"      \"&Be!$A$120&\"   \"&Be!$M$120&CHAR(10)&Be!$A$121&\"   \"&Be!$M$121&\"      \"&Be!$A$122&\"   \"&Be!$M$122&CHAR(10)&Be!$A$123&\"   \"&Be!$M$123&\"      \"&Be!$A$124&\"   \"&Be!$M$124","v":"\n   0         0\n   0         0\n   0         0"},{"$f":"Be!$O$119","v":0}]
["11.",{"$f":"Be!$A$127&CHAR(10)&Be!$A$129&\"   \"&Be!$M$129&\"      \"&Be!$A$130&\"   \"&Be!$M$130&CHAR(10)&Be!$A$131&\"   \"&Be!$M$131&\"      \"&Be!$A$132&\"   \"&Be!$M$132&CHAR(10)&Be!$A$133&\"   \"&Be!$M$133&\"      \"&Be!$A$134&\"   \"&Be!$M$134","v":"\n   0         0\n   0         0\n   0         0"},{"$f":"Be!$O$129","v":0}]
["12.",{"$f":"Be!$A$137&CHAR(10)&Be!$A$139&\"   \"&Be!$M$139&\"      \"&Be!$A$140&\"   \"&Be!$M$140&CHAR(10)&Be!$A$141&\"   \"&Be!$M$141&\"      \"&Be!$A$142&\"   \"&Be!$M$142&CHAR(10)&Be!$A$143&\"   \"&Be!$M$143&\"      \"&Be!A$144&\"   \"&Be!$M$144","v":"\n   0         0\n   0         0\n   0         0"},{"$f":"Be!$O$139","v":0}]
["13.",{"$f":"Be!$A$147&CHAR(10)&Be!$A$149&\"   \"&Be!$M$149&\"      \"&Be!$A$150&\"   \"&Be!$M$150&CHAR(10)&Be!$A$151&\"   \"&Be!$M$151&\"      \"&Be!$A$152&\"   \"&Be!$M$152&CHAR(10)&Be!$A$153&\"   \"&Be!$M$153&\"      \"&Be!$A$154&\"   \"&Be!$M$154","v":"\n   0         0\n   0         0\n   0         0"},{"$f":"Be!$O$149","v":0}]
["14.",{"$f":"Be!$A$157&CHAR(10)&Be!$A$159&\"   \"&Be!$M$159&\"      \"&Be!$A$160&\"   \"&Be!$M$160&CHAR(10)&Be!$A$161&\"   \"&Be!$M$161&\"      \"&Be!$A$162&\"   \"&Be!$M$162&CHAR(10)&Be!$A$163&\"   \"&Be!$M$163&\"      \"&Be!$A$164&\"   \"&Be!$M$164","v":"\n   0         0\n   0         0\n   0         0"},{"$f":"Be!$O$159","v":0}]
["15.",{"$f":"Be!$A$167&CHAR(10)&Be!$A$169&\"   \"&Be!$M$169&\"      \"&Be!$A$170&\"   \"&Be!$M$170&CHAR(10)&Be!$A$171&\"   \"&Be!$M$171&\"      \"&Be!$A$172&\"   \"&Be!$M$172&CHAR(10)&Be!$A$173&\"   \"&Be!$M$173&\"      \"&Be!$A$174&\"   \"&Be!$M$174","v":"\n   0         0\n   0         0\n   0         0"},{"$f":"Be!$O$169","v":0}]
["16.",{"$f":"Be!$A$177&CHAR(10)&Be!$A$179&\"   \"&Be!$M$179&\"      \"&Be!$A$180&\"   \"&Be!$M$180&CHAR(10)&Be!$A$181&\"   \"&Be!$M$181&\"      \"&Be!$A$182&\"   \"&Be!$M$182&CHAR(10)&Be!$A$183&\"   \"&Be!$M$183&\"      \"&Be!$A$184&\"   \"&Be!$M$184","v":"\n   0         0\n   0         0\n   0         0"},{"$f":"Be!$O$179","v":0}]
["17.",{"$f":"Be!$A$187&CHAR(10)&Be!$A$189&\"   \"&Be!$M$189&\"      \"&Be!$A$190&\"   \"&Be!$M$190&CHAR(10)&Be!$A$191&\"   \"&Be!$M$191&\"      \"&Be!$A$192&\"   \"&Be!$M$192&CHAR(10)&Be!$A$193&\"   \"&Be!$M$193&\"      \"&Be!$A$194&\"   \"&Be!$M$194","v":"\n   0         0\n   0         0\n   0         0"},{"$f":"Be!$O$189","v":0}]
["18.",{"$f":"Be!$A$197&CHAR(10)&Be!$A$199&\"   \"&Be!$M$199&\"      \"&Be!$A$200&\"   \"&Be!$M$200&CHAR(10)&Be!$A$201&\"   \"&Be!$M$201&\"      \"&Be!$A$202&\"   \"&Be!$M$202&CHAR(10)&Be!$A$203&\"   \"&Be!$M$203&\"      \"&Be!$A$204&\"   \"&Be!$M$204","v":"\n   0         0\n   0         0\n   0         0"},{"$f":"Be!$O$199","v":0}]
["19.",{"$f":"Be!$A$207&CHAR(10)&Be!$A$209&\"   \"&Be!$M$209&\"      \"&Be!$A$210&\"   \"&Be!$M$210&CHAR(10)&Be!$A$211&\"   \"&Be!$M$211&\"      \"&Be!$A$212&\"   \"&Be!$M$212&CHAR(10)&Be!$A$213&\"   \"&Be!$M$213&\"      \"&Be!$A$214&\"   \"&Be!$M$214","v":"\n   0         0\n   0         0\n   0         0"},{"$f":"Be!$O$209","v":0}]
["20.",{"$f":"Be!$A$217&CHAR(10)&Be!$A$219&\"   \"&Be!$M$219&\"      \"&Be!$A$220&\"   \"&Be!$M$220&CHAR(10)&Be!$A$221&\"   \"&Be!$M$221&\"      \"&Be!$A$222&\"   \"&Be!$M$222&CHAR(10)&Be!$A$223&\"   \"&Be!$M$223&\"      \"&Be!$A$224&\"   \"&Be!$M$224","v":"\n   0         0\n   0         0\n   0         0"},{"$f":"Be!$O$219","v":0}]
["21.",{"$f":"Be!$A$227&CHAR(10)&Be!$A$229&\"   \"&Be!$M$229&\"      \"&Be!$A$230&\"   \"&Be!$M$230&CHAR(10)&Be!$A$231&\"   \"&Be!$M$231&\"      \"&Be!$A$232&\"   \"&Be!$M$232&CHAR(10)&Be!$A$233&\"   \"&Be!$M$233&\"      \"&Be!$A$234&\"   \"&Be!$M$234","v":"\n   0         0\n   0         0\n   0         0"},{"$f":"Be!$O$229","v":0}]
["22.",{"$f":"Be!$A$237&CHAR(10)&Be!$A$239&\"   \"&Be!$M$239&\"      \"&Be!$A$240&\"   \"&Be!$M$240&CHAR(10)&Be!$A$241&\"   \"&Be!$M$241&\"      \"&Be!$A$242&\"   \"&Be!$M$242&CHAR(10)&Be!$A$243&\"   \"&Be!$M$243&\"      \"&Be!$A$244&\"   \"&Be!$M$244","v":"\n   0         0\n   0         0\n   0         0"},{"$f":"Be!$O$239","v":0}]